Workbook
Name DAMAS: Hoja3!$B$7:$B$14
Name VARONES: Hoja3!$A$7:$A$14

Sheet INDIVIDUAL
B1: LIGAS DEPORTIVAS DE EDUCACIÓN SUPERIOR
B2: FEDERACIÓN DE JUDO DE CHILE
B3: INSCRIPCIÓN SELECTIVO TAIPEI 2017
D5: SANTIAGO | F5: CHILE | J5: 09 AL 10 DE JUNIO
C6: TECNICOS:
C7: DELEGADO:
B8: Nº | C8: NOMBRE | D8: APELLIDO | E8: RUN | F8: F.NAC | G8: GRADO | H8: SEXO | I8: PESO | J8: CATEGORIA | K8: Universidad
A9: =IF(H9="","",IF(H9="M","VARONES",IF(H9="F","DAMAS",""))) | B9: 1 | J9: =IF(G9="","",VLOOKUP(G9,Hoja3!$F$3:$H$15,3,0)) | L9: =H9&I9
A10: =IF(H10="","",IF(H10="M","VARONES",IF(H10="F","DAMAS",""))) | B10: 2 | J10: =IF(G10="","",VLOOKUP(G10,Hoja3!$F$3:$H$15,3,0)) | L10: =H10&I10
A11: =IF(H11="","",IF(H11="M","VARONES",IF(H11="F","DAMAS",""))) | B11: 3 | J11: =IF(G11="","",VLOOKUP(G11,Hoja3!$F$3:$H$15,3,0)) | L11: =H11&I11
A12: =IF(H12="","",IF(H12="M","VARONES",IF(H12="F","DAMAS",""))) | B12: 4 | J12: =IF(G12="","",VLOOKUP(G12,Hoja3!$F$3:$H$15,3,0)) | L12: =H12&I12
A13: =IF(H13="","",IF(H13="M","VARONES",IF(H13="F","DAMAS",""))) | B13: 5 | J13: =IF(G13="","",VLOOKUP(G13,Hoja3!$F$3:$H$15,3,0)) | L13: =H13&I13
A14: =IF(H14="","",IF(H14="M","VARONES",IF(H14="F","DAMAS",""))) | B14: 6 | J14: =IF(G14="","",VLOOKUP(G14,Hoja3!$F$3:$H$15,3,0)) | L14: =H14&I14
A15: =IF(H15="","",IF(H15="M","VARONES",IF(H15="F","DAMAS",""))) | B15: 7 | J15: =IF(G15="","",VLOOKUP(G15,Hoja3!$F$3:$H$15,3,0)) | L15: =H15&I15
A16: =IF(H16="","",IF(H16="M","VARONES",IF(H16="F","DAMAS",""))) | B16: 8 | J16: =IF(G16="","",VLOOKUP(G16,Hoja3!$F$3:$H$15,3,0)) | L16: =H16&I16
A17: =IF(H17="","",IF(H17="M","VARONES",IF(H17="F","DAMAS",""))) | B17: 9 | J17: =IF(G17="","",VLOOKUP(G17,Hoja3!$F$3:$H$15,3,0)) | L17: =H17&I17
A18: =IF(H18="","",IF(H18="M","VARONES",IF(H18="F","DAMAS",""))) | B18: 10 | J18: =IF(G18="","",VLOOKUP(G18,Hoja3!$F$3:$H$15,3,0)) | L18: =H18&I18
A19: =IF(H19="","",IF(H19="M","VARONES",IF(H19="F","DAMAS",""))) | B19: 11 | J19: =IF(G19="","",VLOOKUP(G19,Hoja3!$F$3:$H$15,3,0)) | L19: =H19&I19
A20: =IF(H20="","",IF(H20="M","VARONES",IF(H20="F","DAMAS",""))) | B20: 12 | J20: =IF(G20="","",VLOOKUP(G20,Hoja3!$F$3:$H$15,3,0)) | L20: =H20&I20
... A36: =IF(H36="","",IF(H36="M","VARONES",IF(H36="F","DAMAS",""))) | B36: 28 | J36: =IF(G36="","",VLOOKUP(G36,Hoja3!$F$3:$H$15,3,0)) | L36: =H36&I36

Sheet Hoja3
F3: 6° Kyu | G3: 1 | H3: NOVICIO
A4: ABSOLUTA | B4: ABSOLUTA | F4: 5° Kyu | G4: 2 | H4: NOVICIO | J4: F
A5: VARONES | B5: DAMAS | F5: 4° Kyu | G5: 3 | H5: NOVICIO | J5: M
A6: ABSOLUTA VARONES | B6: ABSOLUTA DAMAS | F6: 3° Kyu | G6: 4 | H6: NOVICIO
A7: -55 | B7: -44 | F7: 2° Kyu | G7: 5 | H7: ABSOLUTA
A8: -60 | B8: -48 | F8: 1° Kyu | G8: 6 | H8: ABSOLUTA
A9: -66 | B9: -52 | F9: 1° Dan | G9: 7 | H9: ABSOLUTA
A10: -73 | B10: -57 | F10: 2° Dan | G10: 8 | H10: ABSOLUTA
A11: -81 | B11: -63 | F11: 3° Dan | G11: 9 | H11: ABSOLUTA
A12: -90 | B12: -70 | F12: 4° Dan | G12: 10 | H12: ABSOLUTA
A13: -100 | B13: -78 | F13: 5° Dan | G13: 11 | H13: ABSOLUTA
A14: M100 | B14: M78 | F14: 6° Dan | G14: 12 | H14: ABSOLUTA
F15: 7° Dan | G15: 13 | H15: ABSOLUTA
