{"text_format":"3","workbook":"xlsx","n_sheets":5,"sheets":["Competencias","Resultados","Lista CNI","Seleccionados DP","Cupos y Derecho CNI"],"not_rendered":{"external_links":1,"defined_names":2},"read":"whole","date_system":"1900"}

{"sheet":"Competencias","index":0,"n_rows":367,"n_cols":31,"rows_kept":367,"merged":[[0,0,0,9],[0,10,0,15],[0,16,0,26],[0,27,0,29]]}
["Datos de deportista",{"$nulls":9},"Categoría SL",{"$nulls":5},"Categoría GS",{"$nulls":10},"Categoría SG"]
["Fecha","Rut","Nombre","Apellido","Sexo","Club","Disc.","Cat.","Activo","Año","COPA VOLCANES 10-08-2025","Avianca Weekend - UC 10-08-2025","Copa Chilexpress 17-08-2025","COPA COLUN 2025 29-08-2025","COPA PUYEHUE 2025 29-08-2025","Copa Araucarias 29-08-2025","COPA VOLCANES 09-08-2025","COPA COLUN 2025 28-08-2025","COPA PUYEHUE-2 28-08-2025","COPA PUYEHUE 2025 28-08-2025","Copa Araucarias 31-08-2025","Copa Portillo 06-09-2025","Copa Portillo-GS2 06-09-2025","Copa CAN 07-09-2025","Copa CAN - GS 2 07-09-2025","Copa CSLP-2 14-09-2025","Copa CSLP 14-09-2025","COPA VOLCANES 08-08-2025","Copa La Leñera 12-09-2025","Copa La Leñera-2 12-09-2025","Injury"]
["2010-02-19","131926880","ENZO","CASAGRANDE BERTOLDI","M","CVN","AS","U16","SI","2",999.99,999.99,999.99,999.99,999.99,999.99,999.99,999.99,999.99,999.99,999.99,999.99,999.99,999.99,999.99,999.99,999.99,999.99,287.94,999.99]
["2013-06-21","16707724","RUFINO","CRESPO RODRÍGUEZ","M","CLP","AS","U14","SI","1",999.99,319.4,243.92,999.99,999.99,999.99,999.99,999.99,999.99,999.99,999.99,999.99,999.99,999.99,999.99,999.99,999.99,999.99,999.99,999.99]
["2012-01-07","22EA72258","JUAN","LE BAULT DE LA MORINIERE","M","CLP","AS","U14","SI","2",999.99,999.99,999.99,999.99,999.99,999.99,999.99,999.99,999.99,999.99,999.99,999.99,999.99,999.99,999.99,999.99,999.99,999.99,999.99,999.99]
["2010-01-03","23215800K","ANTONIA","ESTEVE SECO","F","CAR","AS","U16","SI","2",999.99,999.99,999.99,999.99,999.99,999.99,999.99,999.99,999.99,999.99,999.99,999.99,999.99,999.99,999.99,999.99,999.99,999.99,999.99,999.99]
["2010-01-19","23227283K","JOSEFINA","PEREZ OLMOS","F","LV","AS","U16","SI","2",999.99,999.99,999.99,999.99,999.99,228.74,203.5,999.99,999.99,999.99,214.75,999.99,999.99,999.99,999.99,999.99,999.99,208.81,999.99,999.99]
["2010-01-17","232274360","SILKE","OPITZ SEIDL","F","CAO","AS","U16","SI","2",147.59,999.99,999.99,140.92,124.06,999.99,207.47,999.99,999.99,165.93,999.99,999.99,999.99,999.99,999.99,999.99,999.99,999.99,999.99,999.99]
["2010-01-20","232291966","ALEGRA","REYES  SBARAGLINI","F","CEC","AS","U16","SI","2",999.99,999.99,999.99,999.99,999.99,999.99,999.99,999.99,999.99,999.99,999.99,999.99,999.99,999.99,999.99,999.99,999.99,999.99,999.99,999.99]
["2010-01-26","232325704","AMALIA","BARRIENTOS MARTINEZ","F","CAO","AS","U16","SI","2",999.99,999.99,999.99,134.85,139.7,999.99,164.77,999.99,999.99,185.08,999.99,999.99,999.99,999.99,999.99,999.99,221.07,151.18,193.11,187.74]
["2010-01-23","232336994","FERNANDA JOSEFA","VASQUEZ VERGARA ","F","CAN","AS","U16","SI","2",999.99,169.89,153.52,999.99,999.99,999.99,999.99,999.99,999.99,999.99,999.99,999.99,999.99,999.99,999.99,999.99,999.99,999.99,999.99,999.99]
["2010-01-23","232341041","FLORENCIA","PINCHEIRA BRAVO","F","CAR","AS","U16","SI","2",167.42,999.99,999.99,999.99,999.99,242.55,205.07,999.99,999.99,999.99,213.57,999.99,999.99,999.99,999.99,999.99,999.99,327.76,999.99,999.99]
["2010-01-25","23234394K","MARIA","MULLER CORREA","F","CLP","AS","U16","SI","2",999.99,999.99,999.99,999.99,999.99,999.99,999.99,999.99,999.99,999.99,999.99,460.17,999.99,281.01,999.99,999.99,999.99,999.99,242.56,211.55]
["2010-01-30","232362693","MARTIN","CRESPO IBAÑEZ","M","CLP","AS","U16","SI","2",999.99,999.99,105.46,999.99,999.99,999.99,999.99,999.99,999.99,999.99,999.99,163.44,999.99,124.38,999.99,999.99,141.21,999.99,171.21,999.99]
["2010-01-28","232389168","JADE","REBOLLEDO HERNANDEZ","F","CAPA","AS","U16","SI","2",999.99,999.99,999.99,999.99,999.99,209.59,999.99,999.99,999.99,999.99,208.44,999.99,999.99,999.99,999.99,999.99,999.99,999.99,999.99,999.99]
["2010-02-15","232504285","CRISTIÁN","CUMSILLE SCHULBACH","M","CVN","AS","U16","SI","2",999.99,999.99,999.99,999.99,999.99,999.99,999.99,999.99,999.99,999.99,999.99,999.99,999.99,640.42,999.99,999.99,999.99,999.99,219.6,999.99]
["2010-03-10","232699809","FLORENCIA","ROJAS FARIAS","F","UC","AS","U16","SI","2",999.99,186.28,152.88,999.99,999.99,999.99,999.99,999.99,999.99,999.99,999.99,999.99,999.99,170.18,999.99,999.99,196.84,999.99,249.79,257.02]
["2010-03-15","232700335","CLARA","BASAURI  GARDILCIC","F","CORR","AS","U16","SI","2",999.99,999.99,999.99,999.99,999.99,999.99,999.99,999.99,999.99,999.99,999.99,999.99,999.99,999.99,999.99,999.99,999.99,999.99,999.99,999.99]
["2010-03-15","232706651","OLIVIA","RODRIGUEZ CASTRO","F","CVN","AS","U16","SI","2",999.99,407.66,999.99,999.99,999.99,999.99,999.99,999.99,999.99,999.99,999.99,999.99,999.99,999.99,999.99,999.99,406.91,999.99,999.99,999.99]
["2010-03-22","232776323","ANTONIO","KUBICK LESSER","M","CLP","AS","U16","SI","2",999.99,157.59,999.99,999.99,999.99,999.99,999.99,999.99,999.99,999.99,999.99,999.99,999.99,999.99,999.99,999.99,267.95,999.99,999.99,999.99]
["2010-04-05","232893249","FACUNDO","GALILEA FUENTEALBA","M","CAEC","AS","U16","SI","2",999.99,999.99,999.99,999.99,999.99,999.99,999.99,999.99,999.99,999.99,999.99,999.99,999.99,192.92,999.99,999.99,999.99,999.99,259.77,226.01]
["2010-04-08","232926155","PATRICIO","BANNURA DECEBAL-CUZA","M","UC","AS","U16","SI","2",999.99,999.99,999.99,999.99,999.99,999.99,999.99,999.99,999.99,999.99,999.99,999.99,999.99,999.99,999.99,999.99,127.47,999.99,209.13,161.83]
["2010-04-19","233009822","CARMENCITA","PINILLA MORENO","F","CLP","AS","U16","SI","2",999.99,97.87,94.19,999.99,999.99,999.99,999.99,999.99,999.99,999.99,999.99,440,999.99,999.99,999.99,999.99,111.43,999.99,132.33,112.97]
["2010-04-22","233032808","LEONOR","MUÑOZ QUINTANA","F","CORR","AS","U16","SI","2",999.99,999.99,999.99,999.99,999.99,127.97,140.84,999.99,999.99,999.99,130.11,999.99,999.99,999.99,999.99,999.99,999.99,177.48,999.99,999.99]
["2010-04-19","233059706","ISABEL","CLARO IRARRAZAVAL","F","UC","AS","U16","SI","2",999.99,999.99,122.53,999.99,999.99,999.99,999.99,999.99,999.99,999.99,999.99,999.99,999.99,108.27,999.99,999.99,141.72,999.99,999.99,999.99]
["2010-04-27","233074896","SANTIAGO","CAPO CORNEJO","M","UC","AS","U16","SI","2",999.99,999.99,202.93,999.99,999.99,999.99,999.99,999.99,999.99,999.99,999.99,999.99,999.99,234.54,999.99,999.99,221.98,999.99,253.57,226.5]
["2010-04-01","233243736","NINA","DUPUY ALLEN","F","CVN","AS","U16","SI","2",999.99,142.64,999.99,999.99,999.99,999.99,999.99,999.99,999.99,999.99,999.99,999.99,999.99,999.99,999.99,999.99,999.99,999.99,999.99,999.99]
["2010-07-02","233245771","CLARA","TELLO MOLINARE","F","CAO","AS","U16","SI","2",170.38,999.99,999.99,999.99,999.99,999.99,999.99,999.99,999.99,999.99,999.99,999.99,999.99,999.99,999.99,999.99,999.99,297.97,999.99,999.99]
["2010-05-28","23338349K","JEAN CLAUDIO","CARDENAS MANSILLA","M","PAT","AS","U16","SI","2",999.99,999.99,999.99,999.99,999.99,999.99,999.99,291.64,999.99,999.99,999.99,999.99,999.99,999.99,999.99,999.99,999.99,999.99,999.99,999.99]
["2010-06-05","233456179","EMILIA","GROB ANGERMEYER","F","CAN","AS","U16","SI","2",999.99,141.21,116.59,999.99,999.99,999.99,999.99,999.99,999.99,999.99,999.99,999.99,999.99,106.88,999.99,999.99,126.94,999.99,122.93,109.89]
["2010-05-30","233464090","KARL","PAULMANN  PARSONS","M","CAN","AS","U16","SI","2",999.99,377.97,999.99,999.99,999.99,999.99,999.99,999.99,999.99,999.99,999.99,999.99,999.99,437.21,999.99,999.99,999.99,999.99,999.99,999.99]
["2010-11-06","233465003","ELOISA","COSTA BERNALES","F","CVN","AS","U16","SI","2",999.99,206.87,163.85,999.99,999.99,999.99,999.99,999.99,999.99,999.99,999.99,999.99,999.99,146.99,999.99,999.99,159.4,999.99,168.03,169.4]
["2010-11-06","233465100","MATEO","COSTA BERNALES","M","CVN","AS","U16","SI","2",999.99,999.99,179.32,999.99,999.99,999.99,999.99,999.99,999.99,999.99,999.99,999.99,999.99,999.99,999.99,999.99,999.99,999.99,208.63,209.29]
["2010-11-06","233465259","LOURDES","COSTA BERNALES","F","CVN","AS","U16","SI","2",999.99,999.99,147.94,999.99,999.99,999.99,999.99,999.99,999.99,999.99,999.99,999.99,999.99,223.39,999.99,999.99,999.99,999.99,999.99,216.78]
["2010-06-09","233466352","AMY","CASTILLO ALVAREZ","F","UC","AS","U16","SI","2",999.99,273.25,229.75,999.99,999.99,999.99,999.99,999.99,999.99,999.99,999.99,999.99,999.99,238.58,999.99,999.99,283.46,999.99,359.77,370.12]
["2010-11-06","233480916","JUAN","GARDILCIC SANTA CRUZ","M","CVN","AS","U16","SI","2",999.99,999.99,999.99,999.99,999.99,999.99,999.99,999.99,999.99,999.99,999.99,999.99,999.99,999.99,999.99,999.99,999.99,999.99,999.99,999.99]
["2010-06-14","233491136","DANIEL IGNACIO ","GONZÁLEZ  LOPEZ ","M","CEC","AS","U16","SI","2",123.63,999.99,999.99,999.99,999.99,999.99,177.26,999.99,999.99,999.99,999.99,999.99,999.99,999.99,999.99,999.99,999.99,223.62,999.99,999.99]
["2010-06-22","233557250","TOMAS","OPAZO DIAZ","M","CLP","AS","U16","SI","2",999.99,999.99,999.99,999.99,999.99,999.99,999.99,999.99,999.99,999.99,999.99,999.99,999.99,999.99,999.99,999.99,999.99,999.99,999.99,999.99]
["2010-06-21","233561312","MATEO","CURKOVIC FRANCO","M","UC","AS","U16","SI","2",999.99,58.34,78.42,999.99,999.99,999.99,999.99,999.99,999.99,999.99,999.99,999.99,999.99,107.55,999.99,999.99,999.99,999.99,91.91,98.88]
["2010-07-06","233659525","JOAQUIN","BARRIENTOS ENGLER","M","CAO","AS","U16","SI","2",211.04,999.99,999.99,229.16,999.99,999.99,999.99,213.25,999.99,999.99,999.99,999.99,999.99,999.99,999.99,999.99,999.99,243.86,999.99,999.99]
["2010-05-07","233662801","SOPHIE","HAMEAU GAETE","F","CLP","AS","U16","SI","2",999.99,237.91,999.99,999.99,999.99,999.99,999.99,999.99,999.99,999.99,999.99,999.99,999.99,999.99,999.99,999.99,999.99,999.99,318.95,999.99]
["2010-06-11","233711799","VICENTE","JUNEMANN ARANCIBIA","M","CAN","AS","U16","SI","2",999.99,999.99,999.99,999.99,999.99,999.99,999.99,999.99,999.99,999.99,999.99,999.99,999.99,999.99,999.99,999.99,999.99,999.99,999.99,999.99]
["2010-08-25","234064819","MARINA","LÓPEZ CHAMORRO","F","CEC","AS","U16","SI","2",999.99,999.99,999.99,999.99,999.99,236.57,270.23,999.99,999.99,999.99,223.24,999.99,999.99,288.08,999.99,999.99,999.99,{"v":349.8,"d":"349.80"},332.41,358.93]
["2010-09-08","234183079","COLOMBA","VASQUEZ HOTT","F","CAO","AS","U16","SI","2",999.99,999.99,999.99,999.99,999.99,999.99,999.99,999.99,999.99,999.99,999.99,999.99,999.99,999.99,999.99,999.99,999.99,999.99,999.99,999.99]
["2010-08-24","234187511","RICARDO","VICUÑA CURTZE","M","CLP","AS","U16","SI","2",999.99,188.72,999.99,999.99,999.99,999.99,999.99,999.99,999.99,999.99,999.99,183.77,999.99,205.31,999.99,999.99,183.07,999.99,999.99,999.99]
["2010-08-24","234187651","FRANCISCO","VICUÑA CURTZE","M","CLP","AS","U16","SI","2",999.99,150.36,133.18,999.99,999.99,999.99,999.99,999.99,999.99,999.99,999.99,204.19,999.99,206.39,999.99,999.99,133.12,999.99,207.63,214.21]
["2010-09-06","234197185","UVY","ACERBONI AHUMADA","F","UC","AS","U16","SI","2",999.99,74.21,67.5,999.99,999.99,999.99,999.99,999.99,999.99,999.99,999.99,999.99,999.99,999.99,999.99,999.99,999.99,999.99,999.99,999.99]
["2010-09-16","234271490","MATILDE SOFIA","GARDA  TIMMERMANN","F","CEC","AS","U16","SI","2",97.95,999.99,999.99,999.99,999.99,202.93,174.94,999.99,999.99,999.99,153.33,999.99,999.99,999.99,999.99,999.99,252.2,181.16,193.11,999.99]
["2010-09-22","23429511K","MAXIMILIANO","DIAZ FIGUEROA","M","CAR","AS","U16","SI","2",999.99,999.99,999.99,999.99,999.99,999.99,182.6,999.99,999.99,999.99,999.99,999.99,999.99,999.99,999.99,999.99,999.99,174.57,999.99,999.99]
["2010-09-16","234304798","EMILIA","ALVAREZ CHACON","F","CLP","AS","U16","SI","2",999.99,280.12,229.3,999.99,999.99,999.99,999.99,999.99,999.99,999.99,999.99,999.99,999.99,384.07,999.99,999.99,999.99,999.99,999.99,999.99]
["2010-09-22","234304860","PATRICK","RABY IBAÑEZ","M","CLP","AS","U16","SI","2",999.99,999.99,126.81,999.99,999.99,999.99,999.99,999.99,999.99,999.99,999.99,149.73,999.99,153.06,999.99,999.99,122.2,999.99,143.54,174.37]
["2010-10-05","234452452","MARTINA NATALIA","HERRERA  NORAMBUENA","F","CORR","AS","U16","SI","2",400.6,999.99,999.99,999.99,999.99,999.99,442.04,999.99,999.99,999.99,999.99,999.99,999.99,999.99,999.99,999.99,999.99,450.18,999.99,999.99]
["2011-10-18","234571850","MATÍAS","ANTIHUALA ARAYA","M","CLP","AS","U16","SI","1",999.99,999.99,999.99,999.99,999.99,999.99,999.99,999.99,999.99,999.99,999.99,999.99,999.99,195.89,999.99,999.99,999.99,999.99,999.99,999.99]
["2010-10-29","234657704","EMILIO","CADIZ MARIN","M","UC","AS","U16","SI","2",999.99,999.99,112.8,999.99,999.99,999.99,999.99,999.99,999.99,999.99,999.99,999.99,999.99,215.55,999.99,999.99,999.99,999.99,198.4,185.68]
["2010-10-28","234670417","LUNA","ANGUITA AVILES","F","CAO","AS","U16","SI","2",999.99,999.99,999.99,269.13,266.05,999.99,294.54,999.99,999.99,257.3,999.99,999.99,999.99,999.99,999.99,999.99,999.99,322.34,999.99,999.99]
["2010-11-05","234718827","MATEO","GROB CONCHA","M","CAO","AS","U16","SI","2",113.62,999.99,999.99,98.48,999.99,999.99,142.64,127.09,999.99,999.99,999.99,999.99,999.99,999.99,999.99,999.99,999.99,138.05,114.11,999.99]
["2010-11-19","234863371","PEDRO","SANTIBAÑEZ PUFFE","M","CLP","AS","U16","SI","2",999.99,999.99,999.99,999.99,999.99,999.99,999.99,999.99,999.99,999.99,999.99,999.99,999.99,999.99,999.99,999.99,216.2,999.99,228.58,999.99]
["2010-11-24","234873016","ANTONIA","MISLEJ LÓPEZ","F","CVN","AS","U16","SI","2",999.99,999.99,999.99,999.99,999.99,999.99,999.99,999.99,999.99,999.99,999.99,999.99,999.99,999.99,999.99,999.99,999.99,999.99,999.99,999.99]
["2010-12-15","235046873","CLEMENTE","MURUA INFANTE","M","UC","AS","U16","SI","2",999.99,190.1,208.61,999.99,999.99,999.99,999.99,999.99,999.99,999.99,999.99,999.99,999.99,325.71,999.99,999.99,237.13,999.99,999.99,999.99]
["2010-12-27","235123975","FLORENCIA","VIDAL DIAZ","F","CVN","AS","U16","SI","2",999.99,262.81,182.13,999.99,999.99,999.99,999.99,999.99,999.99,999.99,999.99,999.99,999.99,232.32,999.99,999.99,999.99,999.99,240.38,248.69]
["2010-12-30","235145197","TOMAS","GUZMAN LECANNELIER","M","CEC","AS","U16","SI","2",999.99,999.99,999.99,199.43,999.99,999.99,156.06,197.85,999.99,999.99,999.99,999.99,999.99,999.99,999.99,999.99,152.76,189.39,159.5,163.31]
["2011-01-03","235182785","FRANCISCO JAVIER","PEREZ HADDAD","M","CAN","AS","U16","SI","1",999.99,999.99,999.99,999.99,999.99,999.99,999.99,999.99,999.99,999.99,999.99,999.99,999.99,999.99,999.99,999.99,999.99,999.99,999.99,999.99]
["2010-12-28","235205378","JOAQUÍN","MARCHANT OLGUÍN","M","ARS","AS","U16","SI","2",999.99,999.99,999.99,999.99,999.99,999.99,999.99,999.99,999.99,999.99,999.99,999.99,999.99,999.99,999.99,999.99,999.99,999.99,999.99,999.99]
["2011-01-24","235429683","BAUTISTA","LAMA KAISER","M","CLP","AS","U16","SI","1",999.99,73.75,79.2,999.99,999.99,999.99,999.99,999.99,999.99,999.99,999.99,999.99,999.99,77.38,999.99,999.99,999.99,999.99,105.63,110.19]
["2011-02-06","235529300","ELBA","HUBER SOLIS","F","LV","AS","U16","SI","1",114.3,999.99,999.99,999.99,999.99,999.99,218.84,999.99,999.99,999.99,207.93,999.99,999.99,999.99,999.99,999.99,999.99,266.06,999.99,999.99]
["2011-02-01","235609819","JEAN PAUL","BOUDON URRA","M","CSC","AS","U16","SI","1",608.03,999.99,999.99,999.99,999.99,999.99,578.59,999.99,999.99,999.99,999.99,999.99,999.99,999.99,999.99,999.99,999.99,999.99,999.99,999.99]
["2011-02-21","235706288","FRIDA","SILVA JENSEN","F","CLP","AS","U16","SI","1",999.99,999.99,176,999.99,999.99,999.99,999.99,999.99,999.99,999.99,999.99,999.99,999.99,220.14,999.99,999.99,239.97,999.99,328.41,999.99]
["2011-03-12","235826844","CLEMENTE ANDRÉS","BUSTOS  ALVARADO","M","CORR","AS","U16","SI","1",999.99,999.99,999.99,999.99,999.99,999.99,999.99,999.99,999.99,999.99,999.99,999.99,999.99,999.99,999.99,999.99,999.99,253.88,999.99,999.99]
["2011-03-14","23585550K","BORJA","LESSER DILL","M","CLP","AS","U16","SI","1",999.99,128.9,115.84,999.99,999.99,999.99,999.99,999.99,999.99,999.99,999.99,999.99,999.99,187.81,999.99,999.99,999.99,999.99,204.39,201.67]
["2011-01-17","235889730","ALBERTO","PUENTE YANKOVIC","M","CAN","AS","U16","SI","1",999.99,999.99,66.37,999.99,999.99,999.99,999.99,999.99,999.99,999.99,999.99,72.97,999.99,84.11,999.99,999.99,71.09,999.99,94.4,104.29]
["2011-08-11","235923602","MAXIMILIAN","EPP GOYENECHEA","M","UC","AS","U16","SI","1",999.99,999.99,999.99,999.99,999.99,999.99,999.99,999.99,999.99,999.99,999.99,999.99,999.99,999.99,999.99,999.99,999.99,999.99,999.99,999.99]
["2011-03-20","235986701","BLANCA","IBAÑEZ AMBIA","F","CLP","AS","U16","SI","1",999.99,999.99,213.3,999.99,999.99,999.99,999.99,999.99,999.99,999.99,999.99,464.73,999.99,999.99,999.99,999.99,999.99,999.99,999.99,999.99]
["2011-03-21","235998793","IGNACIA","FUENTES  LABRA ","F","ARS","AS","U16","SI","1",999.99,101.15,79.47,999.99,999.99,999.99,999.99,999.99,999.99,999.99,999.99,999.99,999.99,101.66,999.99,999.99,110.94,999.99,83.86,122.73]
["2011-03-23","236058379","SANTIAGO","CASTRO OTERO","M","UC","AS","U16","SI","1",999.99,999.99,999.99,999.99,999.99,999.99,999.99,999.99,999.99,999.99,999.99,999.99,999.99,999.99,999.99,999.99,999.99,999.99,999.99,999.99]
["2011-03-30","236060357","TOMAS","GONZALEZ VALDES","M","CAN","AS","U16","SI","1",999.99,999.99,153.06,999.99,999.99,999.99,999.99,999.99,999.99,999.99,999.99,999.99,999.99,999.99,999.99,999.99,999.99,999.99,999.99,999.99]
["2011-04-09","236151077","FEDERICO ","AYALA PEREZ","M","CAN","AS","U16","SI","1",999.99,999.99,158.26,999.99,999.99,999.99,999.99,999.99,999.99,999.99,999.99,999.99,999.99,308.2,999.99,999.99,999.99,999.99,999.99,999.99]
["2011-04-13","236208508","DIEGO","TAGLE ALLIENDE","M","CAO","AS","U16","SI","1",999.99,999.99,999.99,269.26,999.99,999.99,999.99,999.99,999.99,999.99,999.99,999.99,999.99,999.99,999.99,999.99,999.99,999.99,999.99,999.99]
["2011-04-13","236208613","ANA","TAGLE ALLIENDE","F","CAO","AS","U16","SI","1",999.99,999.99,999.99,236.89,999.99,999.99,999.99,999.99,999.99,999.99,999.99,999.99,999.99,999.99,999.99,999.99,999.99,999.99,999.99,999.99]
["2011-01-05","236348741","MAXIMILIANO","MOLINA QUINTANA","M","CVN","AS","U16","SI","1",999.99,999.99,999.99,999.99,999.99,999.99,999.99,999.99,999.99,999.99,999.99,999.99,999.99,999.99,999.99,999.99,999.99,999.99,999.99,999.99]
["2011-05-16","236440893","CLARA","DONOSO INFANTE","F","CAO","AS","U16","SI","1",109.99,999.99,999.99,123.19,128.52,999.99,163.57,999.99,999.99,999.99,999.99,999.99,999.99,999.99,999.99,999.99,999.99,174.77,155.49,185.83]
["2011-05-14","236442764","DIEGO ","MONTAGNON  FERNÁNDEZ","M","ARS","AS","U16","SI","1",999.99,999.99,999.99,999.99,999.99,999.99,999.99,999.99,999.99,999.99,999.99,999.99,999.99,999.99,999.99,999.99,999.99,999.99,999.99,999.99]
["2011-05-16","236449246","MARTIN","ROMENY WAEGER","M","CAO","AS","U16","SI","1",174.31,999.99,999.99,177.05,999.99,999.99,189.31,214.3,999.99,999.99,999.99,999.99,999.99,999.99,999.99,999.99,999.99,259.72,999.99,999.99]
["2011-05-18","236489973","GRACIELA","BARRIENTOS TRUJILLOS","F","PAT","AS","U16","SI","1",999.99,999.99,999.99,999.99,999.99,999.99,176.7,999.99,999.99,999.99,999.99,999.99,999.99,999.99,999.99,999.99,999.99,233.96,999.99,999.99]
["2011-06-15","236684938","GASPAR","CHAVEZ BAHAMONDES","M","ARS","AS","U16","SI","1",999.99,999.99,302.55,999.99,999.99,999.99,999.99,999.99,999.99,999.99,999.99,999.99,999.99,999.99,999.99,999.99,999.99,999.99,322.85,341.34]
["2011-06-13","236692175","LEONARDO","CARVALLO TARICCO","M","POR","AS","U16","SI","1",999.99,474.45,999.99,999.99,999.99,999.99,999.99,999.99,999.99,999.99,999.99,999.99,999.99,999.99,999.99,999.99,999.99,999.99,999.99,999.99]
["2011-06-18","236710122","MARTINA","VERGARA SÁNCHEZ","F","POR","AS","U16","SI","1",999.99,999.99,999.99,999.99,999.99,999.99,999.99,999.99,999.99,999.99,999.99,999.99,999.99,999.99,999.99,999.99,999.99,999.99,999.99,999.99]
["2011-06-22","236769127","SOFIA","ASTORGA LAGOMARSINO","F","UC","AS","U16","SI","1",999.99,999.99,236.06,999.99,999.99,999.99,999.99,999.99,999.99,999.99,999.99,999.99,999.99,999.99,999.99,999.99,999.99,999.99,999.99,999.99]
["2011-06-22","236769607","MARTIN","ASTORGA LAGOMARSINO","M","UC","AS","U16","SI","1",999.99,999.99,242.11,999.99,999.99,999.99,999.99,999.99,999.99,999.99,999.99,999.99,999.99,323.42,999.99,999.99,999.99,999.99,999.99,999.99]
["2011-06-28","23679590K","MAGDALENA PASCALE","NEUMANN MENDEZ ","F","CEC","AS","U16","SI","1",190.08,999.99,999.99,999.99,999.99,250.44,231.69,999.99,999.99,999.99,219.12,999.99,999.99,999.99,999.99,999.99,999.99,296.04,999.99,999.99,"INJURY (09.09.25)"]
["2011-06-07","236797112","LOURDES","GARCÍA ","F","CVN","AS","U16","SI","1",999.99,999.99,208.18,999.99,999.99,999.99,999.99,999.99,999.99,999.99,999.99,999.99,999.99,999.99,999.99,999.99,332.76,999.99,292.48,302.26]
["2011-07-21","236983242","VICENTE","GALDAMES RINCÓN","M","CVN","AS","U16","SI","1",999.99,999.99,999.99,999.99,999.99,999.99,999.99,999.99,999.99,999.99,999.99,999.99,999.99,999.99,999.99,999.99,413.84,999.99,999.99,999.99]
["2011-07-22","237037456","PEDRO","CASTRO GONZALEZ","M","ARS","AS","U16","SI","1",999.99,999.99,107.42,999.99,999.99,999.99,999.99,999.99,999.99,999.99,999.99,999.99,999.99,175.01,999.99,999.99,130.42,999.99,999.99,144.13]
["2011-07-29","237068440","LIONEL","ROBLES LOPEZ","M","CAO","AS","U16","SI","1",999.99,999.99,999.99,999.99,999.99,999.99,999.99,380.62,999.99,999.99,999.99,999.99,999.99,999.99,999.99,999.99,999.99,999.99,999.99,999.99]
["2011-08-01","237100441","ISMAEL ","GANDARA RODILLO ","M","CAN","AS","U16","SI","1",999.99,182.88,180.89,999.99,999.99,999.99,999.99,999.99,999.99,999.99,999.99,999.99,999.99,244.64,999.99,999.99,197.97,999.99,999.99,999.99]
["2011-08-07","237109740","RAFAELA","KNAPP MOYA","F","CAPA","AS","U16","SI","1",999.99,999.99,999.99,999.99,999.99,93.6,126.51,999.99,999.99,999.99,227.45,999.99,999.99,999.99,999.99,999.99,87.2,999.99,128.72,118.45]
["2011-07-28","237117174","RAFAELLA","REYES SBARAGLINI","F","CEC","AS","U16","SI","1",999.99,999.99,999.99,999.99,999.99,999.99,999.99,999.99,999.99,999.99,999.99,999.99,999.99,999.99,999.99,999.99,999.99,999.99,999.99,999.99]
["2011-08-09","237159500","FRANCISCA","JABAT CROQUEVIELLE","F","ARS","AS","U16","SI","1",999.99,999.99,999.99,999.99,999.99,999.99,999.99,999.99,999.99,999.99,999.99,999.99,999.99,999.99,999.99,999.99,999.99,999.99,999.99,999.99]
["2011-08-12","23730571K","NICOLÁS ADOLFO","TAPIA MARDONES","M","CSC","AS","U16","SI","1",368.27,999.99,999.99,999.99,999.99,999.99,347.24,999.99,999.99,999.99,999.99,999.99,999.99,999.99,999.99,999.99,999.99,999.99,999.99,999.99]
["2011-09-07","237392299","DIEGO","RODRIGUEZ LAPOSTOL","M","CVN","AS","U16","SI","1",999.99,999.99,999.99,999.99,999.99,999.99,999.99,999.99,999.99,999.99,999.99,999.99,999.99,627.36,999.99,999.99,390.46,999.99,999.99,999.99]
["2011-09-12","237440420","PAULA FRANCISCA","SILVA CORNEJO","F","CEC","AS","U16","SI","1",999.99,999.99,999.99,999.99,999.99,999.99,999.99,999.99,999.99,999.99,999.99,999.99,999.99,999.99,999.99,999.99,999.99,999.99,999.99,999.99]
["2011-09-14","237461665","LAURA","DEL CAMPO TRAUTMANN","F","CEC","AS","U16","SI","1",999.99,999.99,999.99,999.99,999.99,999.99,999.99,999.99,999.99,999.99,999.99,999.99,999.99,157.66,999.99,999.99,999.99,999.99,999.99,999.99]
["2011-09-20","237514475","FLORENCIA","ROSS MASSANES","F","CAN","AS","U16","SI","1",999.99,999.99,172.9,999.99,999.99,999.99,999.99,999.99,999.99,999.99,999.99,999.99,999.99,999.99,999.99,999.99,999.99,999.99,999.99,999.99]
["2011-10-04","237609107","TRINIDAD","MONTANARI OTERO","F","UC","AS","U16","SI","1",999.99,999.99,999.99,999.99,999.99,999.99,999.99,999.99,999.99,999.99,999.99,999.99,999.99,999.99,999.99,999.99,999.99,999.99,999.99,999.99]
["2011-10-11","237668634","JOSE","MASSOUD AUSIN","M","CLP","AS","U16","SI","1",999.99,999.99,999.99,999.99,999.99,999.99,999.99,999.99,999.99,999.99,999.99,999.99,999.99,999.99,999.99,999.99,999.99,999.99,999.99,999.99]
["2011-10-10","237674901","JULIÁN","RIVERA DEL CAMPO","M","ARS","AS","U16","SI","1",999.99,188.51,173.44,999.99,999.99,999.99,999.99,999.99,999.99,999.99,999.99,999.99,999.99,999.99,999.99,999.99,188.85,999.99,240.05,213.96]
["2011-10-11","237684176","PATRICIO MATÍAS ","CONTESSE ORTIZ ","M","CAN","AS","U16","SI","1",999.99,125.18,147.77,999.99,999.99,999.99,999.99,999.99,999.99,999.99,999.99,999.99,999.99,999.99,999.99,999.99,999.99,999.99,999.99,999.99]
["2011-10-24","237794540","MELISA MARIA","LERMANDA  IBAÑEZ","F","CORR","AS","U16","SI","1",166.32,999.99,999.99,999.99,999.99,999.99,268.01,999.99,999.99,999.99,999.99,999.99,999.99,999.99,999.99,999.99,999.99,273.22,999.99,999.99]
["2011-11-03","237871677","ARTURO","WILLER SIMON","M","CAO","AS","U16","SI","1",999.99,999.99,999.99,999.99,999.99,999.99,999.99,207.25,999.99,999.99,999.99,999.99,999.99,999.99,999.99,999.99,158.41,999.99,178.45,196.01]
["2011-10-30","237881370","JULIA","OPITZ SEIDL","F","CAO","AS","U16","SI","1",999.99,999.99,999.99,999.99,999.99,999.99,999.99,999.99,999.99,999.99,999.99,999.99,999.99,999.99,999.99,999.99,999.99,999.99,999.99,999.99]
["2011-10-13","237939859","NAOMI","FISCHER BARENBOIM","F","ARS","AS","U16","SI","1",999.99,999.99,999.99,999.99,999.99,999.99,999.99,999.99,999.99,999.99,999.99,999.99,999.99,999.99,999.99,999.99,999.99,999.99,999.99,999.99]
["2011-11-11","237948424","DOMINGA","MANDRU ROMENY","F","CAO","AS","U16","SI","1",999.99,999.99,999.99,253.71,285.31,999.99,273.74,999.99,999.99,260.74,999.99,999.99,999.99,999.99,999.99,999.99,999.99,303.39,999.99,999.99]
["2011-11-16","237972236","AGUSTINA","BANNURA DECEBAL-CUZA","F","UC","AS","U16","SI","1",999.99,224.29,160.1,999.99,999.99,999.99,999.99,999.99,999.99,999.99,999.99,999.99,999.99,161.13,999.99,999.99,238.27,999.99,278.49,252.98]
["2011-11-23","238028973","VICENTE","MARTINEZ VICHERAT","M","UC","AS","U16","SI","1",999.99,999.99,999.99,999.99,999.99,999.99,999.99,999.99,999.99,999.99,999.99,999.99,999.99,999.99,999.99,999.99,999.99,999.99,999.99,999.99]
["2011-12-09","238169380","SANTIAGO","BADILLA FUENTES","M","CAN","AS","U16","SI","1",999.99,999.99,188.82,999.99,999.99,999.99,999.99,999.99,999.99,999.99,999.99,999.99,999.99,366.11,999.99,999.99,999.99,999.99,999.99,999.99]
["2011-12-20","238262828","VICENTE","DÍAZ SOTO","M","CLP","AS","U16","SI","1",999.99,999.99,148.85,999.99,999.99,999.99,999.99,999.99,999.99,999.99,999.99,194.16,999.99,219.86,999.99,999.99,999.99,999.99,441.07,239.53]
["2011-12-23","238289130","TIAGO ","CARTES ATALAH","M","CAN","AS","U16","SI","1",999.99,110.62,113.29,999.99,999.99,999.99,999.99,999.99,999.99,999.99,999.99,999.99,999.99,145.25,999.99,999.99,999.99,999.99,157.75,180.27]
["2012-08-01","238390419","MAGDALENA","ROJAS F","F","CVN","AS","U14","SI","2",999.99,999.99,209.99,999.99,999.99,999.99,999.99,999.99,999.99,999.99,999.99,999.99,999.99,999.99,305,241.95,266.75,999.99,232.66,253.56]
["2012-01-18","238487544","LUCIANO","BRITO DIAZ","M","CLP","AS","U14","SI","2",999.99,90.64,999.99,999.99,999.99,999.99,999.99,999.99,999.99,999.99,999.99,999.99,999.99,999.99,999.99,999.99,999.99,999.99,999.99,999.99]
["2012-01-02","238488060","LORENZO","LEON AZUA","M","CVN","AS","U14","SI","2",999.99,999.99,999.99,999.99,999.99,999.99,999.99,999.99,999.99,999.99,999.99,999.99,999.99,999.99,999.99,999.99,999.99,999.99,999.99,999.99]
["2012-03-02","238625661","ISIDRO","SECALL MOREL","M","CVN","AS","U14","SI","2",999.99,999.99,999.99,999.99,999.99,999.99,999.99,999.99,999.99,999.99,999.99,999.99,999.99,999.99,999.99,999.99,999.99,999.99,999.99,999.99]
["2012-02-09","23866926K","HUGO JOSÉ","TAPIA MEDINA","M","CSC","AS","U14","SI","2",327.13,999.99,999.99,999.99,999.99,999.99,320.45,999.99,999.99,999.99,999.99,999.99,999.99,999.99,999.99,999.99,999.99,466.59,999.99,999.99]
["2012-10-02","238674840","ANTONIA","GARDILCIC SANTA CRUZ","F","CVN","AS","U14","SI","2",999.99,999.99,999.99,999.99,999.99,999.99,999.99,999.99,999.99,999.99,999.99,999.99,999.99,200.54,182.84,174.07,999.99,999.99,268.5,217.73]
["2012-02-21","238774861","IGNACIA","LIRA CASAS","F","CAPA","AS","U14","SI","2",999.99,999.99,999.99,999.99,999.99,999.99,999.99,999.99,999.99,999.99,200.66,999.99,999.99,999.99,999.99,999.99,999.99,999.99,999.99,999.99]
["2012-02-21","238775086","JOAQUIN","LIRA CASAS","M","CAPA","AS","U14","SI","2",999.99,999.99,999.99,999.99,999.99,593.73,999.99,999.99,999.99,999.99,249.5,999.99,999.99,999.99,999.99,999.99,999.99,999.99,999.99,999.99]
["2012-03-09","238944864","LUNA","VERA ZAROR","F","LV","AS","U14","SI","2",138.33,999.99,999.99,999.99,999.99,448.19,282.65,999.99,999.99,999.99,289.29,999.99,999.99,999.99,999.99,999.99,999.99,261.63,999.99,999.99]
["2012-08-03","238953502","GABRIEL","FARÍAS AGUAYO","M","CVN","AS","U14","SI","2",999.99,999.99,999.99,999.99,999.99,999.99,999.99,999.99,999.99,999.99,999.99,999.99,999.99,999.99,999.99,176.29,177.4,999.99,226.06,173.36]
["2012-03-13","239038379","MANUEL","LE-BERT RODRIGUEZ","M","UC","AS","U14","SI","2",999.99,241.93,205.51,999.99,999.99,999.99,999.99,999.99,999.99,999.99,999.99,999.99,999.99,194.31,168.42,999.99,149.97,999.99,329.4,222.35]
["2012-03-21","239060099","ANGELES","CANDIA ECHENIQUE","F","UC","AS","U14","SI","2",999.99,266.62,999.99,999.99,999.99,999.99,999.99,999.99,999.99,999.99,999.99,999.99,999.99,406.38,344.61,330.34,303.67,999.99,344.06,337.07]
["2012-03-28","239091547","JUAN EDUARDO","IBAÑEZ VERGARA","M","CLP","AS","U14","SI","2",999.99,999.99,999.99,999.99,999.99,999.99,999.99,999.99,999.99,999.99,999.99,999.99,999.99,999.99,999.99,999.99,999.99,999.99,999.99,999.99]
["2012-04-01","239221904","NABIH","SEITUN FUENTES","M","LV","AS","U14","SI","2",135.49,999.99,999.99,999.99,999.99,103.66,205.7,999.99,999.99,999.99,276.82,999.99,999.99,999.99,999.99,999.99,999.99,374.15,999.99,999.99]
["2012-12-04","239225624","JUAN","BRINKMANN UNDURRAGA","M","CVN","AS","U14","SI","2",999.99,141.99,999.99,999.99,999.99,999.99,999.99,999.99,999.99,999.99,999.99,999.99,999.99,999.99,137.89,143.2,999.99,999.99,153.82,170.32]
["2012-04-21","23930088K","ANIBAL","MONTES GUTIERREZ","M","UC","AS","U14","SI","2",999.99,180.88,140.5,999.99,999.99,999.99,999.99,999.99,999.99,999.99,999.99,999.99,999.99,78.36,92.59,128.33,99.33,999.99,999.99,195.87]
["2012-04-21","239350453","DOMINGO ARNAU","TORRES RETI","M","CAN","AS","U14","SI","2",999.99,164.55,139.46,999.99,999.99,999.99,999.99,999.99,999.99,999.99,999.99,999.99,999.99,234.66,171.38,999.99,999.99,999.99,999.99,999.99]
["2012-05-22","23954326K","MAX ","MONREAL  ORMEÑO","M","CORR","AS","U14","SI","2",150.11,999.99,999.99,999.99,999.99,97.24,226.74,999.99,999.99,999.99,232.29,999.99,999.99,999.99,999.99,999.99,999.99,365.25,999.99,999.99]
["2012-05-03","23954410K","EMA","MUYLLE ALLIENDE","F","UC","AS","U14","SI","2",999.99,158.7,121.49,999.99,999.99,999.99,999.99,999.99,999.99,999.99,999.99,999.99,999.99,265.76,160.78,145.43,157.13,999.99,235.1,226.46]
["2012-05-16","239561756","TEODORO","PASTENE SOTO","M","CORR","AS","U14","SI","2",999.99,999.99,999.99,999.99,999.99,999.99,377.21,999.99,999.99,999.99,999.99,999.99,999.99,999.99,999.99,999.99,999.99,614.54,999.99,999.99]
["2012-05-29","239611478","JACINTA","OPAZO DIAZ","F","CLP","AS","U14","SI","2",999.99,999.99,154.02,999.99,999.99,999.99,999.99,999.99,999.99,999.99,999.99,999.99,356.08,999.99,999.99,999.99,999.99,999.99,999.99,999.99]
["2012-05-01","239624863","CLARA","GAZMURI PIEDRA","F","CEC","AS","U14","SI","2",999.99,999.99,999.99,999.99,999.99,999.99,999.99,999.99,999.99,999.99,999.99,999.99,999.99,999.99,999.99,999.99,999.99,999.99,999.99,999.99]
["2012-05-30","239677304","JULIETA","FERNANDEZ VERGARA","F","CLP","AS","U14","SI","2",999.99,999.99,102.5,999.99,999.99,999.99,999.99,999.99,999.99,999.99,999.99,142.25,999.99,999.99,156.27,168.66,134.57,999.99,999.99,999.99]
["2012-05-30","239679838","OLGA","KUBICK LESSER","F","CLP","AS","U14","SI","2",999.99,999.99,999.99,999.99,999.99,999.99,999.99,999.99,999.99,999.99,999.99,192.05,187.17,185.13,159.83,193.46,171.72,999.99,194.74,178.77]
["2012-05-25","239693318","MAGDALENA ","CORDERO VON LEYSER","F","CEC","AS","U14","SI","2",999.99,999.99,999.99,999.99,999.99,999.99,999.99,999.99,999.99,999.99,999.99,999.99,999.99,999.99,999.99,999.99,999.99,999.99,999.99,999.99]
["2012-06-02","239697003","ADELA","VALDES PRIETO","F","CAO","AS","U14","SI","2",85.83,999.99,999.99,999.99,999.99,999.99,113.85,999.99,999.99,999.99,999.99,999.99,999.99,999.99,999.99,87.26,89.68,187.99,160.21,152.13]
["2012-05-25","239723578","GUSTAVO","PINCHEIRA BRAVO","M","CAR","AS","U14","SI","2",79.46,999.99,999.99,999.99,999.99,49.67,151.59,999.99,999.99,999.99,161.97,999.99,999.99,999.99,999.99,999.99,999.99,315.81,999.99,999.99]
["2012-06-07","239740588","ROSARIO ALEJANDRA","CALDERA ALMONACID","F","CEC","AS","U14","SI","2",125.73,999.99,225.13,999.99,999.99,442,250.04,999.99,999.99,999.99,215.33,999.99,999.99,999.99,999.99,247.36,240.09,237.96,259.75,262.06]
["2012-06-02","239743889","CLARA","CAMUS CORREA","F","CAN","AS","U14","SI","2",999.99,999.99,999.99,999.99,999.99,999.99,999.99,999.99,999.99,999.99,999.99,999.99,999.99,931.9,619.29,545.92,615.87,999.99,999.99,999.99]
["2012-06-05","239758096","CRESCENTE","TUÑON SOTO","M","UC","AS","U14","SI","2",999.99,999.99,999.99,999.99,999.99,999.99,999.99,999.99,999.99,999.99,999.99,999.99,999.99,999.99,999.99,999.99,999.99,999.99,999.99,999.99]
["2012-06-12","239800572","IÑAKI","BASAURI  GARDILCIC","M","CORR","AS","U14","SI","2",145.59,999.99,999.99,999.99,999.99,121.06,261.93,999.99,999.99,999.99,377.16,999.99,999.99,999.99,999.99,999.99,999.99,415.07,999.99,999.99]
["2012-06-02","239811019","EMILIA","PEREZ OLMOS","F","LV","AS","U14","SI","2",136.02,999.99,999.99,999.99,999.99,127.94,266.9,999.99,999.99,999.99,332.12,999.99,999.99,999.99,999.99,999.99,999.99,248.21,999.99,999.99]
["2012-06-15","239854001","TEO","ATALAH BINFA","M","LV","AS","U14","SI","2",205.34,999.99,999.99,999.99,999.99,999.99,360.59,999.99,999.99,999.99,999.99,999.99,999.99,999.99,999.99,999.99,999.99,485.54,999.99,999.99]
["2012-03-19","239864716","PEDRO","RODRIGUEZ CASTRO","M","CVN","AS","U14","SI","2",999.99,254.29,227.17,999.99,999.99,999.99,999.99,999.99,999.99,999.99,999.99,999.99,999.99,263.34,999.99,204.82,219.61,999.99,285.38,218.14]
["2012-06-23","239909833","AGUSTIN","JARA ALVARADO","M","UC","AS","U14","SI","2",999.99,999.99,999.99,999.99,999.99,999.99,999.99,999.99,999.99,999.99,999.99,999.99,999.99,999.99,999.99,999.99,999.99,999.99,999.99,999.99]
["2012-07-02","240010763","JOSÉ","KRAUSE GUTIÉRREZ","M","CVN","AS","U14","SI","2",999.99,165.74,125.22,999.99,999.99,999.99,999.99,999.99,999.99,999.99,999.99,999.99,999.99,999.99,999.99,142.48,116.92,999.99,176.79,184.85]
["2012-06-28","240018462","PILAR","CLARO IRARRAZAVAL","F","UC","AS","U14","SI","2",999.99,999.99,136.54,999.99,999.99,999.99,999.99,999.99,999.99,999.99,999.99,999.99,999.99,999.99,999.99,236.08,232.57,999.99,999.99,999.99]
["2012-07-04","240101319","AMANDA","JONES ILLANES","F","CAN","AS","U14","SI","2",999.99,999.99,78.91,999.99,999.99,999.99,999.99,999.99,999.99,999.99,999.99,999.99,999.99,999.99,999.99,999.99,999.99,999.99,999.99,999.99]
["2012-07-18","240114283","BLANCA","PUIG GUTIERREZ","F","CAR","AS","U14","SI","2",999.99,999.99,999.99,999.99,999.99,151.09,253.19,999.99,999.99,999.99,245.8,999.99,999.99,999.99,999.99,999.99,999.99,242.81,999.99,999.99]
["2012-07-17","24019130K","VICENTE JAVIER","ACLE ASENJO","M","CSC","AS","U14","SI","2",999.99,999.99,999.99,999.99,999.99,999.99,282.44,999.99,999.99,999.99,999.99,999.99,999.99,999.99,999.99,999.99,999.99,362.03,999.99,999.99]
["2012-07-27","240208881","FRANCISCA","COSMELLI PIWONKA","F","UC","AS","U14","SI","2",999.99,116.97,107.01,999.99,999.99,999.99,999.99,999.99,999.99,999.99,999.99,999.99,999.99,999.99,999.99,999.99,999.99,999.99,999.99,999.99]
["2012-08-06","240321343","EMA ANTONIA","GARDA TIMMERMANN","F","CEC","AS","U14","SI","2",128.77,999.99,999.99,999.99,999.99,999.99,212.98,999.99,999.99,999.99,999.99,999.99,999.99,999.99,999.99,999.99,999.99,236.65,999.99,999.99]
["2012-08-09","240324194","VICTORIA","BORCHERT TOLEDO","F","POR","AS","U14","SI","2",999.99,293.81,999.99,999.99,999.99,999.99,999.99,999.99,999.99,999.99,999.99,278.52,999.99,419.9,356.95,420.09,391.86,999.99,999.99,999.99]
["2012-08-17","240385538","CLEMENTE","SILVA OSSIPOVICH","M","CVN","AS","U14","SI","2",999.99,999.99,95.61,999.99,999.99,999.99,999.99,999.99,999.99,999.99,999.99,999.99,999.99,140.1,80.77,71.5,81.75,999.99,83.02,87.34]
["2012-08-29","240505428","NICOLAS ","PEREZ CARDENAS","M","PAT","AS","U14","SI","2",999.99,999.99,999.99,999.99,197.72,999.99,999.99,234.55,999.99,227.46,999.99,999.99,999.99,999.99,999.99,999.99,999.99,999.99,999.99,999.99]
["2012-09-05","240575167","EMA","MURUA INFANTE","F","UC","AS","U14","SI","2",999.99,341.49,292.46,999.99,999.99,999.99,999.99,999.99,999.99,999.99,999.99,999.99,999.99,427.73,370.47,365.52,349.7,999.99,999.99,999.99]
["2012-08-06","240583348","IAN","STENGEL MORRIS","M","CSC","AS","U14","SI","2",999.99,999.99,999.99,999.99,999.99,999.99,999.99,999.99,999.99,999.99,999.99,999.99,999.99,999.99,999.99,999.99,999.99,999.99,999.99,999.99]
["2012-09-12","240631164","RAFFAELLA","MOTTO GRINSPUN","F","CAN","AS","U14","SI","2",999.99,255.95,229.73,999.99,999.99,999.99,999.99,999.99,999.99,999.99,999.99,999.99,999.99,287.1,999.99,318.62,999.99,999.99,380.15,350.51]
["2012-09-06","240631997","ANGEL","MARIN SOTO","M","PAT","AS","U14","SI","2",126.33,999.99,999.99,999.99,154.2,999.99,179.35,202.68,999.99,224.98,999.99,999.99,999.99,999.99,999.99,999.99,999.99,360.14,999.99,999.99]
["2012-09-23","240699540","SEBASTIAN","BASAURE VARGAS","M","UC","AS","U14","SI","2",999.99,107.07,114.26,999.99,999.99,999.99,999.99,999.99,999.99,999.99,999.99,999.99,999.99,74.47,87.17,194.51,999.99,999.99,122.97,110.78]
["2012-09-28","240776367","ELOISA","ROSENDE ZEGERS","F","LV","AS","U14","SI","2",169.64,999.99,999.99,999.99,999.99,999.99,265.41,999.99,999.99,999.99,237.73,999.99,999.99,999.99,999.99,999.99,999.99,303.58,999.99,999.99]
["2012-10-09","240845229","RAFAEL ","AYALA PEREZ","M","CAN","AS","U14","SI","2",999.99,999.99,138.08,999.99,999.99,999.99,999.99,999.99,999.99,999.99,999.99,999.99,999.99,308.8,999.99,258.06,257.12,999.99,999.99,999.99]
["2012-10-21","240953978","CARMEN","FLEISCHMANN KOSTER","F","CORR","AS","U14","SI","2",252.23,999.99,999.99,999.99,999.99,540.92,323.6,999.99,999.99,999.99,328.5,999.99,999.99,999.99,999.99,999.99,999.99,{"v":377.6,"d":"377.60"},999.99,999.99]
["2012-10-20","24095821K","SANTIAGO","MORALES FORMAS","M","UC","AS","U14","SI","2",999.99,322.96,288.04,999.99,999.99,999.99,999.99,999.99,999.99,999.99,999.99,999.99,999.99,479.44,516.34,365.96,394.5,999.99,511.66,457.46]
["2012-10-22","240962144","BERNARDITA","WINTER PINEDA","F","UC","AS","U14","SI","2",999.99,210.72,999.99,999.99,999.99,999.99,999.99,999.99,999.99,999.99,999.99,999.99,999.99,999.99,999.99,999.99,999.99,999.99,999.99,999.99]
["2012-10-24","24098105K","MARTINA","WILLEMSEN GALARCE","F","CAPA","AS","U14","SI","2",999.99,999.99,999.99,999.99,999.99,999.99,999.99,999.99,999.99,999.99,432.12,999.99,999.99,999.99,999.99,999.99,999.99,999.99,999.99,999.99]
["2012-10-26","240995360","DOMINGA","REINIKE DURAN","F","LV","AS","U14","SI","2",999.99,999.99,999.99,999.99,999.99,142.71,209.09,999.99,999.99,999.99,999.99,999.99,999.99,999.99,999.99,999.99,999.99,{"v":256.6,"d":"256.60"},999.99,999.99]
["2012-10-25","241014703","AGUSTIN","MILLAN KING","M","CAPA","AS","U14","SI","2",231.16,999.99,999.99,999.99,999.99,999.99,999.99,999.99,999.99,999.99,363.84,999.99,999.99,999.99,999.99,369.8,341.05,415.64,411.68,339.09]
["2012-10-29","241030326","LAWRENCE","WESTCOTT LEIBBRANDT","M","CLP","AS","U14","SI","2",999.99,999.99,999.99,999.99,999.99,999.99,999.99,999.99,999.99,999.99,999.99,137,999.99,177.54,114.99,999.99,102.62,999.99,205.01,163.29]
["2012-10-27","241086215","MADDALENA","CERONI YOB","F","CAO","AS","U14","SI","2",91.8,999.99,999.99,94.48,999.99,999.99,159.25,176.92,164.81,164.81,999.99,999.99,999.99,999.99,999.99,999.99,999.99,193.03,999.99,999.99]
["2012-11-11","241106004","ASUNCION","GARCIA OVALLE","F","UC","AS","U14","SI","2",999.99,999.99,167.07,999.99,999.99,999.99,999.99,999.99,999.99,999.99,999.99,999.99,999.99,231.84,190.67,260.44,212.28,999.99,191.38,216.61]
["2012-11-10","241121836","JAVIERA","QUEVEDO MONTAÑO","F","LV","AS","U14","SI","2",999.99,999.99,999.99,999.99,999.99,874.71,559.09,999.99,999.99,999.99,999.99,999.99,999.99,999.99,999.99,999.99,999.99,278.79,999.99,999.99]
["2012-11-21","241213900","DELFINA","ANGUITA AVILES","F","CAO","AS","U14","SI","2",93.5,999.99,999.99,105.25,999.99,999.99,137.38,144.94,152.73,152.73,999.99,999.99,999.99,999.99,999.99,132.13,127.97,172.52,199.67,183.48]
["2012-11-26","241242684","TOBÍAS","GROB ANGERMEYER","M","CAN","AS","U14","SI","2",999.99,166.93,127.2,999.99,999.99,999.99,999.99,999.99,999.99,999.99,999.99,999.99,999.99,153.96,999.99,110.35,84.56,999.99,186.83,175.01]
["2012-11-14","24124489K","SANTIAGO","CARVALLO TARICCO","M","POR","AS","U14","SI","2",999.99,999.99,999.99,999.99,999.99,999.99,999.99,999.99,999.99,999.99,338.37,999.99,999.99,999.99,999.99,999.99,999.99,999.99,999.99,999.99]
["2012-11-29","241284565","MATIAS","BARRIENTOS ENGLER","M","CAO","AS","U14","SI","2",190.35,999.99,999.99,999.99,190.42,999.99,999.99,237.61,999.99,228.07,999.99,999.99,999.99,999.99,999.99,999.99,999.99,387.41,999.99,999.99]
["2012-12-09","241342328","MARIA","BRICEÑO PURCELL","F","CLP","AS","U14","SI","2",999.99,104.6,87.69,999.99,999.99,999.99,999.99,999.99,999.99,999.99,999.99,110.13,101.81,97.62,106.94,115.22,108.14,999.99,137.12,136.68]
["2012-12-07","241351483","FACUNDO","MORAGA  CANTERINI","M","CAN","AS","U14","SI","2",999.99,999.99,172.79,999.99,999.99,999.99,999.99,999.99,999.99,999.99,999.99,999.99,999.99,170.24,216.44,173.65,150.91,999.99,234.43,999.99]
["2012-12-06","241361489","JULIETA","ESCUDERO ZARATE","F","CAPA","AS","U14","SI","2",999.99,999.99,999.99,999.99,999.99,999.99,999.99,999.99,999.99,999.99,529.81,999.99,999.99,999.99,999.99,448.73,402.8,999.99,999.99,999.99]
["2012-12-11","241446131","SIMONA","SÁNCHEZ GÓMEZ","F","POR","AS","U14","SI","2",999.99,414.66,999.99,999.99,999.99,999.99,999.99,999.99,999.99,999.99,999.99,433.6,485.69,999.99,999.99,999.99,999.99,999.99,999.99,999.99]
["2012-12-26","241484866","SARA","GALLEGUILLOS MIRANDA","F","CAPA","AS","U14","SI","2",117.26,999.99,999.99,999.99,999.99,82.77,204.46,999.99,999.99,999.99,165.41,999.99,999.99,999.99,999.99,196.17,153.03,218.38,188.46,215.49]
["2012-12-27","24149618K","JACINTA","LÓPEZ CHAMORRO","F","CEC","AS","U14","SI","2",255.71,999.99,999.99,999.99,999.99,999.99,484.24,999.99,999.99,999.99,366.06,999.99,999.99,455.23,424.31,999.99,999.99,516.12,483.06,417.23]
["2013-01-07","241587681","BENJAMIN","DIAZ FIGUEROA","M","CAR","AS","U14","SI","1",108.75,999.99,999.99,999.99,999.99,187.51,186.95,999.99,999.99,999.99,197.38,999.99,999.99,999.99,999.99,999.99,999.99,282.09,999.99,999.99]
["2013-01-02","241593223","STEPHAN KARL","LANDOLT HARRIS","M","CAPA","AS","U14","SI","1",999.99,999.99,999.99,999.99,999.99,999.99,999.99,999.99,999.99,999.99,999.99,999.99,999.99,999.99,999.99,999.99,999.99,999.99,999.99,999.99]
["2013-01-07","241608506","CRISTIAN","SWETT LAGO","M","CAO","AS","U14","SI","1",999.99,999.99,999.99,999.99,999.99,999.99,999.99,999.99,999.99,999.99,999.99,999.99,999.99,999.99,999.99,999.99,999.99,999.99,999.99,999.99]
["2013-01-07","241608786","TRINIDAD","SWETT LAGO","F","CAO","AS","U14","SI","1",999.99,999.99,999.99,999.99,999.99,999.99,999.99,999.99,999.99,999.99,999.99,999.99,999.99,999.99,999.99,999.99,999.99,999.99,999.99,999.99]
["2013-01-18","241684717","SOFÍA","SOLAR TURRILLAS","F","CVN","AS","U14","SI","1",999.99,999.99,999.99,999.99,999.99,999.99,999.99,999.99,999.99,999.99,999.99,999.99,999.99,999.99,999.99,999.99,999.99,999.99,999.99,999.99]
["2013-01-16","241684849","AMBAR","CARDENAS CONEJEROS","F","PAT","AS","U14","SI","1",999.99,999.99,999.99,232.83,999.99,999.99,999.99,316.08,314.3,314.3,999.99,999.99,999.99,999.99,999.99,999.99,999.99,999.99,999.99,999.99]
["2013-01-19","241702219","ANA ","MONTAGNON  FERNÁNDEZ","F","ARS","AS","U14","SI","1",999.99,209.21,160.13,999.99,999.99,999.99,999.99,999.99,999.99,999.99,999.99,999.99,999.99,999.99,245.22,170.24,218.66,999.99,208.19,231.84]
["2013-01-22","241716457","BORJA","CHAVEZ BAHAMONDES","M","ARS","AS","U14","SI","1",999.99,999.99,999.99,999.99,999.99,999.99,999.99,999.99,999.99,999.99,999.99,999.99,999.99,999.99,999.99,999.99,254.07,999.99,319.35,360.88]
["2013-01-27","241761185","ALEXANDER","ROJAS BUSTOS","M","UC","AS","U14","SI","1",999.99,999.99,999.99,999.99,999.99,999.99,999.99,999.99,999.99,999.99,999.99,999.99,999.99,124.79,158.82,232.64,188.89,999.99,999.99,999.99]
["2013-05-02","241853950","ZOE","MOLINARE OLMOS","F","LV","AS","U14","SI","1",215.51,999.99,999.99,999.99,999.99,486.59,333.23,999.99,999.99,999.99,329.49,999.99,999.99,999.99,999.99,999.99,999.99,282.89,999.99,999.99]
["2013-01-17","241893359","JUAN","UNDURRAGA URIBE","M","CLP","AS","U14","SI","1",999.99,999.99,168.04,999.99,999.99,999.99,999.99,999.99,999.99,999.99,999.99,107.92,137.44,200.14,116.72,165.02,999.99,999.99,350.21,239]
["2013-02-08","24189715K","BERNARDO","BRAVO RECCIUS","M","UC","AS","U14","SI","1",999.99,999.99,999.99,999.99,999.99,999.99,999.99,999.99,999.99,999.99,999.99,999.99,999.99,261.89,261.25,226.17,236.95,999.99,304.04,308.38]
["2013-02-17","241942392","DAMIÁN","CAREY RABY","M","CAN","AS","U14","SI","1",999.99,999.99,999.99,999.99,999.99,999.99,999.99,999.99,999.99,999.99,999.99,999.99,999.99,999.99,999.99,999.99,999.99,999.99,999.99,999.99]
["2013-02-17","241942643","ISMAEL","CAREY RABY","M","CAN","AS","U14","SI","1",999.99,999.99,999.99,999.99,999.99,999.99,999.99,999.99,999.99,999.99,999.99,999.99,999.99,999.99,999.99,999.99,999.99,999.99,999.99,999.99]
["2013-02-17","241972593","ALFONSO","DIAZ GHIRARDELLI","M","UC","AS","U14","SI","1",999.99,999.99,113.56,999.99,999.99,999.99,999.99,999.99,999.99,999.99,999.99,999.99,999.99,139.37,123.86,119.22,118.79,999.99,186.59,185.32]
["2013-02-27","242035445","FEDERICO","LABRA MARIN","M","CVN","AS","U14","SI","1",999.99,999.99,999.99,999.99,999.99,999.99,999.99,999.99,999.99,999.99,999.99,999.99,999.99,999.99,999.99,999.99,999.99,999.99,999.99,999.99]
["2013-03-02","242058496","ALONSO","VALDIVIA GARRIDO","M","POR","AS","U14","SI","1",999.99,999.99,999.99,999.99,999.99,999.99,999.99,999.99,999.99,999.99,999.99,451.52,454.89,999.99,999.99,339.11,345.27,999.99,999.99,430.97]
["2013-03-06","242099370","JULIETA","CEA INDA","F","LV","AS","U14","SI","1",165.26,999.99,999.99,999.99,999.99,498.54,360.65,999.99,999.99,999.99,203.3,999.99,999.99,999.99,999.99,999.99,999.99,251.19,999.99,999.99]
["2013-03-12","242204476","CAMILA","CONCHA NASSER","F","CLP","AS","U14","SI","1",999.99,139.54,128.51,999.99,999.99,999.99,999.99,999.99,999.99,999.99,999.99,207.3,217.22,180.38,173.35,153.55,158.73,999.99,212.68,237.88]
["2013-03-18","242210808","GONZALO","GARCIA MORAN","M","CLP","AS","U14","SI","1",999.99,999.99,999.99,999.99,999.99,999.99,999.99,999.99,999.99,999.99,999.99,147.56,182.56,176.08,174.09,180.37,182.33,999.99,299.5,259.62]
["2013-03-06","242213521","LUZ","CASTRO GONZALEZ","F","ARS","AS","U14","SI","1",999.99,187.59,999.99,999.99,999.99,999.99,999.99,999.99,999.99,999.99,999.99,999.99,999.99,325.52,227.43,143.63,187.44,999.99,178.6,167.35]
["2013-03-21","24224897K","AMPARO","LIVINGSTON DELARD","F","CAPA","AS","U14","SI","1",999.99,999.99,999.99,999.99,999.99,528.36,999.99,999.99,999.99,999.99,421.25,999.99,999.99,999.99,999.99,999.99,999.99,999.99,999.99,999.99]
["2013-03-24","242269241","JOSEFA","HOWARD DONOSO","F","CLP","AS","U14","SI","1",999.99,427.5,322.83,999.99,999.99,999.99,999.99,999.99,999.99,999.99,999.99,588.36,557.35,778.94,621.19,999.99,999.99,999.99,999.99,999.99]
["2013-03-27","24233695K","FRANCISCA","GANDARA RODILLO ","F","CAN","AS","U14","SI","1",999.99,177.3,999.99,999.99,999.99,999.99,999.99,999.99,999.99,999.99,999.99,999.99,999.99,377.21,254.71,188.5,189.04,999.99,278.81,261.17]
["2013-03-23","242358082","CAMILA","MANQUE GUERRA","F","UC","AS","U14","SI","1",999.99,999.99,999.99,999.99,999.99,999.99,999.99,999.99,999.99,999.99,999.99,999.99,999.99,999.99,999.99,999.99,999.99,999.99,999.99,999.99]
["2013-08-04","242410343","ZOE","SCHNEIDER SCHNEIDER","F","CAN","AS","U14","SI","1",999.99,181.46,999.99,999.99,999.99,999.99,999.99,999.99,999.99,999.99,999.99,999.99,999.99,234.93,200.87,177.68,188.81,999.99,194.74,200.04]
["2013-04-21","242507606","MARÍA IGNACIA","HADAD AGUIRRE","F","POR","AS","U14","SI","1",999.99,999.99,125.58,999.99,999.99,999.99,999.99,999.99,999.99,999.99,999.99,128.95,999.99,173.98,165.52,999.99,999.99,999.99,217.38,205.87]
["2013-04-20","242512391","MATHIAS","LINNEBERG CARRETERO","M","CLP","AS","U14","SI","1",999.99,999.99,999.99,999.99,999.99,999.99,999.99,999.99,999.99,999.99,999.99,999.99,120.34,139.86,160.3,93.56,107.54,999.99,185.88,149.69]
["2012-08-01","242549562","VICENTE SEBASTIAN","ROBLES URIBE","M","CAN","AS","U14","SI","2",999.99,453.07,999.99,999.99,999.99,999.99,999.99,999.99,999.99,999.99,999.99,999.99,999.99,999.99,999.99,999.99,332.84,999.99,999.99,999.99]
["2012-08-10","242574125","ANTONIO","TORRETTI ZAIDAN","M","CAN","AS","U14","SI","2",999.99,303.27,264.47,999.99,999.99,999.99,999.99,999.99,999.99,999.99,999.99,999.99,999.99,285.22,284.64,298.58,279.62,999.99,324.85,325.26]
["2013-04-23","242595858","JAVIER","DARRAIDOU LERIA","M","CLP","AS","U14","SI","1",999.99,999.99,230.8,999.99,999.99,999.99,999.99,999.99,999.99,999.99,999.99,170.3,174.74,999.99,203.63,194.75,165.45,999.99,251.66,277.67]
["2013-04-24","242596816","MAX ","RODRIGUEZ SANDOVAL","M","CEC","AS","U14","SI","1",999.99,999.99,999.99,999.99,999.99,999.99,999.99,999.99,999.99,999.99,999.99,999.99,999.99,999.99,999.99,999.99,999.99,999.99,999.99,999.99]
["2013-04-18","24259925K","MAGDALENA","DERPSCH  OLATE","F","CORR","AS","U14","SI","1",176.71,999.99,999.99,999.99,999.99,999.99,290.24,999.99,999.99,999.99,999.99,999.99,999.99,999.99,999.99,999.99,999.99,305.45,999.99,999.99]
["2013-05-09","242731921","AMELIA FLORENCIA","SUTTER  MARQUEZ","F","CORR","AS","U14","SI","1",143.15,999.99,999.99,999.99,999.99,156.08,241.51,999.99,999.99,999.99,234.76,999.99,999.99,999.99,999.99,999.99,999.99,242.99,999.99,999.99]
["2013-09-05","242885414","MATILDE","RIVERA DEL CAMPO","F","ARS","AS","U14","SI","1",999.99,287.2,240.68,999.99,999.99,999.99,999.99,999.99,999.99,999.99,999.99,999.99,999.99,435.55,316.15,264.72,306.63,999.99,318.95,305.28]
["2013-05-29","242898788","NICOLÁS","MORENO CORBO","M","CAN","AS","U14","SI","1",999.99,999.99,999.99,999.99,999.99,999.99,999.99,999.99,999.99,999.99,999.99,999.99,999.99,243.9,205.6,272.21,209.76,999.99,999.99,999.99]
["2013-05-10","242935659","MARGARITA","ACUÑA BARROS","F","UC","AS","U14","SI","1",999.99,180.13,166.91,999.99,999.99,999.99,999.99,999.99,999.99,999.99,999.99,999.99,999.99,224.73,152.72,124.01,148.93,999.99,999.99,999.99]
["2013-06-01","242956451","JOSÉ TOMÁS","AGUILERA ALLENDE","M","POR","AS","U14","SI","1",999.99,999.99,999.99,999.99,999.99,999.99,999.99,999.99,999.99,999.99,550.69,568.81,619.72,999.99,999.99,999.99,999.99,999.99,999.99,999.99]
["2013-06-03","242967526","ALICIA","LANDGREN DELPIANO","F","CAN","AS","U14","SI","1",999.99,999.99,999.99,999.99,999.99,999.99,999.99,999.99,999.99,999.99,999.99,999.99,999.99,999.99,999.99,356.5,483.47,999.99,999.99,999.99]
["2013-06-12","243013437","BAUTISTA","CID SANTA MARIA","M","UC","AS","U14","SI","1",999.99,375.8,362.97,999.99,999.99,999.99,999.99,999.99,999.99,999.99,999.99,999.99,999.99,743.67,619.75,511.04,441.16,999.99,999.99,999.99]
["2013-06-13","243021383","ALBERTO","GALILEA NANNIG","M","CAO","AS","U14","SI","1",169.05,999.99,999.99,999.99,154.07,999.99,238.23,205.54,999.99,228.9,999.99,999.99,999.99,999.99,999.99,999.99,999.99,401.81,999.99,999.99]
["2013-06-06","243052513","CRISTOBAL","IZQUIERDO SANTULLO","M","UC","AS","U14","SI","1",999.99,999.99,122.89,999.99,999.99,999.99,999.99,999.99,999.99,999.99,999.99,999.99,999.99,157.85,157.84,999.99,120.67,999.99,203.34,216.49]
["2013-06-16","243053285","IGNACIO","VERGARA SÁNCHEZ","M","POR","AS","U14","SI","1",999.99,999.99,999.99,999.99,999.99,999.99,999.99,999.99,999.99,999.99,350.34,999.99,999.99,999.99,999.99,999.99,999.99,999.99,999.99,999.99]
["2013-06-20","243106907","ELISA","LARACH LLORENTE","F","CAN","AS","U14","SI","1",999.99,204.3,220.78,999.99,999.99,999.99,999.99,999.99,999.99,999.99,999.99,999.99,999.99,999.99,999.99,259.76,304.35,999.99,999.99,999.99]
["2013-06-26","243157323","ISABEL","MUÑOZ  QUINTANA","F","CORR","AS","U14","SI","1",167.45,999.99,999.99,999.99,999.99,999.99,303.58,999.99,999.99,999.99,294.56,999.99,999.99,999.99,999.99,999.99,999.99,328.19,999.99,999.99]
["2013-06-29","24319749K","FILIPA","PEREZ MULLER","F","CLP","AS","U14","SI","1",999.99,999.99,163.81,999.99,999.99,999.99,999.99,999.99,999.99,999.99,999.99,999.99,999.99,999.99,999.99,999.99,999.99,999.99,287.11,272.36]
["2013-06-28","243218691","CONSTANZA","MISLEJ LÓPEZ","F","CVN","AS","U14","SI","1",999.99,999.99,999.99,999.99,999.99,999.99,999.99,999.99,999.99,999.99,999.99,999.99,999.99,999.99,999.99,999.99,999.99,999.99,999.99,999.99]
["2013-07-04","243224055","MARA","GIRALT BERNHARDT","F","CAO","AS","U14","SI","1",177.32,999.99,999.99,207.75,999.99,999.99,308.77,263.79,274.18,274.18,999.99,999.99,999.99,999.99,999.99,999.99,999.99,314.21,999.99,999.99]
["2013-07-17","243331714","LUCIANO IGNACIO","CALDERA ALMONACID","M","CEC","AS","U14","SI","1",119.77,999.99,999.99,999.99,999.99,509.21,999.99,999.99,999.99,999.99,186.09,999.99,999.99,999.99,999.99,147.99,174.59,355.02,190.9,207.45]
["2013-07-23","243393639","CAROLINA","LEÓN VALDERRAMA","F","CLP","AS","U14","SI","1",999.99,304.38,999.99,999.99,999.99,999.99,999.99,999.99,999.99,999.99,999.99,999.99,322.56,325.99,335.36,289.98,297.51,999.99,999.99,999.99]
["2013-07-26","243450373","BENITO ","COX GUERRA","M","CORR","AS","U14","SI","1",999.99,999.99,999.99,999.99,999.99,999.99,999.99,999.99,999.99,999.99,999.99,999.99,999.99,999.99,999.99,999.99,999.99,768.93,999.99,999.99]
["2013-08-08","243555817","MATHIAS","PRADO AUERSPERG","M","UC","AS","U14","SI","1",999.99,408.35,384.21,999.99,999.99,999.99,999.99,999.99,999.99,999.99,999.99,999.99,999.99,999.99,999.99,999.99,999.99,999.99,999.99,999.99]
["2013-08-06","24361774K","LUCÍA","PRIETO  CRUZ","F","CLP","AS","U14","SI","1",999.99,999.99,999.99,999.99,999.99,999.99,999.99,999.99,999.99,999.99,999.99,999.99,999.99,999.99,999.99,999.99,999.99,999.99,999.99,999.99]
["2013-08-09","243621887","FACUNDO EDUARDO ","OLIVA  MENDEZ","M","CEC","AS","U14","SI","1",215,999.99,999.99,999.99,999.99,999.99,378.8,999.99,999.99,999.99,310.88,999.99,999.99,999.99,999.99,999.99,999.99,610.18,999.99,999.99]
["2013-08-22","243688604","BENITO","MORAL GARCÍA","M","ARS","AS","U14","SI","1",999.99,999.99,999.99,999.99,999.99,999.99,999.99,999.99,999.99,999.99,999.99,999.99,999.99,999.99,999.99,999.99,999.99,999.99,999.99,999.99]
["2013-09-26","243854660","LILY","SERANI LESSER","F","CLP","AS","U14","SI","1",999.99,315.81,244.62,999.99,999.99,999.99,999.99,999.99,999.99,999.99,999.99,999.99,999.99,999.99,503.3,282.08,303.89,999.99,432.84,374.69]
["2013-09-25","243879124","MARÍA GRACIA","URRUTICOECHEA ROBINSON","F","CLP","AS","U14","SI","1",999.99,432.41,324.33,999.99,999.99,999.99,999.99,999.99,999.99,999.99,999.99,477.73,509.8,465.43,445.66,360.78,360.41,999.99,423.42,400.88]
["2013-09-10","243951976","GUADALUPE","IZQUIERDO BOETSCH","F","UC","AS","U14","SI","1",999.99,999.99,999.99,999.99,999.99,999.99,999.99,999.99,999.99,999.99,999.99,999.99,999.99,999.99,223.64,225.03,236.67,999.99,292.49,999.99]
["2013-10-04","243993334","PEDRO PABLO","OCAMPO ZUMELZU","M","CSC","AS","U14","SI","1",999.99,999.99,999.99,999.99,999.99,999.99,388.71,999.99,999.99,999.99,999.99,999.99,999.99,999.99,999.99,999.99,999.99,500.88,999.99,999.99]
["2013-09-15","243994829","JOSEFA","SANCHEZ HOCHSCHILD","F","CLP","AS","U14","SI","1",999.99,999.99,999.99,999.99,999.99,999.99,999.99,999.99,999.99,999.99,999.99,999.99,999.99,999.99,999.99,999.99,999.99,999.99,999.99,999.99]
["2013-09-02","243998468","JUANITA MARÍA","VELIZ LEÓN","F","CLP","AS","U14","SI","1",999.99,254.06,999.99,999.99,999.99,999.99,999.99,999.99,999.99,999.99,999.99,999.99,999.99,234.69,999.99,999.99,999.99,999.99,260.67,244.15]
["2013-09-16","24400105K","JOSÉ TOMÁS","JABAT CROQUEVIELLE","M","ARS","AS","U14","SI","1",999.99,226.79,230.63,999.99,999.99,999.99,999.99,999.99,999.99,999.99,999.99,999.99,999.99,275.25,215.45,233.36,232.03,999.99,269.12,298.53]
["2013-10-02","244049249","LUCIA","COSMELLI PIWONKA","F","UC","AS","U14","SI","1",999.99,999.99,999.99,999.99,999.99,999.99,999.99,999.99,999.99,999.99,999.99,999.99,999.99,999.99,999.99,999.99,999.99,999.99,999.99,999.99]
["2013-08-23","244063179","MATILDE","EULUFI BENAVIDES","F","ARS","AS","U14","SI","1",999.99,999.99,999.99,999.99,999.99,999.99,999.99,999.99,999.99,999.99,999.99,999.99,999.99,491.04,293.38,249.61,253.99,999.99,175.23,213.25]
["2013-09-11","244073166","MATILDA AMALIA","TORRES RETI","F","CAN","AS","U14","SI","1",999.99,123.86,136.46,999.99,999.99,999.99,999.99,999.99,999.99,999.99,999.99,999.99,999.99,236.11,207.98,999.99,999.99,999.99,999.99,999.99]
["2013-10-22","244288707","KAMAL","HADAD MOREL","M","POR","AS","U14","SI","1",999.99,999.99,999.99,999.99,999.99,999.99,999.99,999.99,999.99,999.99,471.6,555.98,547.08,999.99,999.99,999.99,999.99,999.99,999.99,999.99]
["2013-10-28","244302939","CRISTOBAL","BRISEÑO  MUENCKE ","M","CAN","AS","U14","SI","1",999.99,309.01,306.17,999.99,999.99,999.99,999.99,999.99,999.99,999.99,999.99,999.99,999.99,530.98,485.31,350.38,342.92,999.99,999.99,999.99]
["2013-10-25","244342272","GABRIELA","PRAT KOENEKAMP","F","CAO","AS","U14","SI","1",234.75,999.99,999.99,999.99,999.99,999.99,331.56,999.99,999.99,999.99,999.99,999.99,999.99,999.99,999.99,999.99,999.99,338.45,999.99,999.99]
["2013-11-14","244539653","PABLO","GUTIERREZ RAMSAY","M","CAO","AS","U14","SI","1",999.99,999.99,999.99,999.99,179.86,999.99,999.99,235.77,999.99,203.35,999.99,999.99,999.99,999.99,999.99,252.78,262.74,373.02,354.27,296.66]
["2013-11-15","244548237","AMALIA","HOLZAPFEL KAUFMANN","F","CAO","AS","U14","SI","1",999.99,999.99,999.99,999.99,999.99,999.99,999.99,999.99,999.99,999.99,999.99,999.99,999.99,999.99,999.99,999.99,999.99,999.99,999.99,999.99]
["2013-11-17","244564275","VIOLETA","MARÍN PAICE","F","CAPA","AS","U14","SI","1",999.99,999.99,999.99,999.99,999.99,118.66,999.99,999.99,999.99,999.99,211.37,999.99,999.99,999.99,999.99,201.36,224.82,999.99,223.66,219.97]
["2013-11-26","244637272","CRISTOBAL ENRIQUE","TAPIA MARDONES","M","CSC","AS","U14","SI","1",256.67,999.99,999.99,999.99,999.99,999.99,999.99,999.99,999.99,999.99,999.99,999.99,999.99,999.99,999.99,999.99,999.99,999.99,999.99,999.99]
["2013-11-23","24465536K","DANIEL","MARTINEZ ARAVENA","M","UC","AS","U14","SI","1",999.99,459.21,393.27,999.99,999.99,999.99,999.99,999.99,999.99,999.99,999.99,999.99,999.99,488.68,469.55,517.03,448.19,999.99,999.99,999.99]
["2013-11-26","244698476","MAIKE","OPITZ SEIDL","F","CAO","AS","U14","SI","1",207.41,999.99,999.99,227.79,999.99,999.99,330.08,312.84,269.65,269.65,999.99,999.99,999.99,999.99,999.99,999.99,999.99,370.88,999.99,999.99]
["2013-11-26","244705170","LAURA","HEISE KUNSTMANN","F","CORR","AS","U14","SI","1",314.61,999.99,999.99,999.99,999.99,999.99,429.02,999.99,999.99,999.99,999.99,999.99,999.99,999.99,999.99,999.99,999.99,427.93,999.99,999.99]
["2013-11-20","244763421","TOMAS","BEAOIN LANGER","M","CAN","AS","U14","SI","1",999.99,999.99,999.99,999.99,999.99,999.99,999.99,999.99,999.99,999.99,999.99,999.99,999.99,999.99,999.99,999.99,999.99,999.99,999.99,999.99]
["2013-12-14","244828949","MARÍA CECILIA","FUENZALIDA IRARRAZABAL","F","CLP","AS","U14","SI","1",999.99,999.99,999.99,999.99,999.99,999.99,999.99,999.99,999.99,999.99,999.99,999.99,999.99,401.17,222.69,999.99,230.97,999.99,999.99,999.99]
["2013-12-20","244876641","RAFAELA JESUS","GONZÁLEZ  LÓPEZ ","F","CEC","AS","U14","SI","1",302.24,999.99,999.99,999.99,999.99,999.99,358.06,999.99,999.99,999.99,999.99,999.99,999.99,999.99,999.99,999.99,999.99,374.43,999.99,999.99]
["2013-12-22","24489111K","MATEO","BARROS ALCALDE","M","UC","AS","U14","SI","1",999.99,338.1,279.06,999.99,999.99,999.99,999.99,999.99,999.99,999.99,999.99,999.99,999.99,300.78,281.19,999.99,999.99,999.99,999.99,465.19]
["2011-04-26","24489767B","TOMÁS","DUEÑAS SUÁREZ","M","ARS","AS","U16","SI","1",999.99,999.99,999.99,999.99,999.99,999.99,999.99,999.99,999.99,999.99,999.99,999.99,999.99,117.78,999.99,999.99,999.99,999.99,999.99,999.99]
["2013-12-28","244931146","ELISA","GAZMURI PIEDRA","F","CEC","AS","U14","SI","1",999.99,999.99,999.99,999.99,999.99,999.99,999.99,999.99,999.99,999.99,999.99,999.99,999.99,999.99,999.99,999.99,999.99,999.99,999.99,999.99]
["2012-04-24","24934138K","MIA ","DIETRICH CHOCANO","F","CAN","AS","U14","SI","2",999.99,342.62,999.99,999.99,999.99,999.99,999.99,999.99,999.99,999.99,999.99,999.99,999.99,579.26,437.12,334.85,391.18,999.99,999.99,340.21]
["2013-01-25","250985398","SOFIA","FONFACH  STOLZENBACH","F","CORR","AS","U14","SI","1",275.99,999.99,999.99,999.99,999.99,860.2,482.02,999.99,999.99,999.99,396.7,999.99,999.99,999.99,999.99,999.99,999.99,456.83,999.99,999.99]
["2010-03-02","25627271G","FRANCESC","DE VILLASANTE PASCUAL ","M","ARS","AS","U16","SI","2",999.99,74.07,999.99,999.99,999.99,999.99,999.99,999.99,999.99,999.99,999.99,999.99,999.99,999.99,999.99,999.99,999.99,999.99,999.99,999.99]
["2012-09-18","257771806","LAURA","PUENTE YANKOVIC","F","CAN","AS","U14","SI","2",999.99,999.99,47.62,999.99,999.99,999.99,999.99,999.99,999.99,999.99,999.99,94.72,86.78,103.07,99.82,82.52,89.68,999.99,107.75,107.35]
["2012-09-24","28347884K","LUCAS","ALMEIDA KÜHL","M","ARS","AS","U14","SI","2",999.99,999.99,999.99,999.99,999.99,999.99,999.99,999.99,999.99,999.99,999.99,999.99,999.99,999.99,999.99,999.99,999.99,999.99,999.99,999.99]
["2012-07-12","54328052M","ALEX","BORDA SANTAMARÍA","M","ARS","AS","U14","SI","2",999.99,99.25,105.19,999.99,999.99,999.99,999.99,999.99,999.99,999.99,999.99,999.99,999.99,186.04,159.81,999.99,999.99,999.99,999.99,999.99]
["2011-08-03","669187360","YAEL","LANZKOWSKY ","F","CVN","AS","U16","SI","1",999.99,80.77,999.99,999.99,999.99,999.99,999.99,999.99,999.99,999.99,999.99,999.99,999.99,999.99,999.99,999.99,999.99,999.99,999.99,999.99]
["2013-05-10","671566198","VICENZO","MASTTRIOANNI MASTRIOANNI","M","ARS","AS","U14","SI","1",999.99,999.99,129.45,999.99,999.99,999.99,999.99,999.99,999.99,999.99,999.99,999.99,999.99,999.99,999.99,999.99,999.99,999.99,999.99,999.99]
["2013-05-03","674320143","VICTORIA","DUGAS ","F","CORR","AS","U14","SI","1",157.22,999.99,999.99,999.99,999.99,999.99,232.62,999.99,999.99,999.99,999.99,999.99,999.99,999.99,999.99,999.99,999.99,292.77,999.99,999.99]
["2010-09-27","678083616","DASH","HAMILTON HAMILTON","M","ARS","AS","U16","SI","2",999.99,83.52,92.13,999.99,999.99,999.99,999.99,999.99,999.99,999.99,999.99,999.99,999.99,999.99,999.99,999.99,999.99,999.99,999.99,999.99]
["2010-09-27","678083617","POPPY","HAMILTON HAMILTON","F","ARS","AS","U16","SI","2",999.99,102.28,74.17,999.99,999.99,999.99,999.99,999.99,999.99,999.99,999.99,999.99,999.99,999.99,999.99,999.99,999.99,999.99,999.99,999.99]
["2012-04-04","680353783","LILA","MULLIN MULLIN","F","ARS","AS","U14","SI","2",999.99,999.99,189.99,999.99,999.99,999.99,999.99,999.99,999.99,999.99,999.99,999.99,999.99,999.99,999.99,999.99,999.99,999.99,999.99,999.99]
["2011-05-18","A03673618","GRIFFIN","PEELE PEELE","M","ARS","AS","U16","SI","1",999.99,154.93,140.23,999.99,999.99,999.99,999.99,999.99,999.99,999.99,999.99,999.99,999.99,999.99,999.99,999.99,999.99,999.99,999.99,999.99]
["2012-07-07","A03834997","JACK","STRAZIK ","M","CORR","AS","U14","SI","2",300.44,999.99,999.99,999.99,999.99,999.99,387.47,999.99,999.99,999.99,999.99,999.99,999.99,999.99,999.99,999.99,999.99,511.87,999.99,999.99]
["2011-11-20","A05373389","FELIPE","CRESPO RODRÍGUEZ","M","CLP","AS","U16","SI","1",999.99,176.29,160.22,999.99,999.99,999.99,999.99,999.99,999.99,999.99,999.99,999.99,999.99,999.99,999.99,999.99,999.99,999.99,999.99,999.99]
["2012-04-11","A07024773","CHARLIE","BROWN BROWN","M","ARS","AS","U14","SI","2",999.99,47.9,56.76,999.99,999.99,999.99,999.99,999.99,999.99,999.99,999.99,999.99,999.99,999.99,999.99,999.99,999.99,999.99,999.99,999.99]
["2013-03-12","A09434147","EREN","EKICI EKICI","M","ARS","AS","U14","SI","1",999.99,999.99,999.99,999.99,999.99,999.99,999.99,999.99,999.99,999.99,999.99,999.99,999.99,999.99,999.99,999.99,999.99,999.99,999.99,999.99]
["2012-09-14","A27377250","AURORA","KACZMAREK HILL","F","UC","AS","U14","SI","2",999.99,48.24,46.62,999.99,999.99,999.99,999.99,999.99,999.99,999.99,999.99,999.99,999.99,999.99,999.99,999.99,999.99,999.99,999.99,999.99]
["2010-09-21","A39357053","NICHOLAS ","DAME ","M","CORR","AS","U16","SI","2",128.74,999.99,999.99,999.99,999.99,999.99,136.51,999.99,999.99,999.99,999.99,999.99,999.99,999.99,999.99,999.99,999.99,999.99,999.99,999.99]
["2013-09-01","A39357054","KAYLEI ","DAME ","F","CORR","AS","U14","SI","1",198.88,999.99,999.99,999.99,999.99,999.99,307.85,999.99,999.99,999.99,999.99,999.99,999.99,999.99,999.99,999.99,999.99,334.16,999.99,999.99]
["2013-09-18","A43190971","HAYDEN","HO ","F","CVN","AS","U14","SI","1",999.99,999.99,999.99,999.99,999.99,999.99,999.99,999.99,999.99,999.99,999.99,999.99,999.99,999.99,999.99,999.99,999.99,999.99,999.99,999.99]
["2013-09-14","A44229179","DAVID","BRAUNSTEIN BRAUNSTEIN","M","ARS","AS","U14","SI","1",999.99,999.99,383,999.99,999.99,999.99,999.99,999.99,999.99,999.99,999.99,999.99,999.99,999.99,999.99,999.99,999.99,999.99,999.99,999.99]
["2010-10-10","A48936212","KOBI","BREGMAN BREGMAN","M","ARS","AS","U16","SI","2",999.99,999.99,999.99,999.99,999.99,999.99,999.99,999.99,999.99,999.99,999.99,999.99,999.99,999.99,999.99,999.99,999.99,999.99,999.99,999.99]
["2012-12-06","A60982609","JAXON","KELSAY ","M","UC","AS","U14","SI","2",999.99,88.17,90,999.99,999.99,999.99,999.99,999.99,999.99,999.99,999.99,999.99,999.99,999.99,999.99,999.99,999.99,999.99,999.99,999.99]
["2013-06-11","A61548329","BLAKE","CULLMANN CULLMANN","M","ARS","AS","U14","SI","1",999.99,119.53,999.99,999.99,999.99,999.99,999.99,999.99,999.99,999.99,999.99,999.99,999.99,999.99,999.99,999.99,999.99,999.99,999.99,999.99]
["2011-01-01","AL182239","YASMEEN ","KAUKAB ","F","CVN","AS","U16","SI","1",999.99,999.99,999.99,999.99,999.99,999.99,999.99,999.99,999.99,999.99,999.99,999.99,999.99,999.99,999.99,999.99,999.99,999.99,999.99,999.99]
["2012-10-23","AL182241","FARAH ","KAUKAB ","M","CVN","AS","U14","SI","2",999.99,999.99,999.99,999.99,999.99,999.99,999.99,999.99,999.99,999.99,999.99,999.99,999.99,999.99,999.99,999.99,999.99,999.99,999.99,999.99]
["2010-08-02","PAM179112","MARIO","DE LA CRUZ MARTIN","M","CVN","AS","U16","SI","2",999.99,999.99,999.99,999.99,999.99,999.99,999.99,999.99,999.99,999.99,999.99,999.99,999.99,999.99,999.99,999.99,116.55,999.99,157.75,152.73]
["2010-11-30","PAT792445","MARTINA","CASTRO VIAENE","F","CVN","AS","U16","SI","2",999.99,999.99,999.99,999.99,999.99,999.99,999.99,999.99,999.99,999.99,999.99,999.99,999.99,999.99,999.99,999.99,999.99,999.99,999.99,78.21]
["2011-02-26","PAU403815","MARTINA","TORRAS CASTELLS","F","ARS","AS","U16","SI","1",999.99,102.79,999.99,999.99,999.99,999.99,999.99,999.99,999.99,999.99,999.99,999.99,999.99,999.99,999.99,999.99,999.99,999.99,999.99,999.99]
["2010-01-01","21768421W","JOAN","TARRAGA ESTEBAN","M","ARS","AS","U16","NO","2",999.99,999.99,999.99,999.99,999.99,999.99,999.99,999.99,999.99,999.99,999.99,999.99,999.99,999.99,999.99,999.99,999.99,999.99,999.99,999.99]
["2011-08-20","22600443","ERIC","YUXIANG DANG","M","CVN","AS","U16","NO","1",999.99,999.99,999.99,999.99,999.99,999.99,999.99,999.99,999.99,999.99,999.99,999.99,999.99,999.99,999.99,999.99,999.99,999.99,999.99,999.99]
["2010-05-01","232169583","IGNACIO JAVIER","CORVALÁN PEDRAZA","M","CVN","AS","U16","NO","2",999.99,999.99,999.99,999.99,999.99,999.99,999.99,999.99,999.99,999.99,999.99,999.99,999.99,999.99,999.99,999.99,999.99,999.99,999.99,999.99]
["2010-03-24","232800186","MARTINA","MUÑOZ GOMEZ","F","CAR","AS","U16","NO","2",999.99,999.99,999.99,999.99,999.99,999.99,999.99,999.99,999.99,999.99,999.99,999.99,999.99,999.99,999.99,999.99,999.99,999.99,999.99,999.99]
["2010-03-27","232842075","DIEGO","SANCHEZ HOCHSCHILD","M","CLP","AS","U16","NO","2",999.99,999.99,999.99,999.99,999.99,999.99,999.99,999.99,999.99,999.99,999.99,999.99,999.99,999.99,999.99,999.99,999.99,999.99,999.99,999.99]
["2010-05-14","233287393","BRUNA","DE ROSSETTI FAINE","F","CLP","AS","U16","NO","2",999.99,999.99,999.99,999.99,999.99,999.99,999.99,999.99,999.99,999.99,999.99,999.99,999.99,999.99,999.99,999.99,999.99,999.99,999.99,999.99]
["2010-06-10","233466808","DIEGO","MORENO CORBO","M","CAN","AS","U16","NO","2",999.99,999.99,999.99,999.99,999.99,999.99,999.99,999.99,999.99,999.99,999.99,999.99,999.99,999.99,999.99,999.99,999.99,999.99,999.99,999.99]
["2010-06-22","233553921","ANTONIO","VALDES ALTUZARRA","M","CLP","AS","U16","NO","2",999.99,999.99,999.99,999.99,999.99,999.99,999.99,999.99,999.99,999.99,999.99,999.99,999.99,999.99,999.99,999.99,999.99,999.99,999.99,999.99]
["2010-07-02","233625663","TOMAS","ALFONSIN VALLI","M","CAN","AS","U16","NO","2",999.99,999.99,999.99,999.99,999.99,999.99,999.99,999.99,999.99,999.99,999.99,999.99,999.99,999.99,999.99,999.99,999.99,999.99,999.99,999.99]
["2010-09-28","234353284","GASPAR","VARGAS LUBBERT","M","CVN","AS","U16","NO","2",999.99,999.99,999.99,999.99,999.99,999.99,999.99,999.99,999.99,999.99,999.99,999.99,999.99,999.99,999.99,999.99,999.99,999.99,999.99,999.99]
["2010-09-13","234440845","GASTON ALFONSO","LOPEZ BORAGK","M","CVN","AS","U16","NO","2",999.99,999.99,999.99,999.99,999.99,999.99,999.99,999.99,999.99,999.99,999.99,999.99,999.99,999.99,999.99,999.99,999.99,999.99,999.99,999.99]
["2010-10-14","234801651","ATILIO","COSMELLI PIWONKA","M","UC","AS","U16","NO","2",999.99,999.99,999.99,999.99,999.99,999.99,999.99,999.99,999.99,999.99,999.99,999.99,999.99,999.99,999.99,999.99,999.99,999.99,999.99,999.99]
["2010-11-24","234872818","JORGE","MISLEJ LOPEZ","M","CVN","AS","U16","NO","2",999.99,999.99,999.99,999.99,999.99,999.99,999.99,999.99,999.99,999.99,999.99,999.99,999.99,999.99,999.99,999.99,999.99,999.99,999.99,999.99]
["2010-12-07","234957791","MARTINA","SILVA DURAN","F","CORR","AS","U16","NO","2",999.99,999.99,999.99,999.99,999.99,999.99,999.99,999.99,999.99,999.99,999.99,999.99,999.99,999.99,999.99,999.99,999.99,999.99,999.99,999.99]
["2011-01-12","235309572","EMMA","HOLZAPFEL KAUFMANN","F","CAO","AS","U16","NO","1",999.99,999.99,999.99,999.99,999.99,999.99,999.99,999.99,999.99,999.99,999.99,999.99,999.99,999.99,999.99,999.99,999.99,999.99,999.99,999.99]
["2011-01-20","23538163K","MATILDE","QUIROGA AZOCAR","F","CEC","AS","U16","NO","1",999.99,999.99,999.99,999.99,999.99,999.99,999.99,999.99,999.99,999.99,999.99,999.99,999.99,999.99,999.99,999.99,999.99,999.99,999.99,999.99]
["2011-01-20","23538423K","MATEO SIMÓN","HENRÍQUEZ LUBASCHER","M","CORR","AS","U16","NO","1",999.99,999.99,999.99,999.99,999.99,999.99,999.99,999.99,999.99,999.99,999.99,999.99,999.99,999.99,999.99,999.99,999.99,999.99,999.99,999.99]
["2011-02-04","235511371","MANUEL IGNACIO","CELIS CAMPANO","M","CEC","AS","U16","NO","1",999.99,999.99,999.99,999.99,999.99,999.99,999.99,999.99,999.99,999.99,999.99,999.99,999.99,999.99,999.99,999.99,999.99,999.99,999.99,999.99]
["2011-02-13","235575655","ALAN","FISCHMAN BUTELMANN","M","CAN","AS","U16","NO","1",999.99,999.99,999.99,999.99,999.99,999.99,999.99,999.99,999.99,999.99,999.99,999.99,999.99,999.99,999.99,999.99,999.99,999.99,999.99,999.99]
["2011-02-15","235761785","ELOISA","PRIETO CRUZ","F","CLP","AS","U16","NO","1",999.99,999.99,999.99,999.99,999.99,999.99,999.99,999.99,999.99,999.99,999.99,999.99,999.99,999.99,999.99,999.99,999.99,999.99,999.99,999.99]
["2011-05-18","236490017","GRACIELA","BARRIENTOS  TRUJILLO","F","PAT","AS","U16","NO","1",999.99,999.99,999.99,158.02,163.42,999.99,999.99,999.99,999.99,181.96,999.99,999.99,999.99,999.99,999.99,999.99,999.99,999.99,999.99,999.99]
["2011-05-31","236569489","PEDRO","ARTEAGA BRUNA","M","CLP","AS","U16","NO","1",999.99,999.99,999.99,999.99,999.99,999.99,999.99,999.99,999.99,999.99,999.99,999.99,999.99,999.99,999.99,999.99,999.99,999.99,999.99,999.99]
["2011-06-10","236650731","CRISTOBAL","HILLERNS ESPINOZA","M","CEC","AS","U16","NO","1",999.99,999.99,999.99,999.99,999.99,999.99,999.99,999.99,999.99,999.99,999.99,999.99,999.99,999.99,999.99,999.99,999.99,999.99,999.99,999.99]
["2011-07-12","236898172","LEONOR","FREIRE BAEZA","F","POR","AS","U16","NO","1",999.99,999.99,999.99,999.99,999.99,999.99,999.99,999.99,999.99,999.99,999.99,999.99,999.99,999.99,999.99,999.99,999.99,999.99,999.99,999.99]
["2011-09-14","237487524","TOMAS","MARTIN UTHOFF","M","UC","AS","U16","NO","1",999.99,999.99,999.99,999.99,999.99,999.99,999.99,999.99,999.99,999.99,999.99,999.99,999.99,999.99,999.99,999.99,999.99,999.99,999.99,999.99]
["2011-10-04","23761786K","AUGUSTO","PRAT KOENEKAMP","M","CAO","AS","U16","NO","1",999.99,999.99,999.99,999.99,999.99,999.99,999.99,999.99,999.99,999.99,999.99,999.99,999.99,999.99,999.99,999.99,999.99,999.99,999.99,999.99]
["2011-11-07","237907442","SARA","NUNEZ SALINAS","F","CAU","AS","U16","NO","1",999.99,999.99,999.99,999.99,999.99,999.99,999.99,999.99,999.99,999.99,999.99,999.99,999.99,999.99,999.99,999.99,999.99,999.99,999.99,999.99]
["2011-11-18","23811960K","LUCAS RODRIGO","QUIROGA MARTÍNEZ","M","CEC","AS","U16","NO","1",999.99,999.99,999.99,999.99,999.99,999.99,999.99,999.99,999.99,999.99,999.99,999.99,999.99,999.99,999.99,999.99,999.99,999.99,999.99,999.99]
["2011-12-17","238295025","MANUEL JOSE","BARROS EMHART","M","UC","AS","U16","NO","1",999.99,999.99,999.99,999.99,999.99,999.99,999.99,999.99,999.99,999.99,999.99,999.99,999.99,999.99,999.99,999.99,999.99,999.99,999.99,999.99]
["2012-02-13","238697301","ARIEL","PINO MUÑOZ","M","POR","AS","U14","NO","2",999.99,999.99,999.99,999.99,999.99,999.99,999.99,999.99,999.99,999.99,999.99,999.99,999.99,999.99,999.99,999.99,999.99,999.99,999.99,999.99]
["2012-02-14","238738695","ANA","MULLER CORREA","F","CLP","AS","U14","NO","2",999.99,999.99,999.99,999.99,999.99,999.99,999.99,999.99,999.99,999.99,999.99,999.99,999.99,999.99,999.99,999.99,999.99,999.99,999.99,999.99]
["2012-02-16","238760054","ELENA","LOPEZ BORAGK","F","CVN","AS","U14","NO","2",999.99,999.99,999.99,999.99,999.99,999.99,999.99,999.99,999.99,999.99,999.99,999.99,999.99,999.99,999.99,999.99,999.99,999.99,999.99,999.99]
["2012-02-25","23881846K","AITOR","IRIARTE MALFANTI","M","ARS","AS","U14","NO","2",999.99,999.99,999.99,999.99,999.99,999.99,999.99,999.99,999.99,999.99,999.99,999.99,999.99,999.99,999.99,999.99,999.99,999.99,999.99,999.99]
["2012-03-21","239032788","NICOLÁS VICTOR","HENRÍQUEZ MAILLARD","M","CEC","AS","U14","NO","2",999.99,999.99,999.99,999.99,999.99,999.99,999.99,999.99,999.99,999.99,999.99,999.99,999.99,999.99,999.99,999.99,999.99,999.99,999.99,999.99]
["2012-03-26","239079997","PEDRO","ALFONSIN VALLI","M","CAN","AS","U14","NO","2",999.99,999.99,999.99,999.99,999.99,999.99,999.99,999.99,999.99,999.99,999.99,999.99,999.99,999.99,999.99,999.99,999.99,999.99,999.99,999.99]
["2012-03-27","23910357K","DOMINGO","MORALES FINSTERBUSCH","M","POR","AS","U14","NO","2",999.99,999.99,999.99,999.99,999.99,999.99,999.99,999.99,999.99,999.99,999.99,999.99,999.99,999.99,999.99,999.99,999.99,999.99,999.99,999.99]
["2012-05-17","239502563","ZOE","URQUIETA AGUIRRE","F","POR","AS","U14","NO","2",999.99,999.99,999.99,999.99,999.99,999.99,999.99,999.99,999.99,999.99,999.99,485.35,523.34,999.99,999.99,999.99,999.99,999.99,999.99,999.99]
["2012-05-17","23952110K","EVAN","RAMMSY CHAURA","M","CAPA","AS","U14","NO","2",999.99,999.99,999.99,999.99,999.99,999.99,999.99,999.99,999.99,999.99,999.99,999.99,999.99,999.99,999.99,999.99,999.99,999.99,999.99,999.99]
["2012-03-12","239659888","VIVIANA","BARRIGA ROFFEY","F","ARS","AS","U14","NO","2",999.99,999.99,999.99,999.99,999.99,999.99,999.99,999.99,999.99,999.99,999.99,999.99,999.99,999.99,999.99,999.99,999.99,999.99,999.99,999.99]
["2012-05-25","239692842","ALONSO","CORDERO VON LEYSER","M","CEC","AS","U14","NO","2",999.99,999.99,999.99,999.99,999.99,999.99,999.99,999.99,999.99,999.99,999.99,999.99,999.99,999.99,999.99,999.99,999.99,999.99,999.99,999.99]
["2012-06-01","239729045","OLIVIA","GODOY VALECH","F","CAN","AS","U14","NO","2",999.99,999.99,999.99,999.99,999.99,999.99,999.99,999.99,999.99,999.99,999.99,999.99,999.99,999.99,999.99,999.99,999.99,999.99,999.99,999.99]
["2012-06-27","239931197","VICENTE","URRUTICOECHEA ROBINSON","M","CLP","AS","U14","NO","2",999.99,999.99,999.99,999.99,999.99,999.99,999.99,999.99,999.99,999.99,999.99,999.99,999.99,999.99,999.99,999.99,999.99,999.99,999.99,999.99]
["2012-08-03","240296535","MICHELE MARTINO","LIOI ARRIAGADA","M","CEC","AS","U14","NO","2",999.99,999.99,999.99,999.99,999.99,999.99,999.99,999.99,999.99,999.99,999.99,999.99,999.99,999.99,999.99,999.99,999.99,999.99,999.99,999.99]
["2012-08-28","240482290","FIORELLA","STAGNO SANDOVAL","F","CEC","AS","U14","NO","2",999.99,999.99,999.99,999.99,999.99,999.99,999.99,999.99,999.99,999.99,999.99,999.99,999.99,999.99,999.99,999.99,999.99,999.99,999.99,999.99]
["2012-08-28","240492105","DOMINGO","LEON DE LA CERDA","M","UC","AS","U14","NO","2",999.99,999.99,999.99,999.99,999.99,999.99,999.99,999.99,999.99,999.99,999.99,999.99,999.99,999.99,999.99,999.99,999.99,999.99,999.99,999.99]
["2012-09-27","240752840","JOSEFA","URZUA JUSTINIANO","F","CLP","AS","U14","NO","2",999.99,999.99,999.99,999.99,999.99,999.99,999.99,999.99,999.99,999.99,999.99,999.99,999.99,999.99,999.99,999.99,999.99,999.99,999.99,999.99]
["2012-03-10","240809907","AUGUSTO","PAVEZ DURAN","M","CEC","AS","U14","NO","2",999.99,999.99,999.99,999.99,999.99,999.99,999.99,999.99,999.99,999.99,999.99,999.99,999.99,999.99,999.99,999.99,999.99,999.99,999.99,999.99]
["2012-09-28","240840995","JERÓNIMO","MINAKER PIATEK","M","CAN","AS","U14","NO","2",999.99,999.99,999.99,999.99,999.99,999.99,999.99,999.99,999.99,999.99,999.99,999.99,999.99,999.99,999.99,999.99,999.99,999.99,999.99,999.99]
["2012-10-17","240917092","AMPARO ELISA","FREIRE BAEZA","F","POR","AS","U14","NO","2",999.99,999.99,999.99,999.99,999.99,999.99,999.99,999.99,999.99,999.99,999.99,999.99,999.99,999.99,999.99,999.99,999.99,999.99,999.99,999.99]
["2012-11-13","241138550","MARTINA","FLORES ANTOINE","F","CAPA","AS","U14","NO","2",999.99,999.99,999.99,999.99,999.99,999.99,999.99,999.99,999.99,999.99,999.99,999.99,999.99,999.99,999.99,999.99,999.99,999.99,999.99,999.99]
["2012-11-13","241138798","ANTONIA","FLORES ANTOINE","F","CAPA","AS","U14","NO","2",999.99,999.99,999.99,999.99,999.99,999.99,999.99,999.99,999.99,999.99,999.99,999.99,999.99,999.99,999.99,999.99,999.99,999.99,999.99,999.99]
["2012-11-12","241161080","LOLA","AHLMANN ESTRADA","F","CEC","AS","U14","NO","2",999.99,999.99,999.99,999.99,999.99,999.99,999.99,999.99,999.99,999.99,999.99,999.99,999.99,999.99,999.99,999.99,999.99,999.99,999.99,999.99]
["2012-10-31","241167232","KAI","WENZEL ALVAREZ","M","UC","AS","U14","NO","2",999.99,999.99,999.99,999.99,999.99,999.99,999.99,999.99,999.99,999.99,999.99,999.99,999.99,999.99,999.99,999.99,999.99,999.99,999.99,999.99]
["2012-10-31","241167771","BLANCA","WENZEL ALVAREZ","F","UC","AS","U14","NO","2",999.99,999.99,999.99,999.99,999.99,999.99,999.99,999.99,999.99,999.99,999.99,999.99,999.99,999.99,999.99,999.99,999.99,999.99,999.99,999.99]
["2012-12-27","241513610","OLIVIA","ROJAS GONZÁLEZ","F","ARS","AS","U14","NO","2",999.99,999.99,999.99,999.99,999.99,999.99,999.99,999.99,999.99,999.99,999.99,999.99,999.99,999.99,999.99,999.99,999.99,999.99,999.99,999.99]
["2011-07-26","250498462","AGUSTIN","RAPELA DEL CAMPO","M","CAN","AS","U16","NO","1",999.99,999.99,999.99,999.99,999.99,999.99,999.99,999.99,999.99,999.99,999.99,999.99,999.99,999.99,999.99,999.99,999.99,999.99,999.99,999.99]
["2011-11-23","253105607","OLIVIA","LOMBARDO SANTANA","F","CVN","AS","U16","NO","1",999.99,999.99,999.99,999.99,999.99,999.99,999.99,999.99,999.99,999.99,999.99,999.99,999.99,999.99,999.99,999.99,999.99,999.99,999.99,999.99]
["2010-08-01","26948061L","MARIA","MONGE RAMOS","F","ARS","AS","U16","NO","2",999.99,999.99,999.99,999.99,999.99,999.99,999.99,999.99,999.99,999.99,999.99,999.99,999.99,999.99,999.99,999.99,999.99,999.99,999.99,999.99]
["2010-01-01","40565646V","MARTINA","SEGOVIA VALVERDE","F","ARS","AS","U16","NO","2",999.99,999.99,999.99,999.99,999.99,999.99,999.99,999.99,999.99,999.99,999.99,999.99,999.99,999.99,999.99,999.99,999.99,999.99,999.99,999.99]
["2011-01-01","42302803F","NIL","CARMANIU BASCOMPTA","M","ARS","AS","U16","NO","1",999.99,999.99,999.99,999.99,999.99,999.99,999.99,999.99,999.99,999.99,999.99,999.99,999.99,999.99,999.99,999.99,999.99,999.99,999.99,999.99]
["2010-05-25","490345574","ANIKA","BOLTMAN ","F","CVN","AS","U16","NO","2",999.99,999.99,999.99,999.99,999.99,999.99,999.99,999.99,999.99,999.99,999.99,999.99,999.99,999.99,999.99,999.99,999.99,999.99,999.99,999.99]
["2012-11-27","490345582","MIKA","BOLTMAN ","M","CVN","AS","U14","NO","2",999.99,999.99,999.99,999.99,999.99,999.99,999.99,999.99,999.99,999.99,999.99,999.99,999.99,999.99,999.99,999.99,999.99,999.99,999.99,999.99]
["2011-10-04","669968948","COLTER","BENGSTON ","M","CLP","AS","U16","NO","1",999.99,999.99,999.99,999.99,999.99,999.99,999.99,999.99,999.99,999.99,999.99,999.99,999.99,999.99,999.99,999.99,999.99,999.99,999.99,999.99]
["2012-08-09","A01088004","VALENTINA","BRYANT BRYANT","F","ARS","AS","U14","NO","2",999.99,999.99,999.99,999.99,999.99,999.99,999.99,999.99,999.99,999.99,999.99,999.99,999.99,999.99,999.99,999.99,999.99,999.99,999.99,999.99]
["2010-11-05","A01088007","DANIELLA","BRYANT BRYANT","F","ARS","AS","U16","NO","2",999.99,999.99,999.99,999.99,999.99,999.99,999.99,999.99,999.99,999.99,999.99,999.99,999.99,999.99,999.99,999.99,999.99,999.99,999.99,999.99]
["2011-03-22","A11080501","JACKSON","STEPHENSON  ","M","CLP","AS","U16","NO","1",999.99,999.99,999.99,999.99,999.99,999.99,999.99,999.99,999.99,999.99,999.99,999.99,999.99,999.99,999.99,999.99,999.99,999.99,999.99,999.99]
["2011-08-03","C25772333","YAEL SHIRA","LANZKOWSKY ","F","CVN","AS","U16","NO","1",999.99,999.99,999.99,999.99,999.99,999.99,999.99,999.99,999.99,999.99,999.99,999.99,999.99,999.99,999.99,999.99,999.99,999.99,999.99,999.99]
["2010-06-22","YE215526","MANUELA","FARAH CUNHA","F","CEC","AS","U16","NO","2",999.99,999.99,999.99,999.99,999.99,999.99,999.99,999.99,999.99,999.99,999.99,999.99,999.99,999.99,999.99,999.99,999.99,999.99,999.99,999.99]

{"sheet":"Resultados","index":1,"n_rows":367,"n_cols":35,"rows_kept":367,"merged":[[0,0,0,9],[0,10,0,17],[0,18,0,25],[0,26,0,33]]}
["Datos de Deportista",{"$nulls":9},"Resultados SL",{"$nulls":7},"Resultados GS",{"$nulls":7},"Resultado SG"]
["Fecha","Rut","Nombre","Apellido","Sexo","Club","Disc.","Cat.","Activo","Año","BASE SL (aplica adder)","Lista 3","Ind.","Mejor","2do Mejor","Mejor * 1,2","SL","Ind.","BASE GS (aplica adder)","Lista 3","Ind.","Mejor","2do Mejor","Mejor * 1,2","GS","Ind.","BASE SG (aplica adder)","Lista 3","Ind.","Mejor","2do Mejor","Mejor * 1,2","SG","Ind."]
["2010-02-19","131926880","ENZO","CASAGRANDE BERTOLDI","M","CVN","AS","U16","SI","2",999.99,999.99,null,{"$f":"MIN([1]Competencias!K3:P3)","v":999.99},{"$f":"IFERROR(SMALL([1]Competencias!K3:P3,2),999.99)","v":999.99},{"$f":"N3*1.2","v":{"v":1199.988,"d":"1199.99"}},{"$f":"IF(N3=999.99,K3,IF(O3=999.99,IF(K3<999.99,K3,P3),IF((N3+O3)/2>K3,K3,(N3+O3)/2)))","v":999.99},{"$f":"IF(Q3=\"999,99\",\"\",IF(Q3=A3,\">\",IF(Q3=O3,\"+\",\"\")))","v":"+"},999.99,999.99,null,{"$f":"MIN([1]Competencias!Q3:AA3)","v":999.99},{"$f":"IFERROR(SMALL([1]Competencias!Q3:AA3,2),999.99)","v":999.99},{"$f":"V3*1.2","v":{"v":1199.988,"d":"1199.99"}},{"$f":"IF(V3=999.99,S3,IF(W3=999.99,IF(S3<999.99,S3,X3),IF((V3+W3)/2>S3,S3,(V3+W3)/2)))","v":999.99},{"$f":"IF(Y3=\"999,99\",\"\",IF(Y3=G3,\">\",IF(Y3=W3,\"+\",\"\")))","v":"+"},999.99,{"v":345.528,"d":"345.53"},null,{"$f":"MIN([1]Competencias!AB3:AD3)","v":287.94},{"$f":"IFERROR(SMALL([1]Competencias!AB3:AD3,2),999.99)","v":999.99},{"$f":"AD3*1.2","v":{"v":345.52799999999996,"d":"345.53"}},{"$f":"IF(AD3=999.99,AA3,IF(AE3=999.99,IF(AA3<999.99,AA3,AF3),IF((AD3+AE3)/2>AA3,AA3,(AD3+AE3)/2)))","v":{"v":345.52799999999996,"d":"345.53"}},{"$f":"IF(AG3=\"999,99\",\"\",IF(AG3=R3,\">\",IF(AG3=AE3,\"+\",\"\")))","v":""}]
["2013-06-21","16707724","RUFINO","CRESPO RODRÍGUEZ","M","CLP","AS","U14","SI","1",999.99,281.66,null,{"$f":"MIN([1]Competencias!K4:P4)","v":243.92},{"$f":"IFERROR(SMALL([1]Competencias!K4:P4,2),999.99)","v":{"v":319.4,"d":"319.40"}},{"v":292.70399999999995,"d":"292.70"},{"v":281.65999999999997,"d":"281.66"},"",999.99,999.99,null,{"$f":"MIN([1]Competencias!Q4:AA4)","v":999.99},{"$f":"IFERROR(SMALL([1]Competencias!Q4:AA4,2),999.99)","v":999.99},{"v":1199.988,"d":"1199.99"},999.99,"+",999.99,999.99,null,{"$f":"MIN([1]Competencias!AB4:AD4)","v":999.99},{"$f":"IFERROR(SMALL([1]Competencias!AB4:AD4,2),999.99)","v":999.99},{"v":1199.988,"d":"1199.99"},999.99,"+"]
["2012-01-07","22EA72258","JUAN","LE BAULT DE LA MORINIERE","M","CLP","AS","U14","SI","2",999.99,999.99,null,{"$f":"MIN([1]Competencias!K5:P5)","v":999.99},{"$f":"IFERROR(SMALL([1]Competencias!K5:P5,2),999.99)","v":999.99},{"v":1199.988,"d":"1199.99"},999.99,"+",999.99,999.99,null,{"$f":"MIN([1]Competencias!Q5:AA5)","v":999.99},{"$f":"IFERROR(SMALL([1]Competencias!Q5:AA5,2),999.99)","v":999.99},{"v":1199.988,"d":"1199.99"},999.99,"+",999.99,999.99,null,{"$f":"MIN([1]Competencias!AB5:AD5)","v":999.99},{"$f":"IFERROR(SMALL([1]Competencias!AB5:AD5,2),999.99)","v":999.99},{"v":1199.988,"d":"1199.99"},999.99,"+"]
["2010-01-03","23215800K","ANTONIA","ESTEVE SECO","F","CAR","AS","U16","SI","2",93.44,93.44,null,{"$f":"MIN([1]Competencias!K6:P6)","v":999.99},{"$f":"IFERROR(SMALL([1]Competencias!K6:P6,2),999.99)","v":999.99},{"v":1199.988,"d":"1199.99"},93.44,"",137.35,137.35,null,{"$f":"MIN([1]Competencias!Q6:AA6)","v":999.99},{"$f":"IFERROR(SMALL([1]Competencias!Q6:AA6,2),999.99)","v":999.99},{"v":1199.988,"d":"1199.99"},137.35,"",216.81,216.81,null,{"$f":"MIN([1]Competencias!AB6:AD6)","v":999.99},{"$f":"IFERROR(SMALL([1]Competencias!AB6:AD6,2),999.99)","v":999.99},{"v":1199.988,"d":"1199.99"},216.81,""]
["2010-01-19","23227283K","JOSEFINA","PEREZ OLMOS","F","LV","AS","U16","SI","2",230.47,230.47,null,{"$f":"MIN([1]Competencias!K7:P7)","v":228.74},{"$f":"IFERROR(SMALL([1]Competencias!K7:P7,2),999.99)","v":999.99},{"v":274.488,"d":"274.49"},230.47,"",212.52,{"v":209.125,"d":"209.13"},null,{"$f":"MIN([1]Competencias!Q7:AA7)","v":{"v":203.5,"d":"203.50"}},{"$f":"IFERROR(SMALL([1]Competencias!Q7:AA7,2),999.99)","v":214.75},{"v":244.2,"d":"244.20"},{"v":209.125,"d":"209.13"},"",208.65,208.65,null,{"$f":"MIN([1]Competencias!AB7:AD7)","v":208.81},{"$f":"IFERROR(SMALL([1]Competencias!AB7:AD7,2),999.99)","v":999.99},{"v":250.572,"d":"250.57"},208.65,""]
["2010-01-17","232274360","SILKE","OPITZ SEIDL","F","CAO","AS","U16","SI","2",156.18,132.49,null,{"$f":"MIN([1]Competencias!K8:P8)","v":124.06},{"$f":"IFERROR(SMALL([1]Competencias!K8:P8,2),999.99)","v":140.92},{"v":148.87199999999999,"d":"148.87"},132.49,"",154.47,154.47,null,{"$f":"MIN([1]Competencias!Q8:AA8)","v":165.93},{"$f":"IFERROR(SMALL([1]Competencias!Q8:AA8,2),999.99)","v":207.47},{"v":199.116,"d":"199.12"},154.47,"",111.16,111.16,null,{"$f":"MIN([1]Competencias!AB8:AD8)","v":999.99},{"$f":"IFERROR(SMALL([1]Competencias!AB8:AD8,2),999.99)","v":999.99},{"v":1199.988,"d":"1199.99"},111.16,""]
["2010-01-20","232291966","ALEGRA","REYES  SBARAGLINI","F","CEC","AS","U16","SI","2",999.99,999.99,null,{"$f":"MIN([1]Competencias!K9:P9)","v":999.99},{"$f":"IFERROR(SMALL([1]Competencias!K9:P9,2),999.99)","v":999.99},{"v":1199.988,"d":"1199.99"},999.99,"+",999.99,999.99,null,{"$f":"MIN([1]Competencias!Q9:AA9)","v":999.99},{"$f":"IFERROR(SMALL([1]Competencias!Q9:AA9,2),999.99)","v":999.99},{"v":1199.988,"d":"1199.99"},999.99,"+",999.99,999.99,null,{"$f":"MIN([1]Competencias!AB9:AD9)","v":999.99},{"$f":"IFERROR(SMALL([1]Competencias!AB9:AD9,2),999.99)","v":999.99},{"v":1199.988,"d":"1199.99"},999.99,"+"]
["2010-01-26","232325704","AMALIA","BARRIENTOS MARTINEZ","F","CAO","AS","U16","SI","2",{"v":137.2,"d":"137.20"},{"v":137.2,"d":"137.20"},null,{"$f":"MIN([1]Competencias!K10:P10)","v":134.85},{"$f":"IFERROR(SMALL([1]Competencias!K10:P10,2),999.99)","v":{"v":139.7,"d":"139.70"}},161.82,{"v":137.2,"d":"137.20"},"",{"v":168.6,"d":"168.60"},{"v":168.6,"d":"168.60"},null,{"$f":"MIN([1]Competencias!Q10:AA10)","v":164.77},{"$f":"IFERROR(SMALL([1]Competencias!Q10:AA10,2),999.99)","v":185.08},{"v":197.72400000000002,"d":"197.72"},{"v":168.6,"d":"168.60"},"",107.11,107.11,null,{"$f":"MIN([1]Competencias!AB10:AD10)","v":151.18},{"$f":"IFERROR(SMALL([1]Competencias!AB10:AD10,2),999.99)","v":187.74},{"v":181.416,"d":"181.42"},107.11,""]
["2010-01-23","232336994","FERNANDA JOSEFA","VASQUEZ VERGARA ","F","CAN","AS","U16","SI","2",197.04,{"v":161.705,"d":"161.71"},null,{"$f":"MIN([1]Competencias!K11:P11)","v":153.52},{"$f":"IFERROR(SMALL([1]Competencias!K11:P11,2),999.99)","v":169.89},{"v":184.22400000000002,"d":"184.22"},{"v":161.70499999999998,"d":"161.71"},"",211.92,211.92,null,{"$f":"MIN([1]Competencias!Q11:AA11)","v":999.99},{"$f":"IFERROR(SMALL([1]Competencias!Q11:AA11,2),999.99)","v":999.99},{"v":1199.988,"d":"1199.99"},211.92,"",190.18,190.18,null,{"$f":"MIN([1]Competencias!AB11:AD11)","v":999.99},{"$f":"IFERROR(SMALL([1]Competencias!AB11:AD11,2),999.99)","v":999.99},{"v":1199.988,"d":"1199.99"},190.18,""]
["2010-01-23","232341041","FLORENCIA","PINCHEIRA BRAVO","F","CAR","AS","U16","SI","2",{"v":395.6,"d":"395.60"},{"v":204.985,"d":"204.99"},null,{"$f":"MIN([1]Competencias!K12:P12)","v":167.42},{"$f":"IFERROR(SMALL([1]Competencias!K12:P12,2),999.99)","v":242.55},{"v":200.90399999999997,"d":"200.90"},{"v":204.985,"d":"204.99"},"",427.93,209.32,null,{"$f":"MIN([1]Competencias!Q12:AA12)","v":205.07},{"$f":"IFERROR(SMALL([1]Competencias!Q12:AA12,2),999.99)","v":213.57},{"v":246.08399999999997,"d":"246.08"},209.32,"",310.93,310.93,null,{"$f":"MIN([1]Competencias!AB12:AD12)","v":327.76},{"$f":"IFERROR(SMALL([1]Competencias!AB12:AD12,2),999.99)","v":999.99},{"v":393.31199999999995,"d":"393.31"},310.93,""]
["2010-01-25","23234394K","MARIA","MULLER CORREA","F","CLP","AS","U16","SI","2",185.27,185.27,null,{"$f":"MIN([1]Competencias!K13:P13)","v":999.99},{"$f":"IFERROR(SMALL([1]Competencias!K13:P13,2),999.99)","v":999.99},{"v":1199.988,"d":"1199.99"},185.27,"",182.87,182.87,null,{"$f":"MIN([1]Competencias!Q13:AA13)","v":281.01},{"$f":"IFERROR(SMALL([1]Competencias!Q13:AA13,2),999.99)","v":460.17},{"v":337.212,"d":"337.21"},182.87,"",249.13,{"v":227.055,"d":"227.06"},null,{"$f":"MIN([1]Competencias!AB13:AD13)","v":211.55},{"$f":"IFERROR(SMALL([1]Competencias!AB13:AD13,2),999.99)","v":242.56},253.86,{"v":227.055,"d":"227.06"},""]
["2010-01-30","232362693","MARTIN","CRESPO IBAÑEZ","M","CLP","AS","U16","SI","2",{"v":93.9,"d":"93.90"},{"v":93.9,"d":"93.90"},null,{"$f":"MIN([1]Competencias!K14:P14)","v":105.46},{"$f":"IFERROR(SMALL([1]Competencias!K14:P14,2),999.99)","v":999.99},{"v":126.55199999999999,"d":"126.55"},{"v":93.9,"d":"93.90"},"",84.41,84.41,null,{"$f":"MIN([1]Competencias!Q14:AA14)","v":124.38},{"$f":"IFERROR(SMALL([1]Competencias!Q14:AA14,2),999.99)","v":141.21},{"v":149.256,"d":"149.26"},84.41,"",99.08,99.08,null,{"$f":"MIN([1]Competencias!AB14:AD14)","v":171.21},{"$f":"IFERROR(SMALL([1]Competencias!AB14:AD14,2),999.99)","v":999.99},{"v":205.452,"d":"205.45"},99.08,""]
["2010-01-28","232389168","JADE","REBOLLEDO HERNANDEZ","F","CAPA","AS","U16","SI","2",999.99,{"v":251.508,"d":"251.51"},null,{"$f":"MIN([1]Competencias!K15:P15)","v":209.59},{"$f":"IFERROR(SMALL([1]Competencias!K15:P15,2),999.99)","v":999.99},{"v":251.50799999999998,"d":"251.51"},{"v":251.50799999999998,"d":"251.51"},"",342.64,342.64,null,{"$f":"MIN([1]Competencias!Q15:AA15)","v":208.44},{"$f":"IFERROR(SMALL([1]Competencias!Q15:AA15,2),999.99)","v":999.99},{"v":250.128,"d":"250.13"},342.64,"",421.62,421.62,null,{"$f":"MIN([1]Competencias!AB15:AD15)","v":999.99},{"$f":"IFERROR(SMALL([1]Competencias!AB15:AD15,2),999.99)","v":999.99},{"v":1199.988,"d":"1199.99"},421.62,""]
["2010-02-15","232504285","CRISTIÁN","CUMSILLE SCHULBACH","M","CVN","AS","U16","SI","2",310.34,310.34,null,{"$f":"MIN([1]Competencias!K16:P16)","v":999.99},{"$f":"IFERROR(SMALL([1]Competencias!K16:P16,2),999.99)","v":999.99},{"v":1199.988,"d":"1199.99"},310.34,"",200.72,200.72,null,{"$f":"MIN([1]Competencias!Q16:AA16)","v":640.42},{"$f":"IFERROR(SMALL([1]Competencias!Q16:AA16,2),999.99)","v":999.99},{"v":768.5039999999999,"d":"768.50"},200.72,"",200.12,200.12,null,{"$f":"MIN([1]Competencias!AB16:AD16)","v":{"v":219.6,"d":"219.60"}},{"$f":"IFERROR(SMALL([1]Competencias!AB16:AD16,2),999.99)","v":999.99},263.52,200.12,""]
["2010-03-10","232699809","FLORENCIA","ROJAS FARIAS","F","UC","AS","U16","SI","2",151.61,151.61,null,{"$f":"MIN([1]Competencias!K17:P17)","v":152.88},{"$f":"IFERROR(SMALL([1]Competencias!K17:P17,2),999.99)","v":186.28},{"v":183.456,"d":"183.46"},151.61,"",179.92,179.92,null,{"$f":"MIN([1]Competencias!Q17:AA17)","v":170.18},{"$f":"IFERROR(SMALL([1]Competencias!Q17:AA17,2),999.99)","v":196.84},{"v":204.216,"d":"204.22"},179.92,"",228.79,228.79,null,{"$f":"MIN([1]Competencias!AB17:AD17)","v":249.79},{"$f":"IFERROR(SMALL([1]Competencias!AB17:AD17,2),999.99)","v":257.02},{"v":299.748,"d":"299.75"},228.79,""]
["2010-03-15","232700335","CLARA","BASAURI  GARDILCIC","F","CORR","AS","U16","SI","2",215.95,215.95,null,{"$f":"MIN([1]Competencias!K18:P18)","v":999.99},{"$f":"IFERROR(SMALL([1]Competencias!K18:P18,2),999.99)","v":999.99},{"v":1199.988,"d":"1199.99"},215.95,"",230.36,230.36,null,{"$f":"MIN([1]Competencias!Q18:AA18)","v":999.99},{"$f":"IFERROR(SMALL([1]Competencias!Q18:AA18,2),999.99)","v":999.99},{"v":1199.988,"d":"1199.99"},230.36,"",219.83,219.83,null,{"$f":"MIN([1]Competencias!AB18:AD18)","v":999.99},{"$f":"IFERROR(SMALL([1]Competencias!AB18:AD18,2),999.99)","v":999.99},{"v":1199.988,"d":"1199.99"},219.83,""]
["2010-03-15","232706651","OLIVIA","RODRIGUEZ CASTRO","F","CVN","AS","U16","SI","2",{"v":206.5,"d":"206.50"},{"v":206.5,"d":"206.50"},null,{"$f":"MIN([1]Competencias!K19:P19)","v":407.66},{"$f":"IFERROR(SMALL([1]Competencias!K19:P19,2),999.99)","v":999.99},{"v":489.192,"d":"489.19"},{"v":206.5,"d":"206.50"},"",284.87,284.87,null,{"$f":"MIN([1]Competencias!Q19:AA19)","v":406.91},{"$f":"IFERROR(SMALL([1]Competencias!Q19:AA19,2),999.99)","v":999.99},{"v":488.29200000000003,"d":"488.29"},284.87,"",488.72,488.72,null,{"$f":"MIN([1]Competencias!AB19:AD19)","v":999.99},{"$f":"IFERROR(SMALL([1]Competencias!AB19:AD19,2),999.99)","v":999.99},{"v":1199.988,"d":"1199.99"},488.72,""]
["2010-03-22","232776323","ANTONIO","KUBICK LESSER","M","CLP","AS","U16","SI","2",170.92,170.92,null,{"$f":"MIN([1]Competencias!K20:P20)","v":157.59},{"$f":"IFERROR(SMALL([1]Competencias!K20:P20,2),999.99)","v":999.99},{"v":189.108,"d":"189.11"},170.92,"",191.35,191.35,null,{"$f":"MIN([1]Competencias!Q20:AA20)","v":267.95},{"$f":"IFERROR(SMALL([1]Competencias!Q20:AA20,2),999.99)","v":999.99},{"v":321.53999999999996,"d":"321.54"},191.35,"",189.31,189.31,null,{"$f":"MIN([1]Competencias!AB20:AD20)","v":999.99},{"$f":"IFERROR(SMALL([1]Competencias!AB20:AD20,2),999.99)","v":999.99},{"v":1199.988,"d":"1199.99"},189.31,""]
["2010-04-05","232893249","FACUNDO","GALILEA FUENTEALBA","M","CAEC","AS","U16","SI","2",242.69,242.69,null,{"$f":"MIN([1]Competencias!K21:P21)","v":999.99},{"$f":"IFERROR(SMALL([1]Competencias!K21:P21,2),999.99)","v":999.99},{"v":1199.988,"d":"1199.99"},242.69,"",202.79,202.79,null,{"$f":"MIN([1]Competencias!Q21:AA21)","v":192.92},{"$f":"IFERROR(SMALL([1]Competencias!Q21:AA21,2),999.99)","v":999.99},{"v":231.50399999999996,"d":"231.50"},202.79,"",216.42,216.42,null,{"$f":"MIN([1]Competencias!AB21:AD21)","v":226.01},{"$f":"IFERROR(SMALL([1]Competencias!AB21:AD21,2),999.99)","v":259.77},{"v":271.212,"d":"271.21"},216.42,""]
["2010-04-08","232926155","PATRICIO","BANNURA DECEBAL-CUZA","M","UC","AS","U16","SI","2",{"v":50,"d":"50.00"},{"v":50,"d":"50.00"},null,{"$f":"MIN([1]Competencias!K22:P22)","v":999.99},{"$f":"IFERROR(SMALL([1]Competencias!K22:P22,2),999.99)","v":999.99},{"v":1199.988,"d":"1199.99"},{"v":50,"d":"50.00"},"",122.02,122.02,null,{"$f":"MIN([1]Competencias!Q22:AA22)","v":127.47},{"$f":"IFERROR(SMALL([1]Competencias!Q22:AA22,2),999.99)","v":999.99},{"v":152.964,"d":"152.96"},122.02,"",141.41,141.41,null,{"$f":"MIN([1]Competencias!AB22:AD22)","v":161.83},{"$f":"IFERROR(SMALL([1]Competencias!AB22:AD22,2),999.99)","v":209.13},{"v":194.196,"d":"194.20"},141.41,""]
["2010-04-19","233009822","CARMENCITA","PINILLA MORENO","F","CLP","AS","U16","SI","2",{"v":50,"d":"50.00"},{"v":50,"d":"50.00"},null,{"$f":"MIN([1]Competencias!K23:P23)","v":94.19},{"$f":"IFERROR(SMALL([1]Competencias!K23:P23,2),999.99)","v":97.87},{"v":113.02799999999999,"d":"113.03"},{"v":50,"d":"50.00"},"",78.97,78.97,null,{"$f":"MIN([1]Competencias!Q23:AA23)","v":111.43},{"$f":"IFERROR(SMALL([1]Competencias!Q23:AA23,2),999.99)","v":{"v":440,"d":"440.00"}},{"v":133.716,"d":"133.72"},78.97,"",{"v":85,"d":"85.00"},{"v":85,"d":"85.00"},null,{"$f":"MIN([1]Competencias!AB23:AD23)","v":112.97},{"$f":"IFERROR(SMALL([1]Competencias!AB23:AD23,2),999.99)","v":132.33},{"v":135.564,"d":"135.56"},{"v":85,"d":"85.00"},""]
["2010-04-22","233032808","LEONOR","MUÑOZ QUINTANA","F","CORR","AS","U16","SI","2",87.35,87.35,null,{"$f":"MIN([1]Competencias!K24:P24)","v":127.97},{"$f":"IFERROR(SMALL([1]Competencias!K24:P24,2),999.99)","v":999.99},{"v":153.564,"d":"153.56"},87.35,"",132.97,132.97,null,{"$f":"MIN([1]Competencias!Q24:AA24)","v":130.11},{"$f":"IFERROR(SMALL([1]Competencias!Q24:AA24,2),999.99)","v":140.84},{"v":156.132,"d":"156.13"},132.97,"",129.26,129.26,null,{"$f":"MIN([1]Competencias!AB24:AD24)","v":177.48},{"$f":"IFERROR(SMALL([1]Competencias!AB24:AD24,2),999.99)","v":999.99},{"v":212.97599999999997,"d":"212.98"},129.26,""]
["2010-04-19","233059706","ISABEL","CLARO IRARRAZAVAL","F","UC","AS","U16","SI","2",74.57,74.57,null,{"$f":"MIN([1]Competencias!K25:P25)","v":122.53},{"$f":"IFERROR(SMALL([1]Competencias!K25:P25,2),999.99)","v":999.99},{"v":147.036,"d":"147.04"},74.57,"",85.46,85.46,null,{"$f":"MIN([1]Competencias!Q25:AA25)","v":108.27},{"$f":"IFERROR(SMALL([1]Competencias!Q25:AA25,2),999.99)","v":141.72},{"v":129.92399999999998,"d":"129.92"},85.46,"",135.02,135.02,null,{"$f":"MIN([1]Competencias!AB25:AD25)","v":999.99},{"$f":"IFERROR(SMALL([1]Competencias!AB25:AD25,2),999.99)","v":999.99},{"v":1199.988,"d":"1199.99"},135.02,""]
["2010-04-27","233074896","SANTIAGO","CAPO CORNEJO","M","UC","AS","U16","SI","2",198.26,198.26,null,{"$f":"MIN([1]Competencias!K26:P26)","v":202.93},{"$f":"IFERROR(SMALL([1]Competencias!K26:P26,2),999.99)","v":999.99},{"v":243.516,"d":"243.52"},198.26,"",216.79,216.79,null,{"$f":"MIN([1]Competencias!Q26:AA26)","v":221.98},{"$f":"IFERROR(SMALL([1]Competencias!Q26:AA26,2),999.99)","v":234.54},{"v":266.376,"d":"266.38"},216.79,"",155.84,155.84,null,{"$f":"MIN([1]Competencias!AB26:AD26)","v":{"v":226.5,"d":"226.50"}},{"$f":"IFERROR(SMALL([1]Competencias!AB26:AD26,2),999.99)","v":253.57},{"v":271.8,"d":"271.80"},155.84,""]
["2010-04-01","233243736","NINA","DUPUY ALLEN","F","CVN","AS","U16","SI","2",{"v":171.5,"d":"171.50"},{"v":171.5,"d":"171.50"},null,{"$f":"MIN([1]Competencias!K27:P27)","v":142.64},{"$f":"IFERROR(SMALL([1]Competencias!K27:P27,2),999.99)","v":999.99},{"v":171.16799999999998,"d":"171.17"},{"v":171.5,"d":"171.50"},"",112.82,112.82,null,{"$f":"MIN([1]Competencias!Q27:AA27)","v":999.99},{"$f":"IFERROR(SMALL([1]Competencias!Q27:AA27,2),999.99)","v":999.99},{"v":1199.988,"d":"1199.99"},112.82,"",226.51,226.51,null,{"$f":"MIN([1]Competencias!AB27:AD27)","v":999.99},{"$f":"IFERROR(SMALL([1]Competencias!AB27:AD27,2),999.99)","v":999.99},{"v":1199.988,"d":"1199.99"},226.51,""]
["2010-07-02","233245771","CLARA","TELLO MOLINARE","F","CAO","AS","U16","SI","2",180.57,180.57,null,{"$f":"MIN([1]Competencias!K28:P28)","v":170.38},{"$f":"IFERROR(SMALL([1]Competencias!K28:P28,2),999.99)","v":999.99},{"v":204.456,"d":"204.46"},180.57,"",246.41,246.41,null,{"$f":"MIN([1]Competencias!Q28:AA28)","v":999.99},{"$f":"IFERROR(SMALL([1]Competencias!Q28:AA28,2),999.99)","v":999.99},{"v":1199.988,"d":"1199.99"},246.41,"",240.31,240.31,null,{"$f":"MIN([1]Competencias!AB28:AD28)","v":297.97},{"$f":"IFERROR(SMALL([1]Competencias!AB28:AD28,2),999.99)","v":999.99},{"v":357.564,"d":"357.56"},240.31,""]
["2010-05-28","23338349K","JEAN CLAUDIO","CARDENAS MANSILLA","M","PAT","AS","U16","SI","2",198.07,198.07,null,{"$f":"MIN([1]Competencias!K29:P29)","v":999.99},{"$f":"IFERROR(SMALL([1]Competencias!K29:P29,2),999.99)","v":999.99},{"v":1199.988,"d":"1199.99"},198.07,"",222.69,222.69,null,{"$f":"MIN([1]Competencias!Q29:AA29)","v":291.64},{"$f":"IFERROR(SMALL([1]Competencias!Q29:AA29,2),999.99)","v":999.99},{"v":349.96799999999996,"d":"349.97"},222.69,"",366.15,366.15,null,{"$f":"MIN([1]Competencias!AB29:AD29)","v":999.99},{"$f":"IFERROR(SMALL([1]Competencias!AB29:AD29,2),999.99)","v":999.99},{"v":1199.988,"d":"1199.99"},366.15,""]
["2010-06-05","233456179","EMILIA","GROB ANGERMEYER","F","CAN","AS","U16","SI","2",{"v":122.8,"d":"122.80"},{"v":122.8,"d":"122.80"},null,{"$f":"MIN([1]Competencias!K30:P30)","v":116.59},{"$f":"IFERROR(SMALL([1]Competencias!K30:P30,2),999.99)","v":141.21},{"v":139.908,"d":"139.91"},{"v":122.8,"d":"122.80"},"",155.12,116.91,null,{"$f":"MIN([1]Competencias!Q30:AA30)","v":106.88},{"$f":"IFERROR(SMALL([1]Competencias!Q30:AA30,2),999.99)","v":126.94},{"v":128.256,"d":"128.26"},116.91,"",109.14,109.14,null,{"$f":"MIN([1]Competencias!AB30:AD30)","v":109.89},{"$f":"IFERROR(SMALL([1]Competencias!AB30:AD30,2),999.99)","v":122.93},{"v":131.868,"d":"131.87"},109.14,""]
["2010-05-30","233464090","KARL","PAULMANN  PARSONS","M","CAN","AS","U16","SI","2",999.99,{"v":453.564,"d":"453.56"},null,{"$f":"MIN([1]Competencias!K31:P31)","v":377.97},{"$f":"IFERROR(SMALL([1]Competencias!K31:P31,2),999.99)","v":999.99},{"v":453.564,"d":"453.56"},{"v":453.564,"d":"453.56"},"",999.99,{"v":524.6519999999999,"d":"524.65"},null,{"$f":"MIN([1]Competencias!Q31:AA31)","v":437.21},{"$f":"IFERROR(SMALL([1]Competencias!Q31:AA31,2),999.99)","v":999.99},{"v":524.6519999999999,"d":"524.65"},{"v":524.6519999999999,"d":"524.65"},"",999.99,999.99,null,{"$f":"MIN([1]Competencias!AB31:AD31)","v":999.99},{"$f":"IFERROR(SMALL([1]Competencias!AB31:AD31,2),999.99)","v":999.99},{"v":1199.988,"d":"1199.99"},999.99,"+"]
["2010-11-06","233465003","ELOISA","COSTA BERNALES","F","CVN","AS","U16","SI","2",215.91,185.36,null,{"$f":"MIN([1]Competencias!K32:P32)","v":163.85},{"$f":"IFERROR(SMALL([1]Competencias!K32:P32,2),999.99)","v":206.87},{"v":196.61999999999998,"d":"196.62"},185.36,"",121.55,121.55,null,{"$f":"MIN([1]Competencias!Q32:AA32)","v":146.99},{"$f":"IFERROR(SMALL([1]Competencias!Q32:AA32,2),999.99)","v":{"v":159.4,"d":"159.40"}},{"v":176.388,"d":"176.39"},121.55,"",{"v":146.5,"d":"146.50"},{"v":146.5,"d":"146.50"},null,{"$f":"MIN([1]Competencias!AB32:AD32)","v":168.03},{"$f":"IFERROR(SMALL([1]Competencias!AB32:AD32,2),999.99)","v":{"v":169.4,"d":"169.40"}},{"v":201.636,"d":"201.64"},{"v":146.5,"d":"146.50"},""]
["2010-11-06","233465100","MATEO","COSTA BERNALES","M","CVN","AS","U16","SI","2",{"v":186.3,"d":"186.30"},{"v":186.3,"d":"186.30"},null,{"$f":"MIN([1]Competencias!K33:P33)","v":179.32},{"$f":"IFERROR(SMALL([1]Competencias!K33:P33,2),999.99)","v":999.99},{"v":215.184,"d":"215.18"},{"v":186.3,"d":"186.30"},"",201.39,201.39,null,{"$f":"MIN([1]Competencias!Q33:AA33)","v":999.99},{"$f":"IFERROR(SMALL([1]Competencias!Q33:AA33,2),999.99)","v":999.99},{"v":1199.988,"d":"1199.99"},201.39,"",180.98,180.98,null,{"$f":"MIN([1]Competencias!AB33:AD33)","v":208.63},{"$f":"IFERROR(SMALL([1]Competencias!AB33:AD33,2),999.99)","v":209.29},{"v":250.356,"d":"250.36"},180.98,""]
["2010-11-06","233465259","LOURDES","COSTA BERNALES","F","CVN","AS","U16","SI","2",242.85,242.85,null,{"$f":"MIN([1]Competencias!K34:P34)","v":147.94},{"$f":"IFERROR(SMALL([1]Competencias!K34:P34,2),999.99)","v":999.99},{"v":177.528,"d":"177.53"},242.85,"",194.71,194.71,null,{"$f":"MIN([1]Competencias!Q34:AA34)","v":223.39},{"$f":"IFERROR(SMALL([1]Competencias!Q34:AA34,2),999.99)","v":999.99},{"v":268.068,"d":"268.07"},194.71,"",198.69,198.69,null,{"$f":"MIN([1]Competencias!AB34:AD34)","v":216.78},{"$f":"IFERROR(SMALL([1]Competencias!AB34:AD34,2),999.99)","v":999.99},{"v":260.13599999999997,"d":"260.14"},198.69,""]
["2010-06-09","233466352","AMY","CASTILLO ALVAREZ","F","UC","AS","U16","SI","2",250.83,250.83,null,{"$f":"MIN([1]Competencias!K35:P35)","v":229.75},{"$f":"IFERROR(SMALL([1]Competencias!K35:P35,2),999.99)","v":273.25},{"v":275.7,"d":"275.70"},250.83,"",{"v":174.5,"d":"174.50"},{"v":174.5,"d":"174.50"},null,{"$f":"MIN([1]Competencias!Q35:AA35)","v":238.58},{"$f":"IFERROR(SMALL([1]Competencias!Q35:AA35,2),999.99)","v":283.46},{"v":286.296,"d":"286.30"},{"v":174.5,"d":"174.50"},"",188.41,188.41,null,{"$f":"MIN([1]Competencias!AB35:AD35)","v":359.77},{"$f":"IFERROR(SMALL([1]Competencias!AB35:AD35,2),999.99)","v":370.12},{"v":431.724,"d":"431.72"},188.41,""]
["2010-11-06","233480916","JUAN","GARDILCIC SANTA CRUZ","M","CVN","AS","U16","SI","2",211.51,211.51,null,{"$f":"MIN([1]Competencias!K36:P36)","v":999.99},{"$f":"IFERROR(SMALL([1]Competencias!K36:P36,2),999.99)","v":999.99},{"v":1199.988,"d":"1199.99"},211.51,"",136.88,136.88,null,{"$f":"MIN([1]Competencias!Q36:AA36)","v":999.99},{"$f":"IFERROR(SMALL([1]Competencias!Q36:AA36,2),999.99)","v":999.99},{"v":1199.988,"d":"1199.99"},136.88,"",151.31,151.31,null,{"$f":"MIN([1]Competencias!AB36:AD36)","v":999.99},{"$f":"IFERROR(SMALL([1]Competencias!AB36:AD36,2),999.99)","v":999.99},{"v":1199.988,"d":"1199.99"},151.31,""]
["2010-06-14","233491136","DANIEL IGNACIO ","GONZÁLEZ  LOPEZ ","M","CEC","AS","U16","SI","2",73.22,73.22,null,{"$f":"MIN([1]Competencias!K37:P37)","v":123.63},{"$f":"IFERROR(SMALL([1]Competencias!K37:P37,2),999.99)","v":999.99},{"v":148.356,"d":"148.36"},73.22,"",108.81,108.81,null,{"$f":"MIN([1]Competencias!Q37:AA37)","v":177.26},{"$f":"IFERROR(SMALL([1]Competencias!Q37:AA37,2),999.99)","v":999.99},{"v":212.712,"d":"212.71"},108.81,"",135.71,135.71,null,{"$f":"MIN([1]Competencias!AB37:AD37)","v":223.62},{"$f":"IFERROR(SMALL([1]Competencias!AB37:AD37,2),999.99)","v":999.99},{"v":268.344,"d":"268.34"},135.71,""]
["2010-06-22","233557250","TOMAS","OPAZO DIAZ","M","CLP","AS","U16","SI","2",219.82,219.82,null,{"$f":"MIN([1]Competencias!K38:P38)","v":999.99},{"$f":"IFERROR(SMALL([1]Competencias!K38:P38,2),999.99)","v":999.99},{"v":1199.988,"d":"1199.99"},219.82,"",208.29,208.29,null,{"$f":"MIN([1]Competencias!Q38:AA38)","v":999.99},{"$f":"IFERROR(SMALL([1]Competencias!Q38:AA38,2),999.99)","v":999.99},{"v":1199.988,"d":"1199.99"},208.29,"",239.08,239.08,null,{"$f":"MIN([1]Competencias!AB38:AD38)","v":999.99},{"$f":"IFERROR(SMALL([1]Competencias!AB38:AD38,2),999.99)","v":999.99},{"v":1199.988,"d":"1199.99"},239.08,""]
["2010-06-21","233561312","MATEO","CURKOVIC FRANCO","M","UC","AS","U16","SI","2",63.71,63.71,null,{"$f":"MIN([1]Competencias!K39:P39)","v":58.34},{"$f":"IFERROR(SMALL([1]Competencias!K39:P39,2),999.99)","v":78.42},{"v":70.008,"d":"70.01"},63.71,"",{"v":70,"d":"70.00"},{"v":70,"d":"70.00"},null,{"$f":"MIN([1]Competencias!Q39:AA39)","v":107.55},{"$f":"IFERROR(SMALL([1]Competencias!Q39:AA39,2),999.99)","v":999.99},129.06,{"v":70,"d":"70.00"},"",{"v":85,"d":"85.00"},{"v":85,"d":"85.00"},null,{"$f":"MIN([1]Competencias!AB39:AD39)","v":91.91},{"$f":"IFERROR(SMALL([1]Competencias!AB39:AD39,2),999.99)","v":98.88},{"v":110.29199999999999,"d":"110.29"},{"v":85,"d":"85.00"},""]
["2010-07-06","233659525","JOAQUIN","BARRIENTOS ENGLER","M","CAO","AS","U16","SI","2",170.93,170.93,null,{"$f":"MIN([1]Competencias!K40:P40)","v":211.04},{"$f":"IFERROR(SMALL([1]Competencias!K40:P40,2),999.99)","v":229.16},{"v":253.248,"d":"253.25"},170.93,"",197.63,197.63,null,{"$f":"MIN([1]Competencias!Q40:AA40)","v":213.25},{"$f":"IFERROR(SMALL([1]Competencias!Q40:AA40,2),999.99)","v":999.99},{"v":255.89999999999998,"d":"255.90"},197.63,"",194.86,194.86,null,{"$f":"MIN([1]Competencias!AB40:AD40)","v":243.86},{"$f":"IFERROR(SMALL([1]Competencias!AB40:AD40,2),999.99)","v":999.99},{"v":292.632,"d":"292.63"},194.86,""]
["2010-05-07","233662801","SOPHIE","HAMEAU GAETE","F","CLP","AS","U16","SI","2",279.72,279.72,null,{"$f":"MIN([1]Competencias!K41:P41)","v":237.91},{"$f":"IFERROR(SMALL([1]Competencias!K41:P41,2),999.99)","v":999.99},{"v":285.49199999999996,"d":"285.49"},279.72,"",255.74,255.74,null,{"$f":"MIN([1]Competencias!Q41:AA41)","v":999.99},{"$f":"IFERROR(SMALL([1]Competencias!Q41:AA41,2),999.99)","v":999.99},{"v":1199.988,"d":"1199.99"},255.74,"",352.22,352.22,null,{"$f":"MIN([1]Competencias!AB41:AD41)","v":318.95},{"$f":"IFERROR(SMALL([1]Competencias!AB41:AD41,2),999.99)","v":999.99},{"v":382.73999999999995,"d":"382.74"},352.22,""]
["2010-06-11","233711799","VICENTE","JUNEMANN ARANCIBIA","M","CAN","AS","U16","SI","2",730.74,730.74,null,{"$f":"MIN([1]Competencias!K42:P42)","v":999.99},{"$f":"IFERROR(SMALL([1]Competencias!K42:P42,2),999.99)","v":999.99},{"v":1199.988,"d":"1199.99"},730.74,"",999.99,999.99,null,{"$f":"MIN([1]Competencias!Q42:AA42)","v":999.99},{"$f":"IFERROR(SMALL([1]Competencias!Q42:AA42,2),999.99)","v":999.99},{"v":1199.988,"d":"1199.99"},999.99,"+",999.99,999.99,null,{"$f":"MIN([1]Competencias!AB42:AD42)","v":999.99},{"$f":"IFERROR(SMALL([1]Competencias!AB42:AD42,2),999.99)","v":999.99},{"v":1199.988,"d":"1199.99"},999.99,"+"]
["2010-08-25","234064819","MARINA","LÓPEZ CHAMORRO","F","CEC","AS","U16","SI","2",215.02,215.02,null,{"$f":"MIN([1]Competencias!K43:P43)","v":236.57},{"$f":"IFERROR(SMALL([1]Competencias!K43:P43,2),999.99)","v":999.99},{"v":283.88399999999996,"d":"283.88"},215.02,"",394.56,{"v":246.735,"d":"246.74"},null,{"$f":"MIN([1]Competencias!Q43:AA43)","v":223.24},{"$f":"IFERROR(SMALL([1]Competencias!Q43:AA43,2),999.99)","v":270.23},{"v":267.888,"d":"267.89"},{"v":246.735,"d":"246.74"},"",238.52,238.52,null,{"$f":"MIN([1]Competencias!AB43:AD43)","v":332.41},{"$f":"IFERROR(SMALL([1]Competencias!AB43:AD43,2),999.99)","v":{"v":349.8,"d":"349.80"}},{"v":398.892,"d":"398.89"},238.52,""]
["2010-09-08","234183079","COLOMBA","VASQUEZ HOTT","F","CAO","AS","U16","SI","2",172.26,172.26,null,{"$f":"MIN([1]Competencias!K44:P44)","v":999.99},{"$f":"IFERROR(SMALL([1]Competencias!K44:P44,2),999.99)","v":999.99},{"v":1199.988,"d":"1199.99"},172.26,"",253.38,253.38,null,{"$f":"MIN([1]Competencias!Q44:AA44)","v":999.99},{"$f":"IFERROR(SMALL([1]Competencias!Q44:AA44,2),999.99)","v":999.99},{"v":1199.988,"d":"1199.99"},253.38,"",{"v":237.7,"d":"237.70"},{"v":237.7,"d":"237.70"},null,{"$f":"MIN([1]Competencias!AB44:AD44)","v":999.99},{"$f":"IFERROR(SMALL([1]Competencias!AB44:AD44,2),999.99)","v":999.99},{"v":1199.988,"d":"1199.99"},{"v":237.7,"d":"237.70"},""]
["2010-08-24","234187511","RICARDO","VICUÑA CURTZE","M","CLP","AS","U16","SI","2",232.37,232.37,null,{"$f":"MIN([1]Competencias!K45:P45)","v":188.72},{"$f":"IFERROR(SMALL([1]Competencias!K45:P45,2),999.99)","v":999.99},{"v":226.464,"d":"226.46"},232.37,"",202.07,183.42,null,{"$f":"MIN([1]Competencias!Q45:AA45)","v":183.07},{"$f":"IFERROR(SMALL([1]Competencias!Q45:AA45,2),999.99)","v":183.77},{"v":219.684,"d":"219.68"},{"v":183.42000000000002,"d":"183.42"},"",248.51,248.51,null,{"$f":"MIN([1]Competencias!AB45:AD45)","v":999.99},{"$f":"IFERROR(SMALL([1]Competencias!AB45:AD45,2),999.99)","v":999.99},{"v":1199.988,"d":"1199.99"},248.51,""]
["2010-08-24","234187651","FRANCISCO","VICUÑA CURTZE","M","CLP","AS","U16","SI","2",98.92,98.92,null,{"$f":"MIN([1]Competencias!K46:P46)","v":133.18},{"$f":"IFERROR(SMALL([1]Competencias!K46:P46,2),999.99)","v":150.36},{"v":159.816,"d":"159.82"},98.92,"",{"v":152.6,"d":"152.60"},{"v":152.6,"d":"152.60"},null,{"$f":"MIN([1]Competencias!Q46:AA46)","v":133.12},{"$f":"IFERROR(SMALL([1]Competencias!Q46:AA46,2),999.99)","v":204.19},{"v":159.744,"d":"159.74"},{"v":152.6,"d":"152.60"},"",238.16,210.92,null,{"$f":"MIN([1]Competencias!AB46:AD46)","v":207.63},{"$f":"IFERROR(SMALL([1]Competencias!AB46:AD46,2),999.99)","v":214.21},{"v":249.15599999999998,"d":"249.16"},{"v":210.92000000000002,"d":"210.92"},""]
["2010-09-06","234197185","UVY","ACERBONI AHUMADA","F","UC","AS","U16","SI","2",89.52,{"v":70.85499999999999,"d":"70.86"},null,{"$f":"MIN([1]Competencias!K47:P47)","v":{"v":67.5,"d":"67.50"}},{"$f":"IFERROR(SMALL([1]Competencias!K47:P47,2),999.99)","v":74.21},{"v":81,"d":"81.00"},{"v":70.85499999999999,"d":"70.86"},"",{"v":70,"d":"70.00"},{"v":70,"d":"70.00"},null,{"$f":"MIN([1]Competencias!Q47:AA47)","v":999.99},{"$f":"IFERROR(SMALL([1]Competencias!Q47:AA47,2),999.99)","v":999.99},{"v":1199.988,"d":"1199.99"},{"v":70,"d":"70.00"},"",163.45,163.45,null,{"$f":"MIN([1]Competencias!AB47:AD47)","v":999.99},{"$f":"IFERROR(SMALL([1]Competencias!AB47:AD47,2),999.99)","v":999.99},{"v":1199.988,"d":"1199.99"},163.45,""]
["2010-09-16","234271490","MATILDE SOFIA","GARDA  TIMMERMANN","F","CEC","AS","U16","SI","2",144.74,144.74,null,{"$f":"MIN([1]Competencias!K48:P48)","v":97.95},{"$f":"IFERROR(SMALL([1]Competencias!K48:P48,2),999.99)","v":202.93},{"v":117.53999999999999,"d":"117.54"},144.74,"",{"v":226.4,"d":"226.40"},{"v":164.135,"d":"164.14"},null,{"$f":"MIN([1]Competencias!Q48:AA48)","v":153.33},{"$f":"IFERROR(SMALL([1]Competencias!Q48:AA48,2),999.99)","v":174.94},{"v":183.996,"d":"184.00"},{"v":164.135,"d":"164.14"},"",134.39,134.39,null,{"$f":"MIN([1]Competencias!AB48:AD48)","v":181.16},{"$f":"IFERROR(SMALL([1]Competencias!AB48:AD48,2),999.99)","v":193.11},{"v":217.392,"d":"217.39"},134.39,""]
["2010-09-22","23429511K","MAXIMILIANO","DIAZ FIGUEROA","M","CAR","AS","U16","SI","2",132.11,132.11,null,{"$f":"MIN([1]Competencias!K49:P49)","v":999.99},{"$f":"IFERROR(SMALL([1]Competencias!K49:P49,2),999.99)","v":999.99},{"v":1199.988,"d":"1199.99"},132.11,"",206.12,206.12,null,{"$f":"MIN([1]Competencias!Q49:AA49)","v":{"v":182.6,"d":"182.60"}},{"$f":"IFERROR(SMALL([1]Competencias!Q49:AA49,2),999.99)","v":999.99},{"v":219.11999999999998,"d":"219.12"},206.12,"",175.07,175.07,null,{"$f":"MIN([1]Competencias!AB49:AD49)","v":174.57},{"$f":"IFERROR(SMALL([1]Competencias!AB49:AD49,2),999.99)","v":999.99},{"v":209.48399999999998,"d":"209.48"},175.07,""]
["2010-09-16","234304798","EMILIA","ALVAREZ CHACON","F","CLP","AS","U16","SI","2",304.11,254.71,null,{"$f":"MIN([1]Competencias!K50:P50)","v":{"v":229.3,"d":"229.30"}},{"$f":"IFERROR(SMALL([1]Competencias!K50:P50,2),999.99)","v":280.12},275.16,254.71,"",287.38,287.38,null,{"$f":"MIN([1]Competencias!Q50:AA50)","v":384.07},{"$f":"IFERROR(SMALL([1]Competencias!Q50:AA50,2),999.99)","v":999.99},{"v":460.88399999999996,"d":"460.88"},287.38,"",{"v":389.4,"d":"389.40"},{"v":389.4,"d":"389.40"},null,{"$f":"MIN([1]Competencias!AB50:AD50)","v":999.99},{"$f":"IFERROR(SMALL([1]Competencias!AB50:AD50,2),999.99)","v":999.99},{"v":1199.988,"d":"1199.99"},{"v":389.4,"d":"389.40"},""]
["2010-09-22","234304860","PATRICK","RABY IBAÑEZ","M","CLP","AS","U16","SI","2",128.79,128.79,null,{"$f":"MIN([1]Competencias!K51:P51)","v":126.81},{"$f":"IFERROR(SMALL([1]Competencias!K51:P51,2),999.99)","v":999.99},{"v":152.172,"d":"152.17"},128.79,"",116.93,116.93,null,{"$f":"MIN([1]Competencias!Q51:AA51)","v":{"v":122.2,"d":"122.20"}},{"$f":"IFERROR(SMALL([1]Competencias!Q51:AA51,2),999.99)","v":149.73},146.64,116.93,"",116.76,116.76,null,{"$f":"MIN([1]Competencias!AB51:AD51)","v":143.54},{"$f":"IFERROR(SMALL([1]Competencias!AB51:AD51,2),999.99)","v":174.37},{"v":172.248,"d":"172.25"},116.76,""]
["2010-10-05","234452452","MARTINA NATALIA","HERRERA  NORAMBUENA","F","CORR","AS","U16","SI","2",999.99,480.72,null,{"$f":"MIN([1]Competencias!K52:P52)","v":{"v":400.6,"d":"400.60"}},{"$f":"IFERROR(SMALL([1]Competencias!K52:P52,2),999.99)","v":999.99},480.72,480.72,"",999.99,{"v":530.448,"d":"530.45"},null,{"$f":"MIN([1]Competencias!Q52:AA52)","v":442.04},{"$f":"IFERROR(SMALL([1]Competencias!Q52:AA52,2),999.99)","v":999.99},{"v":530.448,"d":"530.45"},{"v":530.448,"d":"530.45"},"",999.99,{"v":540.216,"d":"540.22"},null,{"$f":"MIN([1]Competencias!AB52:AD52)","v":450.18},{"$f":"IFERROR(SMALL([1]Competencias!AB52:AD52,2),999.99)","v":999.99},{"v":540.216,"d":"540.22"},{"v":540.216,"d":"540.22"},""]
["2011-10-18","234571850","MATÍAS","ANTIHUALA ARAYA","M","CLP","AS","U16","SI","1",390.08,390.08,null,{"$f":"MIN([1]Competencias!K53:P53)","v":999.99},{"$f":"IFERROR(SMALL([1]Competencias!K53:P53,2),999.99)","v":999.99},{"v":1199.988,"d":"1199.99"},390.08,"",448.54,448.54,null,{"$f":"MIN([1]Competencias!Q53:AA53)","v":195.89},{"$f":"IFERROR(SMALL([1]Competencias!Q53:AA53,2),999.99)","v":999.99},{"v":235.06799999999998,"d":"235.07"},448.54,"",330.47,330.47,null,{"$f":"MIN([1]Competencias!AB53:AD53)","v":999.99},{"$f":"IFERROR(SMALL([1]Competencias!AB53:AD53,2),999.99)","v":999.99},{"v":1199.988,"d":"1199.99"},330.47,""]
["2010-10-29","234657704","EMILIO","CADIZ MARIN","M","UC","AS","U16","SI","2",207.06,207.06,null,{"$f":"MIN([1]Competencias!K54:P54)","v":{"v":112.8,"d":"112.80"}},{"$f":"IFERROR(SMALL([1]Competencias!K54:P54,2),999.99)","v":999.99},{"v":135.35999999999999,"d":"135.36"},207.06,"",167.24,167.24,null,{"$f":"MIN([1]Competencias!Q54:AA54)","v":215.55},{"$f":"IFERROR(SMALL([1]Competencias!Q54:AA54,2),999.99)","v":999.99},258.66,167.24,"",207.47,192.04,null,{"$f":"MIN([1]Competencias!AB54:AD54)","v":185.68},{"$f":"IFERROR(SMALL([1]Competencias!AB54:AD54,2),999.99)","v":{"v":198.4,"d":"198.40"}},{"v":222.816,"d":"222.82"},{"v":192.04000000000002,"d":"192.04"},""]
["2010-10-28","234670417","LUNA","ANGUITA AVILES","F","CAO","AS","U16","SI","2",252.38,252.38,null,{"$f":"MIN([1]Competencias!K55:P55)","v":266.05},{"$f":"IFERROR(SMALL([1]Competencias!K55:P55,2),999.99)","v":269.13},319.26,252.38,"",238.78,238.78,null,{"$f":"MIN([1]Competencias!Q55:AA55)","v":{"v":257.3,"d":"257.30"}},{"$f":"IFERROR(SMALL([1]Competencias!Q55:AA55,2),999.99)","v":294.54},308.76,238.78,"",246.89,246.89,null,{"$f":"MIN([1]Competencias!AB55:AD55)","v":322.34},{"$f":"IFERROR(SMALL([1]Competencias!AB55:AD55,2),999.99)","v":999.99},{"v":386.80799999999994,"d":"386.81"},246.89,""]
["2010-11-05","234718827","MATEO","GROB CONCHA","M","CAO","AS","U16","SI","2",107.95,106.05,null,{"$f":"MIN([1]Competencias!K56:P56)","v":98.48},{"$f":"IFERROR(SMALL([1]Competencias!K56:P56,2),999.99)","v":113.62},{"v":118.176,"d":"118.18"},{"v":106.05000000000001,"d":"106.05"},"",157.23,{"v":134.865,"d":"134.87"},null,{"$f":"MIN([1]Competencias!Q56:AA56)","v":127.09},{"$f":"IFERROR(SMALL([1]Competencias!Q56:AA56,2),999.99)","v":142.64},{"v":152.508,"d":"152.51"},{"v":134.865,"d":"134.87"},"",125.81,125.81,null,{"$f":"MIN([1]Competencias!AB56:AD56)","v":114.11},{"$f":"IFERROR(SMALL([1]Competencias!AB56:AD56,2),999.99)","v":138.05},{"v":136.932,"d":"136.93"},125.81,""]
["2010-11-19","234863371","PEDRO","SANTIBAÑEZ PUFFE","M","CLP","AS","U16","SI","2",289.98,289.98,null,{"$f":"MIN([1]Competencias!K57:P57)","v":999.99},{"$f":"IFERROR(SMALL([1]Competencias!K57:P57,2),999.99)","v":999.99},{"v":1199.988,"d":"1199.99"},289.98,"",188.59,188.59,null,{"$f":"MIN([1]Competencias!Q57:AA57)","v":{"v":216.2,"d":"216.20"}},{"$f":"IFERROR(SMALL([1]Competencias!Q57:AA57,2),999.99)","v":999.99},259.44,188.59,"",236.99,236.99,null,{"$f":"MIN([1]Competencias!AB57:AD57)","v":228.58},{"$f":"IFERROR(SMALL([1]Competencias!AB57:AD57,2),999.99)","v":999.99},{"v":274.296,"d":"274.30"},236.99,""]
["2010-11-24","234873016","ANTONIA","MISLEJ LÓPEZ","F","CVN","AS","U16","SI","2",999.99,999.99,null,{"$f":"MIN([1]Competencias!K58:P58)","v":999.99},{"$f":"IFERROR(SMALL([1]Competencias!K58:P58,2),999.99)","v":999.99},{"v":1199.988,"d":"1199.99"},999.99,"+",999.99,999.99,null,{"$f":"MIN([1]Competencias!Q58:AA58)","v":999.99},{"$f":"IFERROR(SMALL([1]Competencias!Q58:AA58,2),999.99)","v":999.99},{"v":1199.988,"d":"1199.99"},999.99,"+",999.99,999.99,null,{"$f":"MIN([1]Competencias!AB58:AD58)","v":999.99},{"$f":"IFERROR(SMALL([1]Competencias!AB58:AD58,2),999.99)","v":999.99},{"v":1199.988,"d":"1199.99"},999.99,"+"]
["2010-12-15","235046873","CLEMENTE","MURUA INFANTE","M","UC","AS","U16","SI","2",213.81,{"v":199.355,"d":"199.36"},null,{"$f":"MIN([1]Competencias!K59:P59)","v":{"v":190.1,"d":"190.10"}},{"$f":"IFERROR(SMALL([1]Competencias!K59:P59,2),999.99)","v":208.61},{"v":228.11999999999998,"d":"228.12"},{"v":199.35500000000002,"d":"199.36"},"",187.08,187.08,null,{"$f":"MIN([1]Competencias!Q59:AA59)","v":237.13},{"$f":"IFERROR(SMALL([1]Competencias!Q59:AA59,2),999.99)","v":325.71},{"v":284.556,"d":"284.56"},187.08,"",370.52,370.52,null,{"$f":"MIN([1]Competencias!AB59:AD59)","v":999.99},{"$f":"IFERROR(SMALL([1]Competencias!AB59:AD59,2),999.99)","v":999.99},{"v":1199.988,"d":"1199.99"},370.52,""]
["2010-12-27","235123975","FLORENCIA","VIDAL DIAZ","F","CVN","AS","U16","SI","2",233.04,222.47,null,{"$f":"MIN([1]Competencias!K60:P60)","v":182.13},{"$f":"IFERROR(SMALL([1]Competencias!K60:P60,2),999.99)","v":262.81},{"v":218.55599999999998,"d":"218.56"},222.47,"",247.27,247.27,null,{"$f":"MIN([1]Competencias!Q60:AA60)","v":232.32},{"$f":"IFERROR(SMALL([1]Competencias!Q60:AA60,2),999.99)","v":999.99},{"v":278.784,"d":"278.78"},247.27,"",297.77,{"v":244.535,"d":"244.54"},null,{"$f":"MIN([1]Competencias!AB60:AD60)","v":240.38},{"$f":"IFERROR(SMALL([1]Competencias!AB60:AD60,2),999.99)","v":248.69},{"v":288.45599999999996,"d":"288.46"},{"v":244.535,"d":"244.54"},""]
["2010-12-30","235145197","TOMAS","GUZMAN LECANNELIER","M","CEC","AS","U16","SI","2",145.61,145.61,null,{"$f":"MIN([1]Competencias!K61:P61)","v":199.43},{"$f":"IFERROR(SMALL([1]Competencias!K61:P61,2),999.99)","v":999.99},{"v":239.316,"d":"239.32"},145.61,"",172.59,154.41,null,{"$f":"MIN([1]Competencias!Q61:AA61)","v":152.76},{"$f":"IFERROR(SMALL([1]Competencias!Q61:AA61,2),999.99)","v":156.06},{"v":183.31199999999998,"d":"183.31"},154.41,"",190.57,{"v":161.405,"d":"161.41"},null,{"$f":"MIN([1]Competencias!AB61:AD61)","v":{"v":159.5,"d":"159.50"}},{"$f":"IFERROR(SMALL([1]Competencias!AB61:AD61,2),999.99)","v":163.31},{"v":191.4,"d":"191.40"},{"v":161.405,"d":"161.41"},""]
["2011-01-03","235182785","FRANCISCO JAVIER","PEREZ HADDAD","M","CAN","AS","U16","SI","1",113.26,113.26,null,{"$f":"MIN([1]Competencias!K62:P62)","v":999.99},{"$f":"IFERROR(SMALL([1]Competencias!K62:P62,2),999.99)","v":999.99},{"v":1199.988,"d":"1199.99"},113.26,"",77.39,77.39,null,{"$f":"MIN([1]Competencias!Q62:AA62)","v":999.99},{"$f":"IFERROR(SMALL([1]Competencias!Q62:AA62,2),999.99)","v":999.99},{"v":1199.988,"d":"1199.99"},77.39,"",88.09,88.09,null,{"$f":"MIN([1]Competencias!AB62:AD62)","v":999.99},{"$f":"IFERROR(SMALL([1]Competencias!AB62:AD62,2),999.99)","v":999.99},{"v":1199.988,"d":"1199.99"},88.09,""]
["2010-12-28","235205378","JOAQUÍN","MARCHANT OLGUÍN","M","ARS","AS","U16","SI","2",999.99,999.99,null,{"$f":"MIN([1]Competencias!K63:P63)","v":999.99},{"$f":"IFERROR(SMALL([1]Competencias!K63:P63,2),999.99)","v":999.99},{"v":1199.988,"d":"1199.99"},999.99,"+",999.99,999.99,null,{"$f":"MIN([1]Competencias!Q63:AA63)","v":999.99},{"$f":"IFERROR(SMALL([1]Competencias!Q63:AA63,2),999.99)","v":999.99},{"v":1199.988,"d":"1199.99"},999.99,"+",999.99,999.99,null,{"$f":"MIN([1]Competencias!AB63:AD63)","v":999.99},{"$f":"IFERROR(SMALL([1]Competencias!AB63:AD63,2),999.99)","v":999.99},{"v":1199.988,"d":"1199.99"},999.99,"+"]
["2011-01-24","235429683","BAUTISTA","LAMA KAISER","M","CLP","AS","U16","SI","1",66.01,66.01,null,{"$f":"MIN([1]Competencias!K64:P64)","v":73.75},{"$f":"IFERROR(SMALL([1]Competencias!K64:P64,2),999.99)","v":{"v":79.2,"d":"79.20"}},{"v":88.5,"d":"88.50"},66.01,"",78.97,78.97,null,{"$f":"MIN([1]Competencias!Q64:AA64)","v":77.38},{"$f":"IFERROR(SMALL([1]Competencias!Q64:AA64,2),999.99)","v":999.99},{"v":92.856,"d":"92.86"},78.97,"",117.55,107.91,null,{"$f":"MIN([1]Competencias!AB64:AD64)","v":105.63},{"$f":"IFERROR(SMALL([1]Competencias!AB64:AD64,2),999.99)","v":110.19},{"v":126.75599999999999,"d":"126.76"},107.91,""]
["2011-02-06","235529300","ELBA","HUBER SOLIS","F","LV","AS","U16","SI","1",129.83,129.83,null,{"$f":"MIN([1]Competencias!K65:P65)","v":{"v":114.3,"d":"114.30"}},{"$f":"IFERROR(SMALL([1]Competencias!K65:P65,2),999.99)","v":999.99},137.16,129.83,"",177.18,177.18,null,{"$f":"MIN([1]Competencias!Q65:AA65)","v":207.93},{"$f":"IFERROR(SMALL([1]Competencias!Q65:AA65,2),999.99)","v":218.84},{"v":249.516,"d":"249.52"},177.18,"",224.11,224.11,null,{"$f":"MIN([1]Competencias!AB65:AD65)","v":266.06},{"$f":"IFERROR(SMALL([1]Competencias!AB65:AD65,2),999.99)","v":999.99},{"v":319.272,"d":"319.27"},224.11,""]
["2011-02-01","235609819","JEAN PAUL","BOUDON URRA","M","CSC","AS","U16","SI","1",999.99,{"v":729.636,"d":"729.64"},null,{"$f":"MIN([1]Competencias!K66:P66)","v":608.03},{"$f":"IFERROR(SMALL([1]Competencias!K66:P66,2),999.99)","v":999.99},{"v":729.636,"d":"729.64"},{"v":729.636,"d":"729.64"},"",999.99,{"v":694.308,"d":"694.31"},null,{"$f":"MIN([1]Competencias!Q66:AA66)","v":578.59},{"$f":"IFERROR(SMALL([1]Competencias!Q66:AA66,2),999.99)","v":999.99},{"v":694.308,"d":"694.31"},{"v":694.308,"d":"694.31"},"",999.99,999.99,null,{"$f":"MIN([1]Competencias!AB66:AD66)","v":999.99},{"$f":"IFERROR(SMALL([1]Competencias!AB66:AD66,2),999.99)","v":999.99},{"v":1199.988,"d":"1199.99"},999.99,"+"]
["2011-02-21","235706288","FRIDA","SILVA JENSEN","F","CLP","AS","U16","SI","1",163.98,163.98,null,{"$f":"MIN([1]Competencias!K67:P67)","v":{"v":176,"d":"176.00"}},{"$f":"IFERROR(SMALL([1]Competencias!K67:P67,2),999.99)","v":999.99},{"$f":"N67*1.2","v":{"v":211.2,"d":"211.20"}},{"$f":"IF(N67=999.99,K67,IF(O67=999.99,IF(K67<999.99,K67,P67),IF((N67+O67)/2>K67,K67,(N67+O67)/2)))","v":163.98},{"$f":"IF(Q67=\"999,99\",\"\",IF(Q67=A67,\">\",IF(Q67=O67,\"+\",\"\")))","v":""},269.41,{"v":230.055,"d":"230.06"},null,{"$f":"MIN([1]Competencias!Q67:AA67)","v":220.14},{"$f":"IFERROR(SMALL([1]Competencias!Q67:AA67,2),999.99)","v":239.97},{"$f":"V67*1.2","v":{"v":264.16799999999995,"d":"264.17"}},{"$f":"IF(V67=999.99,S67,IF(W67=999.99,IF(S67<999.99,S67,X67),IF((V67+W67)/2>S67,S67,(V67+W67)/2)))","v":{"v":230.055,"d":"230.06"}},{"$f":"IF(Y67=\"999,99\",\"\",IF(Y67=G67,\">\",IF(Y67=W67,\"+\",\"\")))","v":""},233.37,233.37,null,{"$f":"MIN([1]Competencias!AB67:AD67)","v":328.41},{"$f":"IFERROR(SMALL([1]Competencias!AB67:AD67,2),999.99)","v":999.99},{"$f":"AD67*1.2","v":{"v":394.09200000000004,"d":"394.09"}},{"$f":"IF(AD67=999.99,AA67,IF(AE67=999.99,IF(AA67<999.99,AA67,AF67),IF((AD67+AE67)/2>AA67,AA67,(AD67+AE67)/2)))","v":233.37},{"$f":"IF(AG67=\"999,99\",\"\",IF(AG67=R67,\">\",IF(AG67=AE67,\"+\",\"\")))","v":""}]
["2011-03-12","235826844","CLEMENTE ANDRÉS","BUSTOS  ALVARADO","M","CORR","AS","U16","SI","1",141.55,141.55,null,{"$f":"MIN([1]Competencias!K68:P68)","v":999.99},{"$f":"IFERROR(SMALL([1]Competencias!K68:P68,2),999.99)","v":999.99},{"v":1199.988,"d":"1199.99"},141.55,"",196.81,196.81,null,{"$f":"MIN([1]Competencias!Q68:AA68)","v":999.99},{"$f":"IFERROR(SMALL([1]Competencias!Q68:AA68,2),999.99)","v":999.99},{"v":1199.988,"d":"1199.99"},196.81,"",212.75,212.75,null,{"$f":"MIN([1]Competencias!AB68:AD68)","v":253.88},{"$f":"IFERROR(SMALL([1]Competencias!AB68:AD68,2),999.99)","v":999.99},{"v":304.656,"d":"304.66"},212.75,""]
["2011-03-14","23585550K","BORJA","LESSER DILL","M","CLP","AS","U16","SI","1",141.73,122.37,null,{"$f":"MIN([1]Competencias!K69:P69)","v":115.84},{"$f":"IFERROR(SMALL([1]Competencias!K69:P69,2),999.99)","v":{"v":128.9,"d":"128.90"}},{"v":139.008,"d":"139.01"},122.37,"",147.61,147.61,null,{"$f":"MIN([1]Competencias!Q69:AA69)","v":187.81},{"$f":"IFERROR(SMALL([1]Competencias!Q69:AA69,2),999.99)","v":999.99},{"v":225.37199999999999,"d":"225.37"},147.61,"",236.76,203.03,null,{"$f":"MIN([1]Competencias!AB69:AD69)","v":201.67},{"$f":"IFERROR(SMALL([1]Competencias!AB69:AD69,2),999.99)","v":204.39},{"v":242.00399999999996,"d":"242.00"},{"v":203.02999999999997,"d":"203.03"},""]
["2011-01-17","235889730","ALBERTO","PUENTE YANKOVIC","M","CAN","AS","U16","SI","1",86.13,86.13,null,{"$f":"MIN([1]Competencias!K70:P70)","v":66.37},{"$f":"IFERROR(SMALL([1]Competencias!K70:P70,2),999.99)","v":999.99},{"v":79.644,"d":"79.64"},86.13,"",95.86,72.03,null,{"$f":"MIN([1]Competencias!Q70:AA70)","v":71.09},{"$f":"IFERROR(SMALL([1]Competencias!Q70:AA70,2),999.99)","v":72.97},{"v":85.308,"d":"85.31"},72.03,"",{"v":139,"d":"139.00"},{"v":99.345,"d":"99.35"},null,{"$f":"MIN([1]Competencias!AB70:AD70)","v":{"v":94.4,"d":"94.40"}},{"$f":"IFERROR(SMALL([1]Competencias!AB70:AD70,2),999.99)","v":104.29},113.28,{"v":99.345,"d":"99.35"},""]
["2011-08-11","235923602","MAXIMILIAN","EPP GOYENECHEA","M","UC","AS","U16","SI","1",999.99,999.99,null,{"$f":"MIN([1]Competencias!K71:P71)","v":999.99},{"$f":"IFERROR(SMALL([1]Competencias!K71:P71,2),999.99)","v":999.99},{"v":1199.988,"d":"1199.99"},999.99,"+",999.99,999.99,null,{"$f":"MIN([1]Competencias!Q71:AA71)","v":999.99},{"$f":"IFERROR(SMALL([1]Competencias!Q71:AA71,2),999.99)","v":999.99},{"v":1199.988,"d":"1199.99"},999.99,"+",999.99,999.99,null,{"$f":"MIN([1]Competencias!AB71:AD71)","v":999.99},{"$f":"IFERROR(SMALL([1]Competencias!AB71:AD71,2),999.99)","v":999.99},{"v":1199.988,"d":"1199.99"},999.99,"+"]
["2011-03-20","235986701","BLANCA","IBAÑEZ AMBIA","F","CLP","AS","U16","SI","1",{"v":270,"d":"270.00"},{"v":270,"d":"270.00"},null,{"$f":"MIN([1]Competencias!K72:P72)","v":{"v":213.3,"d":"213.30"}},{"$f":"IFERROR(SMALL([1]Competencias!K72:P72,2),999.99)","v":999.99},255.96,{"v":270,"d":"270.00"},"",213.24,213.24,null,{"$f":"MIN([1]Competencias!Q72:AA72)","v":464.73},{"$f":"IFERROR(SMALL([1]Competencias!Q72:AA72,2),999.99)","v":999.99},{"v":557.676,"d":"557.68"},213.24,"",270.13,270.13,null,{"$f":"MIN([1]Competencias!AB72:AD72)","v":999.99},{"$f":"IFERROR(SMALL([1]Competencias!AB72:AD72,2),999.99)","v":999.99},{"v":1199.988,"d":"1199.99"},270.13,""]
["2011-03-21","235998793","IGNACIA","FUENTES  LABRA ","F","ARS","AS","U16","SI","1",71.98,71.98,null,{"$f":"MIN([1]Competencias!K73:P73)","v":79.47},{"$f":"IFERROR(SMALL([1]Competencias!K73:P73,2),999.99)","v":101.15},{"v":95.36399999999999,"d":"95.36"},71.98,"",{"v":110,"d":"110.00"},{"v":106.3,"d":"106.30"},null,{"$f":"MIN([1]Competencias!Q73:AA73)","v":101.66},{"$f":"IFERROR(SMALL([1]Competencias!Q73:AA73,2),999.99)","v":110.94},{"v":121.99199999999999,"d":"121.99"},{"v":106.3,"d":"106.30"},"",132.94,{"v":103.295,"d":"103.30"},null,{"$f":"MIN([1]Competencias!AB73:AD73)","v":83.86},{"$f":"IFERROR(SMALL([1]Competencias!AB73:AD73,2),999.99)","v":122.73},{"v":100.63199999999999,"d":"100.63"},{"v":103.295,"d":"103.30"},""]
["2011-03-23","236058379","SANTIAGO","CASTRO OTERO","M","UC","AS","U16","SI","1",463.25,463.25,null,{"$f":"MIN([1]Competencias!K74:P74)","v":999.99},{"$f":"IFERROR(SMALL([1]Competencias!K74:P74,2),999.99)","v":999.99},{"v":1199.988,"d":"1199.99"},463.25,"",231.97,231.97,null,{"$f":"MIN([1]Competencias!Q74:AA74)","v":999.99},{"$f":"IFERROR(SMALL([1]Competencias!Q74:AA74,2),999.99)","v":999.99},{"v":1199.988,"d":"1199.99"},231.97,"",295.45,295.45,null,{"$f":"MIN([1]Competencias!AB74:AD74)","v":999.99},{"$f":"IFERROR(SMALL([1]Competencias!AB74:AD74,2),999.99)","v":999.99},{"v":1199.988,"d":"1199.99"},295.45,""]
["2011-03-30","236060357","TOMAS","GONZALEZ VALDES","M","CAN","AS","U16","SI","1",999.99,{"v":183.672,"d":"183.67"},null,{"$f":"MIN([1]Competencias!K75:P75)","v":153.06},{"$f":"IFERROR(SMALL([1]Competencias!K75:P75,2),999.99)","v":999.99},{"v":183.672,"d":"183.67"},{"v":183.672,"d":"183.67"},"",999.99,999.99,null,{"$f":"MIN([1]Competencias!Q75:AA75)","v":999.99},{"$f":"IFERROR(SMALL([1]Competencias!Q75:AA75,2),999.99)","v":999.99},{"v":1199.988,"d":"1199.99"},999.99,"+",241.84,241.84,null,{"$f":"MIN([1]Competencias!AB75:AD75)","v":999.99},{"$f":"IFERROR(SMALL([1]Competencias!AB75:AD75,2),999.99)","v":999.99},{"v":1199.988,"d":"1199.99"},241.84,""]
["2011-04-09","236151077","FEDERICO ","AYALA PEREZ","M","CAN","AS","U16","SI","1",152.49,152.49,null,{"$f":"MIN([1]Competencias!K76:P76)","v":158.26},{"$f":"IFERROR(SMALL([1]Competencias!K76:P76,2),999.99)","v":999.99},{"v":189.91199999999998,"d":"189.91"},152.49,"",187.43,187.43,null,{"$f":"MIN([1]Competencias!Q76:AA76)","v":{"v":308.2,"d":"308.20"}},{"$f":"IFERROR(SMALL([1]Competencias!Q76:AA76,2),999.99)","v":999.99},369.84,187.43,"",213.25,213.25,null,{"$f":"MIN([1]Competencias!AB76:AD76)","v":999.99},{"$f":"IFERROR(SMALL([1]Competencias!AB76:AD76,2),999.99)","v":999.99},{"v":1199.988,"d":"1199.99"},213.25,""]
["2011-04-13","236208508","DIEGO","TAGLE ALLIENDE","M","CAO","AS","U16","SI","1",200.47,200.47,null,{"$f":"MIN([1]Competencias!K77:P77)","v":269.26},{"$f":"IFERROR(SMALL([1]Competencias!K77:P77,2),999.99)","v":999.99},{"v":323.11199999999997,"d":"323.11"},200.47,"",180.58,180.58,null,{"$f":"MIN([1]Competencias!Q77:AA77)","v":999.99},{"$f":"IFERROR(SMALL([1]Competencias!Q77:AA77,2),999.99)","v":999.99},{"v":1199.988,"d":"1199.99"},180.58,"",318.72,318.72,null,{"$f":"MIN([1]Competencias!AB77:AD77)","v":999.99},{"$f":"IFERROR(SMALL([1]Competencias!AB77:AD77,2),999.99)","v":999.99},{"v":1199.988,"d":"1199.99"},318.72,""]
["2011-04-13","236208613","ANA","TAGLE ALLIENDE","F","CAO","AS","U16","SI","1",258.03,258.03,null,{"$f":"MIN([1]Competencias!K78:P78)","v":236.89},{"$f":"IFERROR(SMALL([1]Competencias!K78:P78,2),999.99)","v":999.99},{"v":284.268,"d":"284.27"},258.03,"",405.23,405.23,null,{"$f":"MIN([1]Competencias!Q78:AA78)","v":999.99},{"$f":"IFERROR(SMALL([1]Competencias!Q78:AA78,2),999.99)","v":999.99},{"v":1199.988,"d":"1199.99"},405.23,"",392.13,392.13,null,{"$f":"MIN([1]Competencias!AB78:AD78)","v":999.99},{"$f":"IFERROR(SMALL([1]Competencias!AB78:AD78,2),999.99)","v":999.99},{"v":1199.988,"d":"1199.99"},392.13,""]
["2011-01-05","236348741","MAXIMILIANO","MOLINA QUINTANA","M","CVN","AS","U16","SI","1",999.99,999.99,null,{"$f":"MIN([1]Competencias!K79:P79)","v":999.99},{"$f":"IFERROR(SMALL([1]Competencias!K79:P79,2),999.99)","v":999.99},{"v":1199.988,"d":"1199.99"},999.99,"+",999.99,999.99,null,{"$f":"MIN([1]Competencias!Q79:AA79)","v":999.99},{"$f":"IFERROR(SMALL([1]Competencias!Q79:AA79,2),999.99)","v":999.99},{"v":1199.988,"d":"1199.99"},999.99,"+",330.41,330.41,null,{"$f":"MIN([1]Competencias!AB79:AD79)","v":999.99},{"$f":"IFERROR(SMALL([1]Competencias!AB79:AD79,2),999.99)","v":999.99},{"v":1199.988,"d":"1199.99"},330.41,""]
["2011-05-16","236440893","CLARA","DONOSO INFANTE","F","CAO","AS","U16","SI","1",117.08,116.59,null,{"$f":"MIN([1]Competencias!K80:P80)","v":109.99},{"$f":"IFERROR(SMALL([1]Competencias!K80:P80,2),999.99)","v":123.19},{"v":131.988,"d":"131.99"},116.59,"",134.47,134.47,null,{"$f":"MIN([1]Competencias!Q80:AA80)","v":163.57},{"$f":"IFERROR(SMALL([1]Competencias!Q80:AA80,2),999.99)","v":999.99},{"v":196.284,"d":"196.28"},134.47,"",157.23,157.23,null,{"$f":"MIN([1]Competencias!AB80:AD80)","v":155.49},{"$f":"IFERROR(SMALL([1]Competencias!AB80:AD80,2),999.99)","v":174.77},{"v":186.588,"d":"186.59"},157.23,""]
["2011-05-14","236442764","DIEGO ","MONTAGNON  FERNÁNDEZ","M","ARS","AS","U16","SI","1",377.62,377.62,null,{"$f":"MIN([1]Competencias!K81:P81)","v":999.99},{"$f":"IFERROR(SMALL([1]Competencias!K81:P81,2),999.99)","v":999.99},{"v":1199.988,"d":"1199.99"},377.62,"",243.38,243.38,null,{"$f":"MIN([1]Competencias!Q81:AA81)","v":999.99},{"$f":"IFERROR(SMALL([1]Competencias!Q81:AA81,2),999.99)","v":999.99},{"v":1199.988,"d":"1199.99"},243.38,"",345.85,345.85,null,{"$f":"MIN([1]Competencias!AB81:AD81)","v":999.99},{"$f":"IFERROR(SMALL([1]Competencias!AB81:AD81,2),999.99)","v":999.99},{"v":1199.988,"d":"1199.99"},345.85,""]
["2011-05-16","236449246","MARTIN","ROMENY WAEGER","M","CAO","AS","U16","SI","1",170.62,170.62,null,{"$f":"MIN([1]Competencias!K82:P82)","v":174.31},{"$f":"IFERROR(SMALL([1]Competencias!K82:P82,2),999.99)","v":177.05},{"v":209.172,"d":"209.17"},170.62,"",{"v":125.1,"d":"125.10"},{"v":125.1,"d":"125.10"},null,{"$f":"MIN([1]Competencias!Q82:AA82)","v":189.31},{"$f":"IFERROR(SMALL([1]Competencias!Q82:AA82,2),999.99)","v":{"v":214.3,"d":"214.30"}},{"v":227.172,"d":"227.17"},{"v":125.1,"d":"125.10"},"",161.83,161.83,null,{"$f":"MIN([1]Competencias!AB82:AD82)","v":259.72},{"$f":"IFERROR(SMALL([1]Competencias!AB82:AD82,2),999.99)","v":999.99},{"v":311.66400000000004,"d":"311.66"},161.83,""]
["2011-05-18","236489973","GRACIELA","BARRIENTOS TRUJILLOS","F","PAT","AS","U16","SI","1",999.99,999.99,null,{"$f":"MIN([1]Competencias!K83:P83)","v":999.99},{"$f":"IFERROR(SMALL([1]Competencias!K83:P83,2),999.99)","v":999.99},{"v":1199.988,"d":"1199.99"},999.99,"+",999.99,212.04,null,{"$f":"MIN([1]Competencias!Q83:AA83)","v":{"v":176.7,"d":"176.70"}},{"$f":"IFERROR(SMALL([1]Competencias!Q83:AA83,2),999.99)","v":999.99},212.04,212.04,"",999.99,{"v":280.752,"d":"280.75"},null,{"$f":"MIN([1]Competencias!AB83:AD83)","v":233.96},{"$f":"IFERROR(SMALL([1]Competencias!AB83:AD83,2),999.99)","v":999.99},{"v":280.752,"d":"280.75"},{"v":280.752,"d":"280.75"},""]
["2011-06-15","236684938","GASPAR","CHAVEZ BAHAMONDES","M","ARS","AS","U16","SI","1",999.99,363.06,null,{"$f":"MIN([1]Competencias!K84:P84)","v":302.55},{"$f":"IFERROR(SMALL([1]Competencias!K84:P84,2),999.99)","v":999.99},363.06,363.06,"",395.85,395.85,null,{"$f":"MIN([1]Competencias!Q84:AA84)","v":999.99},{"$f":"IFERROR(SMALL([1]Competencias!Q84:AA84,2),999.99)","v":999.99},{"v":1199.988,"d":"1199.99"},395.85,"",528.25,{"v":332.095,"d":"332.10"},null,{"$f":"MIN([1]Competencias!AB84:AD84)","v":322.85},{"$f":"IFERROR(SMALL([1]Competencias!AB84:AD84,2),999.99)","v":341.34},387.42,{"v":332.095,"d":"332.10"},""]
["2011-06-13","236692175","LEONARDO","CARVALLO TARICCO","M","POR","AS","U16","SI","1",999.99,{"v":569.3399999999999,"d":"569.34"},null,{"$f":"MIN([1]Competencias!K85:P85)","v":474.45},{"$f":"IFERROR(SMALL([1]Competencias!K85:P85,2),999.99)","v":999.99},{"v":569.3399999999999,"d":"569.34"},{"v":569.3399999999999,"d":"569.34"},"",999.99,999.99,null,{"$f":"MIN([1]Competencias!Q85:AA85)","v":999.99},{"$f":"IFERROR(SMALL([1]Competencias!Q85:AA85,2),999.99)","v":999.99},{"v":1199.988,"d":"1199.99"},999.99,"+",792.54,792.54,null,{"$f":"MIN([1]Competencias!AB85:AD85)","v":999.99},{"$f":"IFERROR(SMALL([1]Competencias!AB85:AD85,2),999.99)","v":999.99},{"v":1199.988,"d":"1199.99"},792.54,""]
["2011-06-18","236710122","MARTINA","VERGARA SÁNCHEZ","F","POR","AS","U16","SI","1",999.99,999.99,null,{"$f":"MIN([1]Competencias!K86:P86)","v":999.99},{"$f":"IFERROR(SMALL([1]Competencias!K86:P86,2),999.99)","v":999.99},{"v":1199.988,"d":"1199.99"},999.99,"+",999.99,999.99,null,{"$f":"MIN([1]Competencias!Q86:AA86)","v":999.99},{"$f":"IFERROR(SMALL([1]Competencias!Q86:AA86,2),999.99)","v":999.99},{"v":1199.988,"d":"1199.99"},999.99,"+",427.37,427.37,null,{"$f":"MIN([1]Competencias!AB86:AD86)","v":999.99},{"$f":"IFERROR(SMALL([1]Competencias!AB86:AD86,2),999.99)","v":999.99},{"v":1199.988,"d":"1199.99"},427.37,""]
["2011-06-22","236769127","SOFIA","ASTORGA LAGOMARSINO","F","UC","AS","U16","SI","1",422.61,422.61,null,{"$f":"MIN([1]Competencias!K87:P87)","v":236.06},{"$f":"IFERROR(SMALL([1]Competencias!K87:P87,2),999.99)","v":999.99},{"v":283.272,"d":"283.27"},422.61,"",281.68,281.68,null,{"$f":"MIN([1]Competencias!Q87:AA87)","v":999.99},{"$f":"IFERROR(SMALL([1]Competencias!Q87:AA87,2),999.99)","v":999.99},{"v":1199.988,"d":"1199.99"},281.68,"",226.25,226.25,null,{"$f":"MIN([1]Competencias!AB87:AD87)","v":999.99},{"$f":"IFERROR(SMALL([1]Competencias!AB87:AD87,2),999.99)","v":999.99},{"v":1199.988,"d":"1199.99"},226.25,""]
["2011-06-22","236769607","MARTIN","ASTORGA LAGOMARSINO","M","UC","AS","U16","SI","1",269.95,269.95,null,{"$f":"MIN([1]Competencias!K88:P88)","v":242.11},{"$f":"IFERROR(SMALL([1]Competencias!K88:P88,2),999.99)","v":999.99},{"v":290.532,"d":"290.53"},269.95,"",276.31,276.31,null,{"$f":"MIN([1]Competencias!Q88:AA88)","v":323.42},{"$f":"IFERROR(SMALL([1]Competencias!Q88:AA88,2),999.99)","v":999.99},{"v":388.104,"d":"388.10"},276.31,"",390.28,390.28,null,{"$f":"MIN([1]Competencias!AB88:AD88)","v":999.99},{"$f":"IFERROR(SMALL([1]Competencias!AB88:AD88,2),999.99)","v":999.99},{"v":1199.988,"d":"1199.99"},390.28,""]
["2011-06-28","23679590K","MAGDALENA PASCALE","NEUMANN MENDEZ ","F","CEC","AS","U16","SI","1",145.24,145.24,null,{"$f":"MIN([1]Competencias!K89:P89)","v":190.08},{"$f":"IFERROR(SMALL([1]Competencias!K89:P89,2),999.99)","v":250.44},{"v":228.096,"d":"228.10"},145.24,"",174.94,174.94,null,{"$f":"MIN([1]Competencias!Q89:AA89)","v":219.12},{"$f":"IFERROR(SMALL([1]Competencias!Q89:AA89,2),999.99)","v":231.69},{"v":262.944,"d":"262.94"},174.94,"",195.09,195.09,null,{"$f":"MIN([1]Competencias!AB89:AD89)","v":296.04},{"$f":"IFERROR(SMALL([1]Competencias!AB89:AD89,2),999.99)","v":999.99},{"v":355.248,"d":"355.25"},195.09,"","INJURY 09.09.25"]
["2011-06-07","236797112","LOURDES","GARCÍA ","F","CVN","AS","U16","SI","1",237.51,237.51,null,{"$f":"MIN([1]Competencias!K90:P90)","v":208.18},{"$f":"IFERROR(SMALL([1]Competencias!K90:P90,2),999.99)","v":999.99},{"v":249.816,"d":"249.82"},237.51,"",286.21,286.21,null,{"$f":"MIN([1]Competencias!Q90:AA90)","v":332.76},{"$f":"IFERROR(SMALL([1]Competencias!Q90:AA90,2),999.99)","v":999.99},{"v":399.31199999999995,"d":"399.31"},286.21,"",263.16,263.16,null,{"$f":"MIN([1]Competencias!AB90:AD90)","v":292.48},{"$f":"IFERROR(SMALL([1]Competencias!AB90:AD90,2),999.99)","v":302.26},{"v":350.976,"d":"350.98"},263.16,""]
["2011-07-21","236983242","VICENTE","GALDAMES RINCÓN","M","CVN","AS","U16","SI","1",336.38,336.38,null,{"$f":"MIN([1]Competencias!K91:P91)","v":999.99},{"$f":"IFERROR(SMALL([1]Competencias!K91:P91,2),999.99)","v":999.99},{"v":1199.988,"d":"1199.99"},336.38,"",382.72,382.72,null,{"$f":"MIN([1]Competencias!Q91:AA91)","v":413.84},{"$f":"IFERROR(SMALL([1]Competencias!Q91:AA91,2),999.99)","v":999.99},{"v":496.60799999999995,"d":"496.61"},382.72,"",412.54,412.54,null,{"$f":"MIN([1]Competencias!AB91:AD91)","v":999.99},{"$f":"IFERROR(SMALL([1]Competencias!AB91:AD91,2),999.99)","v":999.99},{"v":1199.988,"d":"1199.99"},412.54,""]
["2011-07-22","237037456","PEDRO","CASTRO GONZALEZ","M","ARS","AS","U16","SI","1",{"v":122.8,"d":"122.80"},{"v":122.8,"d":"122.80"},null,{"$f":"MIN([1]Competencias!K92:P92)","v":107.42},{"$f":"IFERROR(SMALL([1]Competencias!K92:P92,2),999.99)","v":999.99},{"v":128.904,"d":"128.90"},{"v":122.8,"d":"122.80"},"",148.66,148.66,null,{"$f":"MIN([1]Competencias!Q92:AA92)","v":130.42},{"$f":"IFERROR(SMALL([1]Competencias!Q92:AA92,2),999.99)","v":175.01},{"v":156.504,"d":"156.50"},148.66,"",223.46,223.46,null,{"$f":"MIN([1]Competencias!AB92:AD92)","v":144.13},{"$f":"IFERROR(SMALL([1]Competencias!AB92:AD92,2),999.99)","v":999.99},{"v":172.956,"d":"172.96"},223.46,""]
["2011-07-29","237068440","LIONEL","ROBLES LOPEZ","M","CAO","AS","U16","SI","1",472.94,472.94,null,{"$f":"MIN([1]Competencias!K93:P93)","v":999.99},{"$f":"IFERROR(SMALL([1]Competencias!K93:P93,2),999.99)","v":999.99},{"v":1199.988,"d":"1199.99"},472.94,"",333.61,333.61,null,{"$f":"MIN([1]Competencias!Q93:AA93)","v":380.62},{"$f":"IFERROR(SMALL([1]Competencias!Q93:AA93,2),999.99)","v":999.99},{"v":456.74399999999997,"d":"456.74"},333.61,"",335.36,335.36,null,{"$f":"MIN([1]Competencias!AB93:AD93)","v":999.99},{"$f":"IFERROR(SMALL([1]Competencias!AB93:AD93,2),999.99)","v":999.99},{"v":1199.988,"d":"1199.99"},335.36,""]
["2011-08-01","237100441","ISMAEL ","GANDARA RODILLO ","M","CAN","AS","U16","SI","1",{"v":190.1,"d":"190.10"},{"v":181.885,"d":"181.89"},null,{"$f":"MIN([1]Competencias!K94:P94)","v":180.89},{"$f":"IFERROR(SMALL([1]Competencias!K94:P94,2),999.99)","v":182.88},{"v":217.06799999999998,"d":"217.07"},{"v":181.885,"d":"181.89"},"",195.98,195.98,null,{"$f":"MIN([1]Competencias!Q94:AA94)","v":197.97},{"$f":"IFERROR(SMALL([1]Competencias!Q94:AA94,2),999.99)","v":244.64},{"v":237.564,"d":"237.56"},195.98,"",262.54,262.54,null,{"$f":"MIN([1]Competencias!AB94:AD94)","v":999.99},{"$f":"IFERROR(SMALL([1]Competencias!AB94:AD94,2),999.99)","v":999.99},{"v":1199.988,"d":"1199.99"},262.54,""]
["2011-08-07","237109740","RAFAELA","KNAPP MOYA","F","CAPA","AS","U16","SI","1",171.13,171.13,null,{"$f":"MIN([1]Competencias!K95:P95)","v":{"v":93.6,"d":"93.60"}},{"$f":"IFERROR(SMALL([1]Competencias!K95:P95,2),999.99)","v":999.99},112.32,171.13,"",127.35,{"v":106.855,"d":"106.86"},null,{"$f":"MIN([1]Competencias!Q95:AA95)","v":{"v":87.2,"d":"87.20"}},{"$f":"IFERROR(SMALL([1]Competencias!Q95:AA95,2),999.99)","v":126.51},104.64,{"v":106.855,"d":"106.86"},"",87.23,87.23,null,{"$f":"MIN([1]Competencias!AB95:AD95)","v":118.45},{"$f":"IFERROR(SMALL([1]Competencias!AB95:AD95,2),999.99)","v":128.72},142.14,87.23,""]
["2011-07-28","237117174","RAFAELLA","REYES SBARAGLINI","F","CEC","AS","U16","SI","1",999.99,999.99,null,{"$f":"MIN([1]Competencias!K96:P96)","v":999.99},{"$f":"IFERROR(SMALL([1]Competencias!K96:P96,2),999.99)","v":999.99},{"v":1199.988,"d":"1199.99"},999.99,"+",999.99,999.99,null,{"$f":"MIN([1]Competencias!Q96:AA96)","v":999.99},{"$f":"IFERROR(SMALL([1]Competencias!Q96:AA96,2),999.99)","v":999.99},{"v":1199.988,"d":"1199.99"},999.99,"+",999.99,999.99,null,{"$f":"MIN([1]Competencias!AB96:AD96)","v":999.99},{"$f":"IFERROR(SMALL([1]Competencias!AB96:AD96,2),999.99)","v":999.99},{"v":1199.988,"d":"1199.99"},999.99,"+"]
["2011-08-09","237159500","FRANCISCA","JABAT CROQUEVIELLE","F","ARS","AS","U16","SI","1",{"v":393.7,"d":"393.70"},{"v":393.7,"d":"393.70"},null,{"$f":"MIN([1]Competencias!K97:P97)","v":999.99},{"$f":"IFERROR(SMALL([1]Competencias!K97:P97,2),999.99)","v":999.99},{"v":1199.988,"d":"1199.99"},{"v":393.7,"d":"393.70"},"",822.38,822.38,null,{"$f":"MIN([1]Competencias!Q97:AA97)","v":999.99},{"$f":"IFERROR(SMALL([1]Competencias!Q97:AA97,2),999.99)","v":999.99},{"v":1199.988,"d":"1199.99"},822.38,"",469.81,469.81,null,{"$f":"MIN([1]Competencias!AB97:AD97)","v":999.99},{"$f":"IFERROR(SMALL([1]Competencias!AB97:AD97,2),999.99)","v":999.99},{"v":1199.988,"d":"1199.99"},469.81,""]
["2011-08-12","23730571K","NICOLÁS ADOLFO","TAPIA MARDONES","M","CSC","AS","U16","SI","1",999.99,{"v":441.924,"d":"441.92"},null,{"$f":"MIN([1]Competencias!K98:P98)","v":368.27},{"$f":"IFERROR(SMALL([1]Competencias!K98:P98,2),999.99)","v":999.99},{"v":441.924,"d":"441.92"},{"v":441.924,"d":"441.92"},"",999.99,{"v":416.688,"d":"416.69"},null,{"$f":"MIN([1]Competencias!Q98:AA98)","v":347.24},{"$f":"IFERROR(SMALL([1]Competencias!Q98:AA98,2),999.99)","v":999.99},{"v":416.688,"d":"416.69"},{"v":416.688,"d":"416.69"},"",999.99,999.99,null,{"$f":"MIN([1]Competencias!AB98:AD98)","v":999.99},{"$f":"IFERROR(SMALL([1]Competencias!AB98:AD98,2),999.99)","v":999.99},{"v":1199.988,"d":"1199.99"},999.99,"+"]
["2011-09-07","237392299","DIEGO","RODRIGUEZ LAPOSTOL","M","CVN","AS","U16","SI","1",526.62,526.62,null,{"$f":"MIN([1]Competencias!K99:P99)","v":999.99},{"$f":"IFERROR(SMALL([1]Competencias!K99:P99,2),999.99)","v":999.99},{"v":1199.988,"d":"1199.99"},526.62,"",390.27,390.27,null,{"$f":"MIN([1]Competencias!Q99:AA99)","v":390.46},{"$f":"IFERROR(SMALL([1]Competencias!Q99:AA99,2),999.99)","v":627.36},{"v":468.55199999999996,"d":"468.55"},390.27,"",500.01,500.01,null,{"$f":"MIN([1]Competencias!AB99:AD99)","v":999.99},{"$f":"IFERROR(SMALL([1]Competencias!AB99:AD99,2),999.99)","v":999.99},{"v":1199.988,"d":"1199.99"},500.01,""]
["2011-09-12","237440420","PAULA FRANCISCA","SILVA CORNEJO","F","CEC","AS","U16","SI","1",999.99,999.99,null,{"$f":"MIN([1]Competencias!K100:P100)","v":999.99},{"$f":"IFERROR(SMALL([1]Competencias!K100:P100,2),999.99)","v":999.99},{"v":1199.988,"d":"1199.99"},999.99,"+",999.99,999.99,null,{"$f":"MIN([1]Competencias!Q100:AA100)","v":999.99},{"$f":"IFERROR(SMALL([1]Competencias!Q100:AA100,2),999.99)","v":999.99},{"v":1199.988,"d":"1199.99"},999.99,"+",999.99,999.99,null,{"$f":"MIN([1]Competencias!AB100:AD100)","v":999.99},{"$f":"IFERROR(SMALL([1]Competencias!AB100:AD100,2),999.99)","v":999.99},{"v":1199.988,"d":"1199.99"},999.99,"+"]
["2011-09-14","237461665","LAURA","DEL CAMPO TRAUTMANN","F","CEC","AS","U16","SI","1",130.99,130.99,null,{"$f":"MIN([1]Competencias!K101:P101)","v":999.99},{"$f":"IFERROR(SMALL([1]Competencias!K101:P101,2),999.99)","v":999.99},{"v":1199.988,"d":"1199.99"},130.99,"",171.94,171.94,null,{"$f":"MIN([1]Competencias!Q101:AA101)","v":157.66},{"$f":"IFERROR(SMALL([1]Competencias!Q101:AA101,2),999.99)","v":999.99},{"v":189.19199999999998,"d":"189.19"},171.94,"",167.56,167.56,null,{"$f":"MIN([1]Competencias!AB101:AD101)","v":999.99},{"$f":"IFERROR(SMALL([1]Competencias!AB101:AD101,2),999.99)","v":999.99},{"v":1199.988,"d":"1199.99"},167.56,""]
["2011-09-20","237514475","FLORENCIA","ROSS MASSANES","F","CAN","AS","U16","SI","1",143.06,143.06,null,{"$f":"MIN([1]Competencias!K102:P102)","v":{"v":172.9,"d":"172.90"}},{"$f":"IFERROR(SMALL([1]Competencias!K102:P102,2),999.99)","v":999.99},207.48,143.06,"",177.34,177.34,null,{"$f":"MIN([1]Competencias!Q102:AA102)","v":999.99},{"$f":"IFERROR(SMALL([1]Competencias!Q102:AA102,2),999.99)","v":999.99},{"v":1199.988,"d":"1199.99"},177.34,"",211.46,211.46,null,{"$f":"MIN([1]Competencias!AB102:AD102)","v":999.99},{"$f":"IFERROR(SMALL([1]Competencias!AB102:AD102,2),999.99)","v":999.99},{"v":1199.988,"d":"1199.99"},211.46,""]
["2011-10-04","237609107","TRINIDAD","MONTANARI OTERO","F","UC","AS","U16","SI","1",411.04,411.04,null,{"$f":"MIN([1]Competencias!K103:P103)","v":999.99},{"$f":"IFERROR(SMALL([1]Competencias!K103:P103,2),999.99)","v":999.99},{"v":1199.988,"d":"1199.99"},411.04,"",999.99,999.99,null,{"$f":"MIN([1]Competencias!Q103:AA103)","v":999.99},{"$f":"IFERROR(SMALL([1]Competencias!Q103:AA103,2),999.99)","v":999.99},{"v":1199.988,"d":"1199.99"},999.99,"+",468.67,468.67,null,{"$f":"MIN([1]Competencias!AB103:AD103)","v":999.99},{"$f":"IFERROR(SMALL([1]Competencias!AB103:AD103,2),999.99)","v":999.99},{"v":1199.988,"d":"1199.99"},468.67,""]
["2011-10-11","237668634","JOSE","MASSOUD AUSIN","M","CLP","AS","U16","SI","1",226.98,226.98,null,{"$f":"MIN([1]Competencias!K104:P104)","v":999.99},{"$f":"IFERROR(SMALL([1]Competencias!K104:P104,2),999.99)","v":999.99},{"v":1199.988,"d":"1199.99"},226.98,"",199.72,199.72,null,{"$f":"MIN([1]Competencias!Q104:AA104)","v":999.99},{"$f":"IFERROR(SMALL([1]Competencias!Q104:AA104,2),999.99)","v":999.99},{"v":1199.988,"d":"1199.99"},199.72,"",282.23,282.23,null,{"$f":"MIN([1]Competencias!AB104:AD104)","v":999.99},{"$f":"IFERROR(SMALL([1]Competencias!AB104:AD104,2),999.99)","v":999.99},{"v":1199.988,"d":"1199.99"},282.23,""]
["2011-10-10","237674901","JULIÁN","RIVERA DEL CAMPO","M","ARS","AS","U16","SI","1",244.42,{"v":180.975,"d":"180.98"},null,{"$f":"MIN([1]Competencias!K105:P105)","v":173.44},{"$f":"IFERROR(SMALL([1]Competencias!K105:P105,2),999.99)","v":188.51},{"v":208.128,"d":"208.13"},{"v":180.975,"d":"180.98"},"",275.63,275.63,null,{"$f":"MIN([1]Competencias!Q105:AA105)","v":188.85},{"$f":"IFERROR(SMALL([1]Competencias!Q105:AA105,2),999.99)","v":999.99},{"v":226.61999999999998,"d":"226.62"},275.63,"",354.28,{"v":227.005,"d":"227.01"},null,{"$f":"MIN([1]Competencias!AB105:AD105)","v":213.96},{"$f":"IFERROR(SMALL([1]Competencias!AB105:AD105,2),999.99)","v":240.05},{"v":256.752,"d":"256.75"},{"v":227.005,"d":"227.01"},""]
["2011-10-11","237684176","PATRICIO MATÍAS ","CONTESSE ORTIZ ","M","CAN","AS","U16","SI","1",116.52,116.52,null,{"$f":"MIN([1]Competencias!K106:P106)","v":125.18},{"$f":"IFERROR(SMALL([1]Competencias!K106:P106,2),999.99)","v":147.77},{"v":150.216,"d":"150.22"},116.52,"",112.45,112.45,null,{"$f":"MIN([1]Competencias!Q106:AA106)","v":999.99},{"$f":"IFERROR(SMALL([1]Competencias!Q106:AA106,2),999.99)","v":999.99},{"v":1199.988,"d":"1199.99"},112.45,"",134.06,134.06,null,{"$f":"MIN([1]Competencias!AB106:AD106)","v":999.99},{"$f":"IFERROR(SMALL([1]Competencias!AB106:AD106,2),999.99)","v":999.99},{"v":1199.988,"d":"1199.99"},134.06,""]
["2011-10-24","237794540","MELISA MARIA","LERMANDA  IBAÑEZ","F","CORR","AS","U16","SI","1",{"v":152.3,"d":"152.30"},{"v":152.3,"d":"152.30"},null,{"$f":"MIN([1]Competencias!K107:P107)","v":166.32},{"$f":"IFERROR(SMALL([1]Competencias!K107:P107,2),999.99)","v":999.99},{"v":199.58399999999997,"d":"199.58"},{"v":152.3,"d":"152.30"},"",255.98,255.98,null,{"$f":"MIN([1]Competencias!Q107:AA107)","v":268.01},{"$f":"IFERROR(SMALL([1]Competencias!Q107:AA107,2),999.99)","v":999.99},{"v":321.61199999999997,"d":"321.61"},255.98,"",327.86,327.86,null,{"$f":"MIN([1]Competencias!AB107:AD107)","v":273.22},{"$f":"IFERROR(SMALL([1]Competencias!AB107:AD107,2),999.99)","v":999.99},{"v":327.86400000000003,"d":"327.86"},327.86,""]
["2011-11-03","237871677","ARTURO","WILLER SIMON","M","CAO","AS","U16","SI","1",127.88,127.88,null,{"$f":"MIN([1]Competencias!K108:P108)","v":999.99},{"$f":"IFERROR(SMALL([1]Competencias!K108:P108,2),999.99)","v":999.99},{"v":1199.988,"d":"1199.99"},127.88,"",145.06,145.06,null,{"$f":"MIN([1]Competencias!Q108:AA108)","v":158.41},{"$f":"IFERROR(SMALL([1]Competencias!Q108:AA108,2),999.99)","v":207.25},{"v":190.09199999999998,"d":"190.09"},145.06,"",{"v":194.2,"d":"194.20"},187.23,null,{"$f":"MIN([1]Competencias!AB108:AD108)","v":178.45},{"$f":"IFERROR(SMALL([1]Competencias!AB108:AD108,2),999.99)","v":196.01},214.14,187.23,""]
["2011-10-30","237881370","JULIA","OPITZ SEIDL","F","CAO","AS","U16","SI","1",398.07,398.07,null,{"$f":"MIN([1]Competencias!K109:P109)","v":999.99},{"$f":"IFERROR(SMALL([1]Competencias!K109:P109,2),999.99)","v":999.99},{"v":1199.988,"d":"1199.99"},398.07,"",523.93,523.93,null,{"$f":"MIN([1]Competencias!Q109:AA109)","v":999.99},{"$f":"IFERROR(SMALL([1]Competencias!Q109:AA109,2),999.99)","v":999.99},{"v":1199.988,"d":"1199.99"},523.93,"",661.88,661.88,null,{"$f":"MIN([1]Competencias!AB109:AD109)","v":999.99},{"$f":"IFERROR(SMALL([1]Competencias!AB109:AD109,2),999.99)","v":999.99},{"v":1199.988,"d":"1199.99"},661.88,""]
["2011-10-13","237939859","NAOMI","FISCHER BARENBOIM","F","ARS","AS","U16","SI","1",999.99,999.99,null,{"$f":"MIN([1]Competencias!K110:P110)","v":999.99},{"$f":"IFERROR(SMALL([1]Competencias!K110:P110,2),999.99)","v":999.99},{"v":1199.988,"d":"1199.99"},999.99,"+",999.99,999.99,null,{"$f":"MIN([1]Competencias!Q110:AA110)","v":999.99},{"$f":"IFERROR(SMALL([1]Competencias!Q110:AA110,2),999.99)","v":999.99},{"v":1199.988,"d":"1199.99"},999.99,"+",999.99,999.99,null,{"$f":"MIN([1]Competencias!AB110:AD110)","v":999.99},{"$f":"IFERROR(SMALL([1]Competencias!AB110:AD110,2),999.99)","v":999.99},{"v":1199.988,"d":"1199.99"},999.99,"+"]
["2011-11-11","237948424","DOMINGA","MANDRU ROMENY","F","CAO","AS","U16","SI","1",290.79,269.51,null,{"$f":"MIN([1]Competencias!K111:P111)","v":253.71},{"$f":"IFERROR(SMALL([1]Competencias!K111:P111,2),999.99)","v":285.31},{"v":304.452,"d":"304.45"},269.51,"",322.58,267.24,null,{"$f":"MIN([1]Competencias!Q111:AA111)","v":260.74},{"$f":"IFERROR(SMALL([1]Competencias!Q111:AA111,2),999.99)","v":273.74},{"v":312.888,"d":"312.89"},267.24,"",346.41,346.41,null,{"$f":"MIN([1]Competencias!AB111:AD111)","v":303.39},{"$f":"IFERROR(SMALL([1]Competencias!AB111:AD111,2),999.99)","v":999.99},{"v":364.068,"d":"364.07"},346.41,""]
["2011-11-16","237972236","AGUSTINA","BANNURA DECEBAL-CUZA","F","UC","AS","U16","SI","1",193.21,{"v":192.195,"d":"192.20"},null,{"$f":"MIN([1]Competencias!K112:P112)","v":{"v":160.1,"d":"160.10"}},{"$f":"IFERROR(SMALL([1]Competencias!K112:P112,2),999.99)","v":224.29},{"v":192.11999999999998,"d":"192.12"},{"v":192.195,"d":"192.20"},"",146.58,146.58,null,{"$f":"MIN([1]Competencias!Q112:AA112)","v":161.13},{"$f":"IFERROR(SMALL([1]Competencias!Q112:AA112,2),999.99)","v":238.27},{"v":193.356,"d":"193.36"},146.58,"",181.22,181.22,null,{"$f":"MIN([1]Competencias!AB112:AD112)","v":252.98},{"$f":"IFERROR(SMALL([1]Competencias!AB112:AD112,2),999.99)","v":278.49},{"v":303.57599999999996,"d":"303.58"},181.22,""]
["2011-11-23","238028973","VICENTE","MARTINEZ VICHERAT","M","UC","AS","U16","SI","1",409.56,409.56,null,{"$f":"MIN([1]Competencias!K113:P113)","v":999.99},{"$f":"IFERROR(SMALL([1]Competencias!K113:P113,2),999.99)","v":999.99},{"v":1199.988,"d":"1199.99"},409.56,"",353.46,353.46,null,{"$f":"MIN([1]Competencias!Q113:AA113)","v":999.99},{"$f":"IFERROR(SMALL([1]Competencias!Q113:AA113,2),999.99)","v":999.99},{"v":1199.988,"d":"1199.99"},353.46,"",999.99,999.99,null,{"$f":"MIN([1]Competencias!AB113:AD113)","v":999.99},{"$f":"IFERROR(SMALL([1]Competencias!AB113:AD113,2),999.99)","v":999.99},{"v":1199.988,"d":"1199.99"},999.99,"+"]
["2011-12-09","238169380","SANTIAGO","BADILLA FUENTES","M","CAN","AS","U16","SI","1",234.13,234.13,null,{"$f":"MIN([1]Competencias!K114:P114)","v":188.82},{"$f":"IFERROR(SMALL([1]Competencias!K114:P114,2),999.99)","v":999.99},{"v":226.58399999999997,"d":"226.58"},234.13,"",181.07,181.07,null,{"$f":"MIN([1]Competencias!Q114:AA114)","v":366.11},{"$f":"IFERROR(SMALL([1]Competencias!Q114:AA114,2),999.99)","v":999.99},{"v":439.332,"d":"439.33"},181.07,"",231.28,231.28,null,{"$f":"MIN([1]Competencias!AB114:AD114)","v":999.99},{"$f":"IFERROR(SMALL([1]Competencias!AB114:AD114,2),999.99)","v":999.99},{"v":1199.988,"d":"1199.99"},231.28,""]
["2011-12-20","238262828","VICENTE","DÍAZ SOTO","M","CLP","AS","U16","SI","1",196.69,196.69,null,{"$f":"MIN([1]Competencias!K115:P115)","v":148.85},{"$f":"IFERROR(SMALL([1]Competencias!K115:P115,2),999.99)","v":999.99},{"v":178.61999999999998,"d":"178.62"},196.69,"",170.78,170.78,null,{"$f":"MIN([1]Competencias!Q115:AA115)","v":194.16},{"$f":"IFERROR(SMALL([1]Competencias!Q115:AA115,2),999.99)","v":219.86},{"v":232.992,"d":"232.99"},170.78,"",{"v":240.5,"d":"240.50"},{"v":240.5,"d":"240.50"},null,{"$f":"MIN([1]Competencias!AB115:AD115)","v":239.53},{"$f":"IFERROR(SMALL([1]Competencias!AB115:AD115,2),999.99)","v":441.07},{"v":287.436,"d":"287.44"},{"v":240.5,"d":"240.50"},""]
["2011-12-23","238289130","TIAGO ","CARTES ATALAH","M","CAN","AS","U16","SI","1",105.05,105.05,null,{"$f":"MIN([1]Competencias!K116:P116)","v":110.62},{"$f":"IFERROR(SMALL([1]Competencias!K116:P116,2),999.99)","v":113.29},{"v":132.744,"d":"132.74"},105.05,"",163.57,163.57,null,{"$f":"MIN([1]Competencias!Q116:AA116)","v":145.25},{"$f":"IFERROR(SMALL([1]Competencias!Q116:AA116,2),999.99)","v":999.99},{"v":174.29999999999998,"d":"174.30"},163.57,"",181.74,169.01,null,{"$f":"MIN([1]Competencias!AB116:AD116)","v":157.75},{"$f":"IFERROR(SMALL([1]Competencias!AB116:AD116,2),999.99)","v":180.27},{"v":189.29999999999998,"d":"189.30"},169.01,""]
["2012-08-01","238390419","MAGDALENA","ROJAS F","F","CVN","AS","U14","SI","2",177.17,177.17,null,{"$f":"MIN([1]Competencias!K117:P117)","v":209.99},{"$f":"IFERROR(SMALL([1]Competencias!K117:P117,2),999.99)","v":999.99},{"v":251.988,"d":"251.99"},177.17,"",179.86,179.86,null,{"$f":"MIN([1]Competencias!Q117:AA117)","v":241.95},{"$f":"IFERROR(SMALL([1]Competencias!Q117:AA117,2),999.99)","v":266.75},290.34,179.86,"",{"v":205.6,"d":"205.60"},{"v":205.6,"d":"205.60"},null,{"$f":"MIN([1]Competencias!AB117:AD117)","v":232.66},{"$f":"IFERROR(SMALL([1]Competencias!AB117:AD117,2),999.99)","v":253.56},{"v":279.192,"d":"279.19"},{"v":205.6,"d":"205.60"},""]
["2012-01-18","238487544","LUCIANO","BRITO DIAZ","M","CLP","AS","U14","SI","2",106.99,106.99,null,{"$f":"MIN([1]Competencias!K118:P118)","v":90.64},{"$f":"IFERROR(SMALL([1]Competencias!K118:P118,2),999.99)","v":999.99},{"v":108.768,"d":"108.77"},106.99,"",96.02,96.02,null,{"$f":"MIN([1]Competencias!Q118:AA118)","v":999.99},{"$f":"IFERROR(SMALL([1]Competencias!Q118:AA118,2),999.99)","v":999.99},{"v":1199.988,"d":"1199.99"},96.02,"",109.06,109.06,null,{"$f":"MIN([1]Competencias!AB118:AD118)","v":999.99},{"$f":"IFERROR(SMALL([1]Competencias!AB118:AD118,2),999.99)","v":999.99},{"v":1199.988,"d":"1199.99"},109.06,""]
["2012-01-02","238488060","LORENZO","LEON AZUA","M","CVN","AS","U14","SI","2",999.99,999.99,null,{"$f":"MIN([1]Competencias!K119:P119)","v":999.99},{"$f":"IFERROR(SMALL([1]Competencias!K119:P119,2),999.99)","v":999.99},{"v":1199.988,"d":"1199.99"},999.99,"+",490.08,490.08,null,{"$f":"MIN([1]Competencias!Q119:AA119)","v":999.99},{"$f":"IFERROR(SMALL([1]Competencias!Q119:AA119,2),999.99)","v":999.99},{"v":1199.988,"d":"1199.99"},490.08,"",999.99,999.99,null,{"$f":"MIN([1]Competencias!AB119:AD119)","v":999.99},{"$f":"IFERROR(SMALL([1]Competencias!AB119:AD119,2),999.99)","v":999.99},{"v":1199.988,"d":"1199.99"},999.99,"+"]
["2012-03-02","238625661","ISIDRO","SECALL MOREL","M","CVN","AS","U14","SI","2",{"v":200.9,"d":"200.90"},{"v":200.9,"d":"200.90"},null,{"$f":"MIN([1]Competencias!K120:P120)","v":999.99},{"$f":"IFERROR(SMALL([1]Competencias!K120:P120,2),999.99)","v":999.99},{"v":1199.988,"d":"1199.99"},{"v":200.9,"d":"200.90"},"",148.03,148.03,null,{"$f":"MIN([1]Competencias!Q120:AA120)","v":999.99},{"$f":"IFERROR(SMALL([1]Competencias!Q120:AA120,2),999.99)","v":999.99},{"v":1199.988,"d":"1199.99"},148.03,"",182.28,182.28,null,{"$f":"MIN([1]Competencias!AB120:AD120)","v":999.99},{"$f":"IFERROR(SMALL([1]Competencias!AB120:AD120,2),999.99)","v":999.99},{"v":1199.988,"d":"1199.99"},182.28,""]
["2012-02-09","23866926K","HUGO JOSÉ","TAPIA MEDINA","M","CSC","AS","U14","SI","2",999.99,{"v":392.556,"d":"392.56"},null,{"$f":"MIN([1]Competencias!K121:P121)","v":327.13},{"$f":"IFERROR(SMALL([1]Competencias!K121:P121,2),999.99)","v":999.99},{"v":392.556,"d":"392.56"},{"v":392.556,"d":"392.56"},"",999.99,384.54,null,{"$f":"MIN([1]Competencias!Q121:AA121)","v":320.45},{"$f":"IFERROR(SMALL([1]Competencias!Q121:AA121,2),999.99)","v":999.99},{"v":384.53999999999996,"d":"384.54"},{"v":384.53999999999996,"d":"384.54"},"",999.99,{"v":559.9079999999999,"d":"559.91"},null,{"$f":"MIN([1]Competencias!AB121:AD121)","v":466.59},{"$f":"IFERROR(SMALL([1]Competencias!AB121:AD121,2),999.99)","v":999.99},{"v":559.9079999999999,"d":"559.91"},{"v":559.9079999999999,"d":"559.91"},""]
["2012-10-02","238674840","ANTONIA","GARDILCIC SANTA CRUZ","F","CVN","AS","U14","SI","2",162.96,162.96,null,{"$f":"MIN([1]Competencias!K122:P122)","v":999.99},{"$f":"IFERROR(SMALL([1]Competencias!K122:P122,2),999.99)","v":999.99},{"v":1199.988,"d":"1199.99"},162.96,"",155.75,155.75,null,{"$f":"MIN([1]Competencias!Q122:AA122)","v":174.07},{"$f":"IFERROR(SMALL([1]Competencias!Q122:AA122,2),999.99)","v":182.84},{"v":208.884,"d":"208.88"},155.75,"",151.45,151.45,null,{"$f":"MIN([1]Competencias!AB122:AD122)","v":217.73},{"$f":"IFERROR(SMALL([1]Competencias!AB122:AD122,2),999.99)","v":{"v":268.5,"d":"268.50"}},{"v":261.27599999999995,"d":"261.28"},151.45,""]
["2012-02-21","238774861","IGNACIA","LIRA CASAS","F","CAPA","AS","U14","SI","2",205.94,205.94,null,{"$f":"MIN([1]Competencias!K123:P123)","v":999.99},{"$f":"IFERROR(SMALL([1]Competencias!K123:P123,2),999.99)","v":999.99},{"v":1199.988,"d":"1199.99"},205.94,"",999.99,{"v":240.792,"d":"240.79"},null,{"$f":"MIN([1]Competencias!Q123:AA123)","v":200.66},{"$f":"IFERROR(SMALL([1]Competencias!Q123:AA123,2),999.99)","v":999.99},{"v":240.79199999999997,"d":"240.79"},{"v":240.79199999999997,"d":"240.79"},"",260.15,260.15,null,{"$f":"MIN([1]Competencias!AB123:AD123)","v":999.99},{"$f":"IFERROR(SMALL([1]Competencias!AB123:AD123,2),999.99)","v":999.99},{"v":1199.988,"d":"1199.99"},260.15,""]
["2012-02-21","238775086","JOAQUIN","LIRA CASAS","M","CAPA","AS","U14","SI","2",230.76,230.76,null,{"$f":"MIN([1]Competencias!K124:P124)","v":593.73},{"$f":"IFERROR(SMALL([1]Competencias!K124:P124,2),999.99)","v":999.99},{"v":712.476,"d":"712.48"},230.76,"",999.99,{"v":299.4,"d":"299.40"},null,{"$f":"MIN([1]Competencias!Q124:AA124)","v":{"v":249.5,"d":"249.50"}},{"$f":"IFERROR(SMALL([1]Competencias!Q124:AA124,2),999.99)","v":999.99},{"v":299.4,"d":"299.40"},{"v":299.4,"d":"299.40"},"",303.74,303.74,null,{"$f":"MIN([1]Competencias!AB124:AD124)","v":999.99},{"$f":"IFERROR(SMALL([1]Competencias!AB124:AD124,2),999.99)","v":999.99},{"v":1199.988,"d":"1199.99"},303.74,""]
["2012-03-09","238944864","LUNA","VERA ZAROR","F","LV","AS","U14","SI","2",213.75,213.75,null,{"$f":"MIN([1]Competencias!K125:P125)","v":138.33},{"$f":"IFERROR(SMALL([1]Competencias!K125:P125,2),999.99)","v":448.19},{"v":165.996,"d":"166.00"},213.75,"",250.64,250.64,null,{"$f":"MIN([1]Competencias!Q125:AA125)","v":282.65},{"$f":"IFERROR(SMALL([1]Competencias!Q125:AA125,2),999.99)","v":289.29},{"v":339.17999999999995,"d":"339.18"},250.64,"",281.06,281.06,null,{"$f":"MIN([1]Competencias!AB125:AD125)","v":261.63},{"$f":"IFERROR(SMALL([1]Competencias!AB125:AD125,2),999.99)","v":999.99},{"v":313.95599999999996,"d":"313.96"},281.06,""]
["2012-08-03","238953502","GABRIEL","FARÍAS AGUAYO","M","CVN","AS","U14","SI","2",999.99,999.99,null,{"$f":"MIN([1]Competencias!K126:P126)","v":999.99},{"$f":"IFERROR(SMALL([1]Competencias!K126:P126,2),999.99)","v":999.99},{"v":1199.988,"d":"1199.99"},999.99,"+",999.99,{"v":176.845,"d":"176.85"},null,{"$f":"MIN([1]Competencias!Q126:AA126)","v":176.29},{"$f":"IFERROR(SMALL([1]Competencias!Q126:AA126,2),999.99)","v":{"v":177.4,"d":"177.40"}},{"v":211.54799999999997,"d":"211.55"},{"v":176.845,"d":"176.85"},"",999.99,199.71,null,{"$f":"MIN([1]Competencias!AB126:AD126)","v":173.36},{"$f":"IFERROR(SMALL([1]Competencias!AB126:AD126,2),999.99)","v":226.06},{"v":208.032,"d":"208.03"},199.71,""]
["2012-03-13","239038379","MANUEL","LE-BERT RODRIGUEZ","M","UC","AS","U14","SI","2",367.49,223.72,null,{"$f":"MIN([1]Competencias!K127:P127)","v":205.51},{"$f":"IFERROR(SMALL([1]Competencias!K127:P127,2),999.99)","v":241.93},{"v":246.61199999999997,"d":"246.61"},223.72,"",999.99,{"v":159.195,"d":"159.20"},null,{"$f":"MIN([1]Competencias!Q127:AA127)","v":149.97},{"$f":"IFERROR(SMALL([1]Competencias!Q127:AA127,2),999.99)","v":168.42},{"v":179.964,"d":"179.96"},{"v":159.195,"d":"159.20"},"",999.99,{"v":275.875,"d":"275.88"},null,{"$f":"MIN([1]Competencias!AB127:AD127)","v":222.35},{"$f":"IFERROR(SMALL([1]Competencias!AB127:AD127,2),999.99)","v":{"v":329.4,"d":"329.40"}},266.82,{"v":275.875,"d":"275.88"},""]
["2012-03-21","239060099","ANGELES","CANDIA ECHENIQUE","F","UC","AS","U14","SI","2",298.68,298.68,null,{"$f":"MIN([1]Competencias!K128:P128)","v":266.62},{"$f":"IFERROR(SMALL([1]Competencias!K128:P128,2),999.99)","v":999.99},{"v":319.944,"d":"319.94"},298.68,"",377.82,{"v":317.005,"d":"317.01"},null,{"$f":"MIN([1]Competencias!Q128:AA128)","v":303.67},{"$f":"IFERROR(SMALL([1]Competencias!Q128:AA128,2),999.99)","v":330.34},{"v":364.404,"d":"364.40"},{"v":317.005,"d":"317.01"},"",396.61,{"v":340.565,"d":"340.57"},null,{"$f":"MIN([1]Competencias!AB128:AD128)","v":337.07},{"$f":"IFERROR(SMALL([1]Competencias!AB128:AD128,2),999.99)","v":344.06},{"v":404.484,"d":"404.48"},{"v":340.565,"d":"340.57"},""]
["2012-03-28","239091547","JUAN EDUARDO","IBAÑEZ VERGARA","M","CLP","AS","U14","SI","2",{"v":69.9,"d":"69.90"},{"v":69.9,"d":"69.90"},null,{"$f":"MIN([1]Competencias!K129:P129)","v":999.99},{"$f":"IFERROR(SMALL([1]Competencias!K129:P129,2),999.99)","v":999.99},{"v":1199.988,"d":"1199.99"},{"v":69.9,"d":"69.90"},"",{"v":70,"d":"70.00"},{"v":70,"d":"70.00"},null,{"$f":"MIN([1]Competencias!Q129:AA129)","v":999.99},{"$f":"IFERROR(SMALL([1]Competencias!Q129:AA129,2),999.99)","v":999.99},{"v":1199.988,"d":"1199.99"},{"v":70,"d":"70.00"},"",140.46,140.46,null,{"$f":"MIN([1]Competencias!AB129:AD129)","v":999.99},{"$f":"IFERROR(SMALL([1]Competencias!AB129:AD129,2),999.99)","v":999.99},{"v":1199.988,"d":"1199.99"},140.46,""]
["2012-04-01","239221904","NABIH","SEITUN FUENTES","M","LV","AS","U14","SI","2",103.82,103.82,null,{"$f":"MIN([1]Competencias!K130:P130)","v":103.66},{"$f":"IFERROR(SMALL([1]Competencias!K130:P130,2),999.99)","v":135.49},{"v":124.392,"d":"124.39"},103.82,"",188.02,188.02,null,{"$f":"MIN([1]Competencias!Q130:AA130)","v":{"v":205.7,"d":"205.70"}},{"$f":"IFERROR(SMALL([1]Competencias!Q130:AA130,2),999.99)","v":276.82},{"v":246.83999999999997,"d":"246.84"},188.02,"",348.11,348.11,null,{"$f":"MIN([1]Competencias!AB130:AD130)","v":374.15},{"$f":"IFERROR(SMALL([1]Competencias!AB130:AD130,2),999.99)","v":999.99},{"v":448.97999999999996,"d":"448.98"},348.11,""]
["2012-12-04","239225624","JUAN","BRINKMANN UNDURRAGA","M","CVN","AS","U14","SI","2",{"v":126,"d":"126.00"},{"v":126,"d":"126.00"},null,{"$f":"MIN([1]Competencias!K131:P131)","v":141.99},{"$f":"IFERROR(SMALL([1]Competencias!K131:P131,2),999.99)","v":999.99},{"$f":"N131*1.2","v":{"v":170.388,"d":"170.39"}},{"$f":"IF(N131=999.99,K131,IF(O131=999.99,IF(K131<999.99,K131,P131),IF((N131+O131)/2>K131,K131,(N131+O131)/2)))","v":{"v":126,"d":"126.00"}},{"$f":"IF(Q131=\"999,99\",\"\",IF(Q131=A131,\">\",IF(Q131=O131,\"+\",\"\")))","v":""},156.35,{"v":140.545,"d":"140.55"},null,{"$f":"MIN([1]Competencias!Q131:AA131)","v":137.89},{"$f":"IFERROR(SMALL([1]Competencias!Q131:AA131,2),999.99)","v":{"v":143.2,"d":"143.20"}},{"$f":"V131*1.2","v":{"v":165.468,"d":"165.47"}},{"$f":"IF(V131=999.99,S131,IF(W131=999.99,IF(S131<999.99,S131,X131),IF((V131+W131)/2>S131,S131,(V131+W131)/2)))","v":{"v":140.545,"d":"140.55"}},{"$f":"IF(Y131=\"999,99\",\"\",IF(Y131=G131,\">\",IF(Y131=W131,\"+\",\"\")))","v":""},272.25,162.07,null,{"$f":"MIN([1]Competencias!AB131:AD131)","v":153.82},{"$f":"IFERROR(SMALL([1]Competencias!AB131:AD131,2),999.99)","v":170.32},{"$f":"AD131*1.2","v":{"v":184.58399999999997,"d":"184.58"}},{"$f":"IF(AD131=999.99,AA131,IF(AE131=999.99,IF(AA131<999.99,AA131,AF131),IF((AD131+AE131)/2>AA131,AA131,(AD131+AE131)/2)))","v":162.07},{"$f":"IF(AG131=\"999,99\",\"\",IF(AG131=R131,\">\",IF(AG131=AE131,\"+\",\"\")))","v":""}]
["2012-04-21","23930088K","ANIBAL","MONTES GUTIERREZ","M","UC","AS","U14","SI","2",999.99,160.69,null,{"$f":"MIN([1]Competencias!K132:P132)","v":{"v":140.5,"d":"140.50"}},{"$f":"IFERROR(SMALL([1]Competencias!K132:P132,2),999.99)","v":180.88},{"v":168.6,"d":"168.60"},160.69,"",97.28,{"v":85.475,"d":"85.48"},null,{"$f":"MIN([1]Competencias!Q132:AA132)","v":78.36},{"$f":"IFERROR(SMALL([1]Competencias!Q132:AA132,2),999.99)","v":92.59},{"v":94.032,"d":"94.03"},{"v":85.475,"d":"85.48"},"",142.63,142.63,null,{"$f":"MIN([1]Competencias!AB132:AD132)","v":195.87},{"$f":"IFERROR(SMALL([1]Competencias!AB132:AD132,2),999.99)","v":999.99},{"v":235.04399999999998,"d":"235.04"},142.63,""]
["2012-04-21","239350453","DOMINGO ARNAU","TORRES RETI","M","CAN","AS","U14","SI","2",189.54,{"v":152.005,"d":"152.01"},null,{"$f":"MIN([1]Competencias!K133:P133)","v":139.46},{"$f":"IFERROR(SMALL([1]Competencias!K133:P133,2),999.99)","v":164.55},{"v":167.352,"d":"167.35"},{"v":152.005,"d":"152.01"},"",{"v":126.9,"d":"126.90"},{"v":126.9,"d":"126.90"},null,{"$f":"MIN([1]Competencias!Q133:AA133)","v":171.38},{"$f":"IFERROR(SMALL([1]Competencias!Q133:AA133,2),999.99)","v":234.66},{"v":205.65599999999998,"d":"205.66"},{"v":126.9,"d":"126.90"},"",117.78,117.78,null,{"$f":"MIN([1]Competencias!AB133:AD133)","v":999.99},{"$f":"IFERROR(SMALL([1]Competencias!AB133:AD133,2),999.99)","v":999.99},{"v":1199.988,"d":"1199.99"},117.78,""]
["2012-05-22","23954326K","MAX ","MONREAL  ORMEÑO","M","CORR","AS","U14","SI","2",{"v":98.2,"d":"98.20"},{"v":98.2,"d":"98.20"},null,{"$f":"MIN([1]Competencias!K134:P134)","v":97.24},{"$f":"IFERROR(SMALL([1]Competencias!K134:P134,2),999.99)","v":150.11},{"v":116.68799999999999,"d":"116.69"},{"v":98.2,"d":"98.20"},"",189.82,189.82,null,{"$f":"MIN([1]Competencias!Q134:AA134)","v":226.74},{"$f":"IFERROR(SMALL([1]Competencias!Q134:AA134,2),999.99)","v":232.29},{"v":272.088,"d":"272.09"},189.82,"",266.94,266.94,null,{"$f":"MIN([1]Competencias!AB134:AD134)","v":365.25},{"$f":"IFERROR(SMALL([1]Competencias!AB134:AD134,2),999.99)","v":999.99},{"v":438.3,"d":"438.30"},266.94,""]
["2012-05-03","23954410K","EMA","MUYLLE ALLIENDE","F","UC","AS","U14","SI","2",999.99,{"v":140.095,"d":"140.10"},null,{"$f":"MIN([1]Competencias!K135:P135)","v":121.49},{"$f":"IFERROR(SMALL([1]Competencias!K135:P135,2),999.99)","v":{"v":158.7,"d":"158.70"}},{"v":145.78799999999998,"d":"145.79"},{"v":140.095,"d":"140.10"},"",160.13,151.28,null,{"$f":"MIN([1]Competencias!Q135:AA135)","v":145.43},{"$f":"IFERROR(SMALL([1]Competencias!Q135:AA135,2),999.99)","v":157.13},{"v":174.516,"d":"174.52"},151.28,"",245.64,230.78,null,{"$f":"MIN([1]Competencias!AB135:AD135)","v":226.46},{"$f":"IFERROR(SMALL([1]Competencias!AB135:AD135,2),999.99)","v":{"v":235.1,"d":"235.10"}},{"v":271.752,"d":"271.75"},230.78,""]
["2012-05-16","239561756","TEODORO","PASTENE SOTO","M","CORR","AS","U14","SI","2",258.15,258.15,null,{"$f":"MIN([1]Competencias!K136:P136)","v":999.99},{"$f":"IFERROR(SMALL([1]Competencias!K136:P136,2),999.99)","v":999.99},{"v":1199.988,"d":"1199.99"},258.15,"",348.62,348.62,null,{"$f":"MIN([1]Competencias!Q136:AA136)","v":377.21},{"$f":"IFERROR(SMALL([1]Competencias!Q136:AA136,2),999.99)","v":999.99},{"v":452.652,"d":"452.65"},348.62,"",383.63,383.63,null,{"$f":"MIN([1]Competencias!AB136:AD136)","v":614.54},{"$f":"IFERROR(SMALL([1]Competencias!AB136:AD136,2),999.99)","v":999.99},{"v":737.448,"d":"737.45"},383.63,""]
["2012-05-29","239611478","JACINTA","OPAZO DIAZ","F","CLP","AS","U14","SI","2",193.15,193.15,null,{"$f":"MIN([1]Competencias!K137:P137)","v":154.02},{"$f":"IFERROR(SMALL([1]Competencias!K137:P137,2),999.99)","v":999.99},{"v":184.824,"d":"184.82"},193.15,"",214.19,214.19,null,{"$f":"MIN([1]Competencias!Q137:AA137)","v":356.08},{"$f":"IFERROR(SMALL([1]Competencias!Q137:AA137,2),999.99)","v":999.99},{"v":427.296,"d":"427.30"},214.19,"",279.71,279.71,null,{"$f":"MIN([1]Competencias!AB137:AD137)","v":999.99},{"$f":"IFERROR(SMALL([1]Competencias!AB137:AD137,2),999.99)","v":999.99},{"v":1199.988,"d":"1199.99"},279.71,""]
["2012-05-01","239624863","CLARA","GAZMURI PIEDRA","F","CEC","AS","U14","SI","2",232.14,232.14,null,{"$f":"MIN([1]Competencias!K138:P138)","v":999.99},{"$f":"IFERROR(SMALL([1]Competencias!K138:P138,2),999.99)","v":999.99},{"v":1199.988,"d":"1199.99"},232.14,"",358.05,358.05,null,{"$f":"MIN([1]Competencias!Q138:AA138)","v":999.99},{"$f":"IFERROR(SMALL([1]Competencias!Q138:AA138,2),999.99)","v":999.99},{"v":1199.988,"d":"1199.99"},358.05,"",999.99,999.99,null,{"$f":"MIN([1]Competencias!AB138:AD138)","v":999.99},{"$f":"IFERROR(SMALL([1]Competencias!AB138:AD138,2),999.99)","v":999.99},{"v":1199.988,"d":"1199.99"},999.99,"+"]
["2012-05-30","239677304","JULIETA","FERNANDEZ VERGARA","F","CLP","AS","U14","SI","2",75.32,75.32,null,{"$f":"MIN([1]Competencias!K139:P139)","v":{"v":102.5,"d":"102.50"}},{"$f":"IFERROR(SMALL([1]Competencias!K139:P139,2),999.99)","v":999.99},{"v":123,"d":"123.00"},75.32,"",{"v":118.5,"d":"118.50"},{"v":118.5,"d":"118.50"},null,{"$f":"MIN([1]Competencias!Q139:AA139)","v":134.57},{"$f":"IFERROR(SMALL([1]Competencias!Q139:AA139,2),999.99)","v":142.25},{"v":161.48399999999998,"d":"161.48"},{"v":118.5,"d":"118.50"},"",159.37,159.37,null,{"$f":"MIN([1]Competencias!AB139:AD139)","v":999.99},{"$f":"IFERROR(SMALL([1]Competencias!AB139:AD139,2),999.99)","v":999.99},{"v":1199.988,"d":"1199.99"},159.37,""]
["2012-05-30","239679838","OLGA","KUBICK LESSER","F","CLP","AS","U14","SI","2",155.09,155.09,null,{"$f":"MIN([1]Competencias!K140:P140)","v":999.99},{"$f":"IFERROR(SMALL([1]Competencias!K140:P140,2),999.99)","v":999.99},{"v":1199.988,"d":"1199.99"},155.09,"",158.13,158.13,null,{"$f":"MIN([1]Competencias!Q140:AA140)","v":159.83},{"$f":"IFERROR(SMALL([1]Competencias!Q140:AA140,2),999.99)","v":171.72},{"v":191.79600000000002,"d":"191.80"},158.13,"",210.97,{"v":186.755,"d":"186.76"},null,{"$f":"MIN([1]Competencias!AB140:AD140)","v":178.77},{"$f":"IFERROR(SMALL([1]Competencias!AB140:AD140,2),999.99)","v":194.74},{"v":214.524,"d":"214.52"},{"v":186.755,"d":"186.76"},""]
["2012-05-25","239693318","MAGDALENA ","CORDERO VON LEYSER","F","CEC","AS","U14","SI","2",999.99,999.99,null,{"$f":"MIN([1]Competencias!K141:P141)","v":999.99},{"$f":"IFERROR(SMALL([1]Competencias!K141:P141,2),999.99)","v":999.99},{"v":1199.988,"d":"1199.99"},999.99,"+",999.99,999.99,null,{"$f":"MIN([1]Competencias!Q141:AA141)","v":999.99},{"$f":"IFERROR(SMALL([1]Competencias!Q141:AA141,2),999.99)","v":999.99},{"v":1199.988,"d":"1199.99"},999.99,"+",999.99,999.99,null,{"$f":"MIN([1]Competencias!AB141:AD141)","v":999.99},{"$f":"IFERROR(SMALL([1]Competencias!AB141:AD141,2),999.99)","v":999.99},{"v":1199.988,"d":"1199.99"},999.99,"+"]
["2012-06-02","239697003","ADELA","VALDES PRIETO","F","CAO","AS","U14","SI","2",57.28,57.28,null,{"$f":"MIN([1]Competencias!K142:P142)","v":85.83},{"$f":"IFERROR(SMALL([1]Competencias!K142:P142,2),999.99)","v":999.99},{"v":102.996,"d":"103.00"},57.28,"",{"v":70,"d":"70.00"},{"v":70,"d":"70.00"},null,{"$f":"MIN([1]Competencias!Q142:AA142)","v":87.26},{"$f":"IFERROR(SMALL([1]Competencias!Q142:AA142,2),999.99)","v":89.68},{"v":104.712,"d":"104.71"},{"v":70,"d":"70.00"},"",{"v":85,"d":"85.00"},{"v":85,"d":"85.00"},null,{"$f":"MIN([1]Competencias!AB142:AD142)","v":152.13},{"$f":"IFERROR(SMALL([1]Competencias!AB142:AD142,2),999.99)","v":160.21},{"v":182.55599999999998,"d":"182.56"},{"v":85,"d":"85.00"},""]
["2012-05-25","239723578","GUSTAVO","PINCHEIRA BRAVO","M","CAR","AS","U14","SI","2",71.46,{"v":64.565,"d":"64.57"},null,{"$f":"MIN([1]Competencias!K143:P143)","v":49.67},{"$f":"IFERROR(SMALL([1]Competencias!K143:P143,2),999.99)","v":79.46},{"v":59.604,"d":"59.60"},{"v":64.565,"d":"64.57"},"",133.46,133.46,null,{"$f":"MIN([1]Competencias!Q143:AA143)","v":151.59},{"$f":"IFERROR(SMALL([1]Competencias!Q143:AA143,2),999.99)","v":161.97},{"v":181.908,"d":"181.91"},133.46,"",231.73,231.73,null,{"$f":"MIN([1]Competencias!AB143:AD143)","v":315.81},{"$f":"IFERROR(SMALL([1]Competencias!AB143:AD143,2),999.99)","v":999.99},{"v":378.972,"d":"378.97"},231.73,""]
["2012-06-07","239740588","ROSARIO ALEJANDRA","CALDERA ALMONACID","F","CEC","AS","U14","SI","2",141.73,141.73,null,{"$f":"MIN([1]Competencias!K144:P144)","v":125.73},{"$f":"IFERROR(SMALL([1]Competencias!K144:P144,2),999.99)","v":225.13},{"v":150.876,"d":"150.88"},141.73,"",267.91,227.71,null,{"$f":"MIN([1]Competencias!Q144:AA144)","v":215.33},{"$f":"IFERROR(SMALL([1]Competencias!Q144:AA144,2),999.99)","v":240.09},{"v":258.396,"d":"258.40"},227.71,"",261.85,{"v":248.855,"d":"248.86"},null,{"$f":"MIN([1]Competencias!AB144:AD144)","v":237.96},{"$f":"IFERROR(SMALL([1]Competencias!AB144:AD144,2),999.99)","v":259.75},{"v":285.552,"d":"285.55"},{"v":248.85500000000002,"d":"248.86"},""]
["2012-06-02","239743889","CLARA","CAMUS CORREA","F","CAN","AS","U14","SI","2",999.99,999.99,null,{"$f":"MIN([1]Competencias!K145:P145)","v":999.99},{"$f":"IFERROR(SMALL([1]Competencias!K145:P145,2),999.99)","v":999.99},{"v":1199.988,"d":"1199.99"},999.99,"+",999.99,{"v":580.895,"d":"580.90"},null,{"$f":"MIN([1]Competencias!Q145:AA145)","v":545.92},{"$f":"IFERROR(SMALL([1]Competencias!Q145:AA145,2),999.99)","v":615.87},{"v":655.1039999999999,"d":"655.10"},{"v":580.895,"d":"580.90"},"",999.99,999.99,null,{"$f":"MIN([1]Competencias!AB145:AD145)","v":999.99},{"$f":"IFERROR(SMALL([1]Competencias!AB145:AD145,2),999.99)","v":999.99},{"v":1199.988,"d":"1199.99"},999.99,"+"]
["2012-06-05","239758096","CRESCENTE","TUÑON SOTO","M","UC","AS","U14","SI","2",519.71,519.71,null,{"$f":"MIN([1]Competencias!K146:P146)","v":999.99},{"$f":"IFERROR(SMALL([1]Competencias!K146:P146,2),999.99)","v":999.99},{"v":1199.988,"d":"1199.99"},519.71,"",999.99,999.99,null,{"$f":"MIN([1]Competencias!Q146:AA146)","v":999.99},{"$f":"IFERROR(SMALL([1]Competencias!Q146:AA146,2),999.99)","v":999.99},{"v":1199.988,"d":"1199.99"},999.99,"+",999.99,999.99,null,{"$f":"MIN([1]Competencias!AB146:AD146)","v":999.99},{"$f":"IFERROR(SMALL([1]Competencias!AB146:AD146,2),999.99)","v":999.99},{"v":1199.988,"d":"1199.99"},999.99,"+"]
["2012-06-12","239800572","IÑAKI","BASAURI  GARDILCIC","M","CORR","AS","U14","SI","2",110.68,110.68,null,{"$f":"MIN([1]Competencias!K147:P147)","v":121.06},{"$f":"IFERROR(SMALL([1]Competencias!K147:P147,2),999.99)","v":145.59},{"v":145.272,"d":"145.27"},110.68,"",181.78,181.78,null,{"$f":"MIN([1]Competencias!Q147:AA147)","v":261.93},{"$f":"IFERROR(SMALL([1]Competencias!Q147:AA147,2),999.99)","v":377.16},{"v":314.316,"d":"314.32"},181.78,"",223.15,223.15,null,{"$f":"MIN([1]Competencias!AB147:AD147)","v":415.07},{"$f":"IFERROR(SMALL([1]Competencias!AB147:AD147,2),999.99)","v":999.99},{"v":498.08399999999995,"d":"498.08"},223.15,""]
["2012-06-02","239811019","EMILIA","PEREZ OLMOS","F","LV","AS","U14","SI","2",156.17,131.98,null,{"$f":"MIN([1]Competencias!K148:P148)","v":127.94},{"$f":"IFERROR(SMALL([1]Competencias!K148:P148,2),999.99)","v":136.02},{"v":153.528,"d":"153.53"},{"v":131.98000000000002,"d":"131.98"},"",{"v":166,"d":"166.00"},{"v":166,"d":"166.00"},null,{"$f":"MIN([1]Competencias!Q148:AA148)","v":{"v":266.9,"d":"266.90"}},{"$f":"IFERROR(SMALL([1]Competencias!Q148:AA148,2),999.99)","v":332.12},320.28,{"v":166,"d":"166.00"},"",216.92,216.92,null,{"$f":"MIN([1]Competencias!AB148:AD148)","v":248.21},{"$f":"IFERROR(SMALL([1]Competencias!AB148:AD148,2),999.99)","v":999.99},{"v":297.852,"d":"297.85"},216.92,""]
["2012-06-15","239854001","TEO","ATALAH BINFA","M","LV","AS","U14","SI","2",234.14,234.14,null,{"$f":"MIN([1]Competencias!K149:P149)","v":205.34},{"$f":"IFERROR(SMALL([1]Competencias!K149:P149,2),999.99)","v":999.99},{"v":246.408,"d":"246.41"},234.14,"",278.39,278.39,null,{"$f":"MIN([1]Competencias!Q149:AA149)","v":360.59},{"$f":"IFERROR(SMALL([1]Competencias!Q149:AA149,2),999.99)","v":999.99},{"v":432.70799999999997,"d":"432.71"},278.39,"",378.08,378.08,null,{"$f":"MIN([1]Competencias!AB149:AD149)","v":485.54},{"$f":"IFERROR(SMALL([1]Competencias!AB149:AD149,2),999.99)","v":999.99},{"v":582.648,"d":"582.65"},378.08,""]
["2012-03-19","239864716","PEDRO","RODRIGUEZ CASTRO","M","CVN","AS","U14","SI","2",195.25,195.25,null,{"$f":"MIN([1]Competencias!K150:P150)","v":227.17},{"$f":"IFERROR(SMALL([1]Competencias!K150:P150,2),999.99)","v":254.29},{"v":272.604,"d":"272.60"},195.25,"",179.99,179.99,null,{"$f":"MIN([1]Competencias!Q150:AA150)","v":204.82},{"$f":"IFERROR(SMALL([1]Competencias!Q150:AA150,2),999.99)","v":219.61},{"v":245.784,"d":"245.78"},179.99,"",171.88,171.88,null,{"$f":"MIN([1]Competencias!AB150:AD150)","v":218.14},{"$f":"IFERROR(SMALL([1]Competencias!AB150:AD150,2),999.99)","v":285.38},{"v":261.768,"d":"261.77"},171.88,""]
["2012-06-23","239909833","AGUSTIN","JARA ALVARADO","M","UC","AS","U14","SI","2",999.99,999.99,null,{"$f":"MIN([1]Competencias!K151:P151)","v":999.99},{"$f":"IFERROR(SMALL([1]Competencias!K151:P151,2),999.99)","v":999.99},{"v":1199.988,"d":"1199.99"},999.99,"+",295.24,295.24,null,{"$f":"MIN([1]Competencias!Q151:AA151)","v":999.99},{"$f":"IFERROR(SMALL([1]Competencias!Q151:AA151,2),999.99)","v":999.99},{"v":1199.988,"d":"1199.99"},295.24,"",301.23,301.23,null,{"$f":"MIN([1]Competencias!AB151:AD151)","v":999.99},{"$f":"IFERROR(SMALL([1]Competencias!AB151:AD151,2),999.99)","v":999.99},{"v":1199.988,"d":"1199.99"},301.23,""]
["2012-07-02","240010763","JOSÉ","KRAUSE GUTIÉRREZ","M","CVN","AS","U14","SI","2",999.99,145.48,null,{"$f":"MIN([1]Competencias!K152:P152)","v":125.22},{"$f":"IFERROR(SMALL([1]Competencias!K152:P152,2),999.99)","v":165.74},{"v":150.26399999999998,"d":"150.26"},{"v":145.48000000000002,"d":"145.48"},"",149.67,{"v":129.7,"d":"129.70"},null,{"$f":"MIN([1]Competencias!Q152:AA152)","v":116.92},{"$f":"IFERROR(SMALL([1]Competencias!Q152:AA152,2),999.99)","v":142.48},{"v":140.304,"d":"140.30"},{"v":129.7,"d":"129.70"},"",112.47,112.47,null,{"$f":"MIN([1]Competencias!AB152:AD152)","v":176.79},{"$f":"IFERROR(SMALL([1]Competencias!AB152:AD152,2),999.99)","v":184.85},{"v":212.148,"d":"212.15"},112.47,""]
["2012-06-28","240018462","PILAR","CLARO IRARRAZAVAL","F","UC","AS","U14","SI","2",199.69,199.69,null,{"$f":"MIN([1]Competencias!K153:P153)","v":136.54},{"$f":"IFERROR(SMALL([1]Competencias!K153:P153,2),999.99)","v":999.99},{"v":163.84799999999998,"d":"163.85"},199.69,"",164.91,164.91,null,{"$f":"MIN([1]Competencias!Q153:AA153)","v":232.57},{"$f":"IFERROR(SMALL([1]Competencias!Q153:AA153,2),999.99)","v":236.08},{"v":279.084,"d":"279.08"},164.91,"",186.39,186.39,null,{"$f":"MIN([1]Competencias!AB153:AD153)","v":999.99},{"$f":"IFERROR(SMALL([1]Competencias!AB153:AD153,2),999.99)","v":999.99},{"v":1199.988,"d":"1199.99"},186.39,""]
["2012-07-04","240101319","AMANDA","JONES ILLANES","F","CAN","AS","U14","SI","2",62.33,62.33,null,{"$f":"MIN([1]Competencias!K154:P154)","v":78.91},{"$f":"IFERROR(SMALL([1]Competencias!K154:P154,2),999.99)","v":999.99},{"v":94.692,"d":"94.69"},62.33,"",103.25,103.25,null,{"$f":"MIN([1]Competencias!Q154:AA154)","v":999.99},{"$f":"IFERROR(SMALL([1]Competencias!Q154:AA154,2),999.99)","v":999.99},{"v":1199.988,"d":"1199.99"},103.25,"",110.29,110.29,null,{"$f":"MIN([1]Competencias!AB154:AD154)","v":999.99},{"$f":"IFERROR(SMALL([1]Competencias!AB154:AD154,2),999.99)","v":999.99},{"v":1199.988,"d":"1199.99"},110.29,""]
["2012-07-18","240114283","BLANCA","PUIG GUTIERREZ","F","CAR","AS","U14","SI","2",101.22,101.22,null,{"$f":"MIN([1]Competencias!K155:P155)","v":151.09},{"$f":"IFERROR(SMALL([1]Competencias!K155:P155,2),999.99)","v":999.99},{"v":181.308,"d":"181.31"},101.22,"",137.28,137.28,null,{"$f":"MIN([1]Competencias!Q155:AA155)","v":{"v":245.8,"d":"245.80"}},{"$f":"IFERROR(SMALL([1]Competencias!Q155:AA155,2),999.99)","v":253.19},294.96,137.28,"",230.03,230.03,null,{"$f":"MIN([1]Competencias!AB155:AD155)","v":242.81},{"$f":"IFERROR(SMALL([1]Competencias!AB155:AD155,2),999.99)","v":999.99},{"v":291.372,"d":"291.37"},230.03,""]
["2012-07-17","24019130K","VICENTE JAVIER","ACLE ASENJO","M","CSC","AS","U14","SI","2",999.99,999.99,null,{"$f":"MIN([1]Competencias!K156:P156)","v":999.99},{"$f":"IFERROR(SMALL([1]Competencias!K156:P156,2),999.99)","v":999.99},{"v":1199.988,"d":"1199.99"},999.99,"+",999.99,{"v":338.928,"d":"338.93"},null,{"$f":"MIN([1]Competencias!Q156:AA156)","v":282.44},{"$f":"IFERROR(SMALL([1]Competencias!Q156:AA156,2),999.99)","v":999.99},{"v":338.928,"d":"338.93"},{"v":338.928,"d":"338.93"},"",999.99,{"v":434.436,"d":"434.44"},null,{"$f":"MIN([1]Competencias!AB156:AD156)","v":362.03},{"$f":"IFERROR(SMALL([1]Competencias!AB156:AD156,2),999.99)","v":999.99},{"v":434.436,"d":"434.44"},{"v":434.436,"d":"434.44"},""]
["2012-07-27","240208881","FRANCISCA","COSMELLI PIWONKA","F","UC","AS","U14","SI","2",{"v":141.3,"d":"141.30"},111.99,null,{"$f":"MIN([1]Competencias!K157:P157)","v":107.01},{"$f":"IFERROR(SMALL([1]Competencias!K157:P157,2),999.99)","v":116.97},{"v":128.412,"d":"128.41"},{"v":111.99000000000001,"d":"111.99"},"",204.22,204.22,null,{"$f":"MIN([1]Competencias!Q157:AA157)","v":999.99},{"$f":"IFERROR(SMALL([1]Competencias!Q157:AA157,2),999.99)","v":999.99},{"v":1199.988,"d":"1199.99"},204.22,"",{"v":196.3,"d":"196.30"},{"v":196.3,"d":"196.30"},null,{"$f":"MIN([1]Competencias!AB157:AD157)","v":999.99},{"$f":"IFERROR(SMALL([1]Competencias!AB157:AD157,2),999.99)","v":999.99},{"v":1199.988,"d":"1199.99"},{"v":196.3,"d":"196.30"},""]
["2012-08-06","240321343","EMA ANTONIA","GARDA TIMMERMANN","F","CEC","AS","U14","SI","2",{"v":123.4,"d":"123.40"},{"v":123.4,"d":"123.40"},null,{"$f":"MIN([1]Competencias!K158:P158)","v":128.77},{"$f":"IFERROR(SMALL([1]Competencias!K158:P158,2),999.99)","v":999.99},{"v":154.524,"d":"154.52"},{"v":123.4,"d":"123.40"},"",302.92,302.92,null,{"$f":"MIN([1]Competencias!Q158:AA158)","v":212.98},{"$f":"IFERROR(SMALL([1]Competencias!Q158:AA158,2),999.99)","v":999.99},{"v":255.57599999999996,"d":"255.58"},302.92,"",226.84,226.84,null,{"$f":"MIN([1]Competencias!AB158:AD158)","v":236.65},{"$f":"IFERROR(SMALL([1]Competencias!AB158:AD158,2),999.99)","v":999.99},283.98,226.84,""]
["2012-08-09","240324194","VICTORIA","BORCHERT TOLEDO","F","POR","AS","U14","SI","2",999.99,{"v":352.572,"d":"352.57"},null,{"$f":"MIN([1]Competencias!K159:P159)","v":293.81},{"$f":"IFERROR(SMALL([1]Competencias!K159:P159,2),999.99)","v":999.99},{"v":352.572,"d":"352.57"},{"v":352.572,"d":"352.57"},"",999.99,{"v":317.735,"d":"317.74"},null,{"$f":"MIN([1]Competencias!Q159:AA159)","v":278.52},{"$f":"IFERROR(SMALL([1]Competencias!Q159:AA159,2),999.99)","v":356.95},{"v":334.224,"d":"334.22"},{"v":317.735,"d":"317.74"},"",999.99,999.99,null,{"$f":"MIN([1]Competencias!AB159:AD159)","v":999.99},{"$f":"IFERROR(SMALL([1]Competencias!AB159:AD159,2),999.99)","v":999.99},{"v":1199.988,"d":"1199.99"},999.99,"+"]
["2012-08-17","240385538","CLEMENTE","SILVA OSSIPOVICH","M","CVN","AS","U14","SI","2",78.03,78.03,null,{"$f":"MIN([1]Competencias!K160:P160)","v":95.61},{"$f":"IFERROR(SMALL([1]Competencias!K160:P160,2),999.99)","v":999.99},{"v":114.732,"d":"114.73"},78.03,"",80.66,{"v":76.13499999999999,"d":"76.14"},null,{"$f":"MIN([1]Competencias!Q160:AA160)","v":{"v":71.5,"d":"71.50"}},{"$f":"IFERROR(SMALL([1]Competencias!Q160:AA160,2),999.99)","v":80.77},{"v":85.8,"d":"85.80"},{"v":76.13499999999999,"d":"76.14"},"",{"v":85,"d":"85.00"},{"v":85,"d":"85.00"},null,{"$f":"MIN([1]Competencias!AB160:AD160)","v":83.02},{"$f":"IFERROR(SMALL([1]Competencias!AB160:AD160,2),999.99)","v":87.34},{"v":99.624,"d":"99.62"},{"v":85,"d":"85.00"},""]
["2012-08-29","240505428","NICOLAS ","PEREZ CARDENAS","M","PAT","AS","U14","SI","2",163.31,163.31,null,{"$f":"MIN([1]Competencias!K161:P161)","v":197.72},{"$f":"IFERROR(SMALL([1]Competencias!K161:P161,2),999.99)","v":999.99},{"v":237.26399999999998,"d":"237.26"},163.31,"",206.18,206.18,null,{"$f":"MIN([1]Competencias!Q161:AA161)","v":227.46},{"$f":"IFERROR(SMALL([1]Competencias!Q161:AA161,2),999.99)","v":234.55},{"v":272.952,"d":"272.95"},206.18,"",151.39,151.39,null,{"$f":"MIN([1]Competencias!AB161:AD161)","v":999.99},{"$f":"IFERROR(SMALL([1]Competencias!AB161:AD161,2),999.99)","v":999.99},{"v":1199.988,"d":"1199.99"},151.39,""]
["2012-09-05","240575167","EMA","MURUA INFANTE","F","UC","AS","U14","SI","2",336.23,{"v":316.975,"d":"316.98"},null,{"$f":"MIN([1]Competencias!K162:P162)","v":292.46},{"$f":"IFERROR(SMALL([1]Competencias!K162:P162,2),999.99)","v":341.49},{"v":350.95199999999994,"d":"350.95"},{"v":316.975,"d":"316.98"},"",512.55,357.61,null,{"$f":"MIN([1]Competencias!Q162:AA162)","v":{"v":349.7,"d":"349.70"}},{"$f":"IFERROR(SMALL([1]Competencias!Q162:AA162,2),999.99)","v":365.52},419.64,357.61,"",999.99,999.99,null,{"$f":"MIN([1]Competencias!AB162:AD162)","v":999.99},{"$f":"IFERROR(SMALL([1]Competencias!AB162:AD162,2),999.99)","v":999.99},{"v":1199.988,"d":"1199.99"},999.99,"+"]
["2012-08-06","240583348","IAN","STENGEL MORRIS","M","CSC","AS","U14","SI","2",999.99,999.99,null,{"$f":"MIN([1]Competencias!K163:P163)","v":999.99},{"$f":"IFERROR(SMALL([1]Competencias!K163:P163,2),999.99)","v":999.99},{"v":1199.988,"d":"1199.99"},999.99,"+",999.99,999.99,null,{"$f":"MIN([1]Competencias!Q163:AA163)","v":999.99},{"$f":"IFERROR(SMALL([1]Competencias!Q163:AA163,2),999.99)","v":999.99},{"v":1199.988,"d":"1199.99"},999.99,"+",999.99,999.99,null,{"$f":"MIN([1]Competencias!AB163:AD163)","v":999.99},{"$f":"IFERROR(SMALL([1]Competencias!AB163:AD163,2),999.99)","v":999.99},{"v":1199.988,"d":"1199.99"},999.99,"+"]
["2012-09-12","240631164","RAFFAELLA","MOTTO GRINSPUN","F","CAN","AS","U14","SI","2",341.44,242.84,null,{"$f":"MIN([1]Competencias!K164:P164)","v":229.73},{"$f":"IFERROR(SMALL([1]Competencias!K164:P164,2),999.99)","v":255.95},{"v":275.676,"d":"275.68"},{"v":242.83999999999997,"d":"242.84"},"",357.93,302.86,null,{"$f":"MIN([1]Competencias!Q164:AA164)","v":{"v":287.1,"d":"287.10"}},{"$f":"IFERROR(SMALL([1]Competencias!Q164:AA164,2),999.99)","v":318.62},{"v":344.52000000000004,"d":"344.52"},302.86,"",{"v":382.2,"d":"382.20"},365.33,null,{"$f":"MIN([1]Competencias!AB164:AD164)","v":350.51},{"$f":"IFERROR(SMALL([1]Competencias!AB164:AD164,2),999.99)","v":380.15},{"v":420.61199999999997,"d":"420.61"},365.33,""]
["2012-09-06","240631997","ANGEL","MARIN SOTO","M","PAT","AS","U14","SI","2",999.99,{"v":140.265,"d":"140.27"},null,{"$f":"MIN([1]Competencias!K165:P165)","v":126.33},{"$f":"IFERROR(SMALL([1]Competencias!K165:P165,2),999.99)","v":{"v":154.2,"d":"154.20"}},{"v":151.596,"d":"151.60"},{"v":140.265,"d":"140.27"},"",198.57,{"v":191.015,"d":"191.02"},null,{"$f":"MIN([1]Competencias!Q165:AA165)","v":179.35},{"$f":"IFERROR(SMALL([1]Competencias!Q165:AA165,2),999.99)","v":202.68},215.22,{"v":191.015,"d":"191.02"},"",250.85,250.85,null,{"$f":"MIN([1]Competencias!AB165:AD165)","v":360.14},{"$f":"IFERROR(SMALL([1]Competencias!AB165:AD165,2),999.99)","v":999.99},{"v":432.16799999999995,"d":"432.17"},250.85,""]
["2012-09-23","240699540","SEBASTIAN","BASAURE VARGAS","M","UC","AS","U14","SI","2",75.26,75.26,null,{"$f":"MIN([1]Competencias!K166:P166)","v":107.07},{"$f":"IFERROR(SMALL([1]Competencias!K166:P166,2),999.99)","v":114.26},{"v":128.48399999999998,"d":"128.48"},75.26,"",81.83,80.82,null,{"$f":"MIN([1]Competencias!Q166:AA166)","v":74.47},{"$f":"IFERROR(SMALL([1]Competencias!Q166:AA166,2),999.99)","v":87.17},{"v":89.36399999999999,"d":"89.36"},80.82,"",132.34,{"v":116.875,"d":"116.88"},null,{"$f":"MIN([1]Competencias!AB166:AD166)","v":110.78},{"$f":"IFERROR(SMALL([1]Competencias!AB166:AD166,2),999.99)","v":122.97},{"v":132.936,"d":"132.94"},{"v":116.875,"d":"116.88"},""]
["2012-09-28","240776367","ELOISA","ROSENDE ZEGERS","F","LV","AS","U14","SI","2",201.17,201.17,null,{"$f":"MIN([1]Competencias!K167:P167)","v":169.64},{"$f":"IFERROR(SMALL([1]Competencias!K167:P167,2),999.99)","v":999.99},{"v":203.56799999999998,"d":"203.57"},201.17,"",221.43,221.43,null,{"$f":"MIN([1]Competencias!Q167:AA167)","v":237.73},{"$f":"IFERROR(SMALL([1]Competencias!Q167:AA167,2),999.99)","v":265.41},{"v":285.27599999999995,"d":"285.28"},221.43,"",281.45,281.45,null,{"$f":"MIN([1]Competencias!AB167:AD167)","v":303.58},{"$f":"IFERROR(SMALL([1]Competencias!AB167:AD167,2),999.99)","v":999.99},{"v":364.296,"d":"364.30"},281.45,""]
["2012-10-09","240845229","RAFAEL ","AYALA PEREZ","M","CAN","AS","U14","SI","2",162.73,162.73,null,{"$f":"MIN([1]Competencias!K168:P168)","v":138.08},{"$f":"IFERROR(SMALL([1]Competencias!K168:P168,2),999.99)","v":999.99},{"v":165.696,"d":"165.70"},162.73,"",209.97,209.97,null,{"$f":"MIN([1]Competencias!Q168:AA168)","v":257.12},{"$f":"IFERROR(SMALL([1]Competencias!Q168:AA168,2),999.99)","v":258.06},{"v":308.544,"d":"308.54"},209.97,"",216.29,216.29,null,{"$f":"MIN([1]Competencias!AB168:AD168)","v":999.99},{"$f":"IFERROR(SMALL([1]Competencias!AB168:AD168,2),999.99)","v":999.99},{"v":1199.988,"d":"1199.99"},216.29,""]
["2012-10-21","240953978","CARMEN","FLEISCHMANN KOSTER","F","CORR","AS","U14","SI","2",999.99,{"v":396.575,"d":"396.58"},null,{"$f":"MIN([1]Competencias!K169:P169)","v":252.23},{"$f":"IFERROR(SMALL([1]Competencias!K169:P169,2),999.99)","v":540.92},{"v":302.676,"d":"302.68"},{"v":396.575,"d":"396.58"},"",{"v":746.4,"d":"746.40"},326.05,null,{"$f":"MIN([1]Competencias!Q169:AA169)","v":{"v":323.6,"d":"323.60"}},{"$f":"IFERROR(SMALL([1]Competencias!Q169:AA169,2),999.99)","v":{"v":328.5,"d":"328.50"}},388.32,326.05,"",{"v":418,"d":"418.00"},{"v":418,"d":"418.00"},null,{"$f":"MIN([1]Competencias!AB169:AD169)","v":{"v":377.6,"d":"377.60"}},{"$f":"IFERROR(SMALL([1]Competencias!AB169:AD169,2),999.99)","v":999.99},453.12,{"v":418,"d":"418.00"},""]
["2012-10-20","24095821K","SANTIAGO","MORALES FORMAS","M","UC","AS","U14","SI","2",305.47,305.47,null,{"$f":"MIN([1]Competencias!K170:P170)","v":288.04},{"$f":"IFERROR(SMALL([1]Competencias!K170:P170,2),999.99)","v":322.96},{"v":345.648,"d":"345.65"},305.47,"",364.92,364.92,null,{"$f":"MIN([1]Competencias!Q170:AA170)","v":365.96},{"$f":"IFERROR(SMALL([1]Competencias!Q170:AA170,2),999.99)","v":{"v":394.5,"d":"394.50"}},{"v":439.152,"d":"439.15"},364.92,"",413.14,413.14,null,{"$f":"MIN([1]Competencias!AB170:AD170)","v":457.46},{"$f":"IFERROR(SMALL([1]Competencias!AB170:AD170,2),999.99)","v":511.66},{"v":548.952,"d":"548.95"},413.14,""]
["2012-10-22","240962144","BERNARDITA","WINTER PINEDA","F","UC","AS","U14","SI","2",999.99,{"v":252.864,"d":"252.86"},null,{"$f":"MIN([1]Competencias!K171:P171)","v":210.72},{"$f":"IFERROR(SMALL([1]Competencias!K171:P171,2),999.99)","v":999.99},{"v":252.86399999999998,"d":"252.86"},{"v":252.86399999999998,"d":"252.86"},"",240.79,240.79,null,{"$f":"MIN([1]Competencias!Q171:AA171)","v":999.99},{"$f":"IFERROR(SMALL([1]Competencias!Q171:AA171,2),999.99)","v":999.99},{"v":1199.988,"d":"1199.99"},240.79,"",999.99,999.99,null,{"$f":"MIN([1]Competencias!AB171:AD171)","v":999.99},{"$f":"IFERROR(SMALL([1]Competencias!AB171:AD171,2),999.99)","v":999.99},{"v":1199.988,"d":"1199.99"},999.99,"+"]
["2012-10-24","24098105K","MARTINA","WILLEMSEN GALARCE","F","CAPA","AS","U14","SI","2",999.99,999.99,null,{"$f":"MIN([1]Competencias!K172:P172)","v":999.99},{"$f":"IFERROR(SMALL([1]Competencias!K172:P172,2),999.99)","v":999.99},{"v":1199.988,"d":"1199.99"},999.99,"+",999.99,{"v":518.544,"d":"518.54"},null,{"$f":"MIN([1]Competencias!Q172:AA172)","v":432.12},{"$f":"IFERROR(SMALL([1]Competencias!Q172:AA172,2),999.99)","v":999.99},{"v":518.544,"d":"518.54"},{"v":518.544,"d":"518.54"},"",999.99,999.99,null,{"$f":"MIN([1]Competencias!AB172:AD172)","v":999.99},{"$f":"IFERROR(SMALL([1]Competencias!AB172:AD172,2),999.99)","v":999.99},{"v":1199.988,"d":"1199.99"},999.99,"+"]
["2012-10-26","240995360","DOMINGA","REINIKE DURAN","F","LV","AS","U14","SI","2",999.99,{"v":171.252,"d":"171.25"},null,{"$f":"MIN([1]Competencias!K173:P173)","v":142.71},{"$f":"IFERROR(SMALL([1]Competencias!K173:P173,2),999.99)","v":999.99},{"v":171.252,"d":"171.25"},{"v":171.252,"d":"171.25"},"",999.99,{"v":250.908,"d":"250.91"},null,{"$f":"MIN([1]Competencias!Q173:AA173)","v":209.09},{"$f":"IFERROR(SMALL([1]Competencias!Q173:AA173,2),999.99)","v":999.99},{"v":250.908,"d":"250.91"},{"v":250.908,"d":"250.91"},"",{"v":272.8,"d":"272.80"},{"v":272.8,"d":"272.80"},null,{"$f":"MIN([1]Competencias!AB173:AD173)","v":{"v":256.6,"d":"256.60"}},{"$f":"IFERROR(SMALL([1]Competencias!AB173:AD173,2),999.99)","v":999.99},307.92,{"v":272.8,"d":"272.80"},""]
["2012-10-25","241014703","AGUSTIN","MILLAN KING","M","CAPA","AS","U14","SI","2",306.72,306.72,null,{"$f":"MIN([1]Competencias!K174:P174)","v":231.16},{"$f":"IFERROR(SMALL([1]Competencias!K174:P174,2),999.99)","v":999.99},{"v":277.392,"d":"277.39"},306.72,"",999.99,{"v":352.445,"d":"352.45"},null,{"$f":"MIN([1]Competencias!Q174:AA174)","v":341.05},{"$f":"IFERROR(SMALL([1]Competencias!Q174:AA174,2),999.99)","v":363.84},409.26,{"v":352.445,"d":"352.45"},"",334.66,334.66,null,{"$f":"MIN([1]Competencias!AB174:AD174)","v":339.09},{"$f":"IFERROR(SMALL([1]Competencias!AB174:AD174,2),999.99)","v":411.68},{"v":406.90799999999996,"d":"406.91"},334.66,""]
["2012-10-29","241030326","LAWRENCE","WESTCOTT LEIBBRANDT","M","CLP","AS","U14","SI","2",{"v":50,"d":"50.00"},{"v":50,"d":"50.00"},null,{"$f":"MIN([1]Competencias!K175:P175)","v":999.99},{"$f":"IFERROR(SMALL([1]Competencias!K175:P175,2),999.99)","v":999.99},{"v":1199.988,"d":"1199.99"},{"v":50,"d":"50.00"},"",70.65,70.65,null,{"$f":"MIN([1]Competencias!Q175:AA175)","v":102.62},{"$f":"IFERROR(SMALL([1]Competencias!Q175:AA175,2),999.99)","v":114.99},{"v":123.144,"d":"123.14"},70.65,"",116.97,116.97,null,{"$f":"MIN([1]Competencias!AB175:AD175)","v":163.29},{"$f":"IFERROR(SMALL([1]Competencias!AB175:AD175,2),999.99)","v":205.01},{"v":195.94799999999998,"d":"195.95"},116.97,""]
["2012-10-27","241086215","MADDALENA","CERONI YOB","F","CAO","AS","U14","SI","2",65.87,65.87,null,{"$f":"MIN([1]Competencias!K176:P176)","v":{"v":91.8,"d":"91.80"}},{"$f":"IFERROR(SMALL([1]Competencias!K176:P176,2),999.99)","v":94.48},110.16,65.87,"",104.78,104.78,null,{"$f":"MIN([1]Competencias!Q176:AA176)","v":159.25},{"$f":"IFERROR(SMALL([1]Competencias!Q176:AA176,2),999.99)","v":164.81},{"v":191.1,"d":"191.10"},104.78,"",145.68,145.68,null,{"$f":"MIN([1]Competencias!AB176:AD176)","v":193.03},{"$f":"IFERROR(SMALL([1]Competencias!AB176:AD176,2),999.99)","v":999.99},{"v":231.636,"d":"231.64"},145.68,""]
["2012-11-11","241106004","ASUNCION","GARCIA OVALLE","F","UC","AS","U14","SI","2",214.15,214.15,null,{"$f":"MIN([1]Competencias!K177:P177)","v":167.07},{"$f":"IFERROR(SMALL([1]Competencias!K177:P177,2),999.99)","v":999.99},{"v":200.48399999999998,"d":"200.48"},214.15,"",244.54,{"v":201.475,"d":"201.48"},null,{"$f":"MIN([1]Competencias!Q177:AA177)","v":190.67},{"$f":"IFERROR(SMALL([1]Competencias!Q177:AA177,2),999.99)","v":212.28},{"v":228.80399999999997,"d":"228.80"},{"v":201.475,"d":"201.48"},"",229.58,{"v":203.995,"d":"204.00"},null,{"$f":"MIN([1]Competencias!AB177:AD177)","v":191.38},{"$f":"IFERROR(SMALL([1]Competencias!AB177:AD177,2),999.99)","v":216.61},{"v":229.65599999999998,"d":"229.66"},{"v":203.995,"d":"204.00"},""]
["2012-11-10","241121836","JAVIERA","QUEVEDO MONTAÑO","F","LV","AS","U14","SI","2",999.99,{"v":1049.652,"d":"1049.65"},null,{"$f":"MIN([1]Competencias!K178:P178)","v":874.71},{"$f":"IFERROR(SMALL([1]Competencias!K178:P178,2),999.99)","v":999.99},{"v":1049.652,"d":"1049.65"},{"v":1049.652,"d":"1049.65"},"",999.99,{"v":670.908,"d":"670.91"},null,{"$f":"MIN([1]Competencias!Q178:AA178)","v":559.09},{"$f":"IFERROR(SMALL([1]Competencias!Q178:AA178,2),999.99)","v":999.99},{"v":670.908,"d":"670.91"},{"v":670.908,"d":"670.91"},"",999.99,{"v":334.548,"d":"334.55"},null,{"$f":"MIN([1]Competencias!AB178:AD178)","v":278.79},{"$f":"IFERROR(SMALL([1]Competencias!AB178:AD178,2),999.99)","v":999.99},{"v":334.548,"d":"334.55"},{"v":334.548,"d":"334.55"},""]
["2012-11-21","241213900","DELFINA","ANGUITA AVILES","F","CAO","AS","U14","SI","2",109.36,{"v":99.375,"d":"99.38"},null,{"$f":"MIN([1]Competencias!K179:P179)","v":{"v":93.5,"d":"93.50"}},{"$f":"IFERROR(SMALL([1]Competencias!K179:P179,2),999.99)","v":105.25},{"v":112.2,"d":"112.20"},{"v":99.375,"d":"99.38"},"",204.87,130.05,null,{"$f":"MIN([1]Competencias!Q179:AA179)","v":127.97},{"$f":"IFERROR(SMALL([1]Competencias!Q179:AA179,2),999.99)","v":132.13},{"v":153.564,"d":"153.56"},130.05,"",161.56,161.56,null,{"$f":"MIN([1]Competencias!AB179:AD179)","v":172.52},{"$f":"IFERROR(SMALL([1]Competencias!AB179:AD179,2),999.99)","v":183.48},{"v":207.024,"d":"207.02"},161.56,""]
["2012-11-26","241242684","TOBÍAS","GROB ANGERMEYER","M","CAN","AS","U14","SI","2",{"v":96.4,"d":"96.40"},{"v":96.4,"d":"96.40"},null,{"$f":"MIN([1]Competencias!K180:P180)","v":{"v":127.2,"d":"127.20"}},{"$f":"IFERROR(SMALL([1]Competencias!K180:P180,2),999.99)","v":166.93},152.64,{"v":96.4,"d":"96.40"},"",100.04,{"v":97.455,"d":"97.46"},null,{"$f":"MIN([1]Competencias!Q180:AA180)","v":84.56},{"$f":"IFERROR(SMALL([1]Competencias!Q180:AA180,2),999.99)","v":110.35},{"v":101.472,"d":"101.47"},{"v":97.455,"d":"97.46"},"",{"v":153.4,"d":"153.40"},{"v":153.4,"d":"153.40"},null,{"$f":"MIN([1]Competencias!AB180:AD180)","v":175.01},{"$f":"IFERROR(SMALL([1]Competencias!AB180:AD180,2),999.99)","v":186.83},{"v":210.01199999999997,"d":"210.01"},{"v":153.4,"d":"153.40"},""]
["2012-11-14","24124489K","SANTIAGO","CARVALLO TARICCO","M","POR","AS","U14","SI","2",999.99,999.99,null,{"$f":"MIN([1]Competencias!K181:P181)","v":999.99},{"$f":"IFERROR(SMALL([1]Competencias!K181:P181,2),999.99)","v":999.99},{"v":1199.988,"d":"1199.99"},999.99,"+",999.99,{"v":406.044,"d":"406.04"},null,{"$f":"MIN([1]Competencias!Q181:AA181)","v":338.37},{"$f":"IFERROR(SMALL([1]Competencias!Q181:AA181,2),999.99)","v":999.99},{"v":406.044,"d":"406.04"},{"v":406.044,"d":"406.04"},"",579.79,579.79,null,{"$f":"MIN([1]Competencias!AB181:AD181)","v":999.99},{"$f":"IFERROR(SMALL([1]Competencias!AB181:AD181,2),999.99)","v":999.99},{"v":1199.988,"d":"1199.99"},579.79,""]
["2012-11-29","241284565","MATIAS","BARRIENTOS ENGLER","M","CAO","AS","U14","SI","2",202.95,{"v":190.385,"d":"190.39"},null,{"$f":"MIN([1]Competencias!K182:P182)","v":190.35},{"$f":"IFERROR(SMALL([1]Competencias!K182:P182,2),999.99)","v":190.42},228.42,{"v":190.385,"d":"190.39"},"",317.11,232.84,null,{"$f":"MIN([1]Competencias!Q182:AA182)","v":228.07},{"$f":"IFERROR(SMALL([1]Competencias!Q182:AA182,2),999.99)","v":237.61},{"v":273.68399999999997,"d":"273.68"},232.84,"",405.95,405.95,null,{"$f":"MIN([1]Competencias!AB182:AD182)","v":387.41},{"$f":"IFERROR(SMALL([1]Competencias!AB182:AD182,2),999.99)","v":999.99},{"v":464.892,"d":"464.89"},405.95,""]
["2012-12-09","241342328","MARIA","BRICEÑO PURCELL","F","CLP","AS","U14","SI","2",56.35,56.35,null,{"$f":"MIN([1]Competencias!K183:P183)","v":87.69},{"$f":"IFERROR(SMALL([1]Competencias!K183:P183,2),999.99)","v":{"v":104.6,"d":"104.60"}},{"v":105.228,"d":"105.23"},56.35,"",{"v":78.8,"d":"78.80"},{"v":78.8,"d":"78.80"},null,{"$f":"MIN([1]Competencias!Q183:AA183)","v":97.62},{"$f":"IFERROR(SMALL([1]Competencias!Q183:AA183,2),999.99)","v":101.81},{"v":117.144,"d":"117.14"},{"v":78.8,"d":"78.80"},"",116.09,116.09,null,{"$f":"MIN([1]Competencias!AB183:AD183)","v":136.68},{"$f":"IFERROR(SMALL([1]Competencias!AB183:AD183,2),999.99)","v":137.12},{"v":164.016,"d":"164.02"},116.09,""]
["2012-12-07","241351483","FACUNDO","MORAGA  CANTERINI","M","CAN","AS","U14","SI","2",164.71,164.71,null,{"$f":"MIN([1]Competencias!K184:P184)","v":172.79},{"$f":"IFERROR(SMALL([1]Competencias!K184:P184,2),999.99)","v":999.99},{"v":207.34799999999998,"d":"207.35"},164.71,"",199.26,{"v":160.575,"d":"160.58"},null,{"$f":"MIN([1]Competencias!Q184:AA184)","v":150.91},{"$f":"IFERROR(SMALL([1]Competencias!Q184:AA184,2),999.99)","v":170.24},{"v":181.09199999999998,"d":"181.09"},{"v":160.575,"d":"160.58"},"",276.56,276.56,null,{"$f":"MIN([1]Competencias!AB184:AD184)","v":234.43},{"$f":"IFERROR(SMALL([1]Competencias!AB184:AD184,2),999.99)","v":999.99},{"v":281.316,"d":"281.32"},276.56,""]
["2012-12-06","241361489","JULIETA","ESCUDERO ZARATE","F","CAPA","AS","U14","SI","2",999.99,999.99,null,{"$f":"MIN([1]Competencias!K185:P185)","v":999.99},{"$f":"IFERROR(SMALL([1]Competencias!K185:P185,2),999.99)","v":999.99},{"v":1199.988,"d":"1199.99"},999.99,"+",999.99,{"v":425.765,"d":"425.77"},null,{"$f":"MIN([1]Competencias!Q185:AA185)","v":{"v":402.8,"d":"402.80"}},{"$f":"IFERROR(SMALL([1]Competencias!Q185:AA185,2),999.99)","v":448.73},483.36,{"v":425.765,"d":"425.77"},"",999.99,999.99,null,{"$f":"MIN([1]Competencias!AB185:AD185)","v":999.99},{"$f":"IFERROR(SMALL([1]Competencias!AB185:AD185,2),999.99)","v":999.99},{"v":1199.988,"d":"1199.99"},999.99,"+"]
["2012-12-11","241446131","SIMONA","SÁNCHEZ GÓMEZ","F","POR","AS","U14","SI","2",999.99,{"v":497.592,"d":"497.59"},null,{"$f":"MIN([1]Competencias!K186:P186)","v":414.66},{"$f":"IFERROR(SMALL([1]Competencias!K186:P186,2),999.99)","v":999.99},{"v":497.592,"d":"497.59"},{"v":497.592,"d":"497.59"},"",999.99,{"v":459.645,"d":"459.65"},null,{"$f":"MIN([1]Competencias!Q186:AA186)","v":{"v":433.6,"d":"433.60"}},{"$f":"IFERROR(SMALL([1]Competencias!Q186:AA186,2),999.99)","v":485.69},520.32,{"v":459.645,"d":"459.65"},"",999.99,999.99,null,{"$f":"MIN([1]Competencias!AB186:AD186)","v":999.99},{"$f":"IFERROR(SMALL([1]Competencias!AB186:AD186,2),999.99)","v":999.99},{"v":1199.988,"d":"1199.99"},999.99,"+"]
["2012-12-26","241484866","SARA","GALLEGUILLOS MIRANDA","F","CAPA","AS","U14","SI","2",999.99,{"v":100.015,"d":"100.02"},null,{"$f":"MIN([1]Competencias!K187:P187)","v":82.77},{"$f":"IFERROR(SMALL([1]Competencias!K187:P187,2),999.99)","v":117.26},{"v":99.324,"d":"99.32"},{"v":100.015,"d":"100.02"},"",237.53,159.22,null,{"$f":"MIN([1]Competencias!Q187:AA187)","v":153.03},{"$f":"IFERROR(SMALL([1]Competencias!Q187:AA187,2),999.99)","v":165.41},{"v":183.636,"d":"183.64"},159.22,"",205.92,{"v":201.975,"d":"201.98"},null,{"$f":"MIN([1]Competencias!AB187:AD187)","v":188.46},{"$f":"IFERROR(SMALL([1]Competencias!AB187:AD187,2),999.99)","v":215.49},{"v":226.15200000000002,"d":"226.15"},{"v":201.97500000000002,"d":"201.98"},""]
["2012-12-27","24149618K","JACINTA","LÓPEZ CHAMORRO","F","CEC","AS","U14","SI","2",495.85,495.85,null,{"$f":"MIN([1]Competencias!K188:P188)","v":255.71},{"$f":"IFERROR(SMALL([1]Competencias!K188:P188,2),999.99)","v":999.99},{"v":306.852,"d":"306.85"},495.85,"",919.47,{"v":395.185,"d":"395.19"},null,{"$f":"MIN([1]Competencias!Q188:AA188)","v":366.06},{"$f":"IFERROR(SMALL([1]Competencias!Q188:AA188,2),999.99)","v":424.31},{"v":439.272,"d":"439.27"},{"v":395.185,"d":"395.19"},"",584.22,{"v":450.145,"d":"450.15"},null,{"$f":"MIN([1]Competencias!AB188:AD188)","v":417.23},{"$f":"IFERROR(SMALL([1]Competencias!AB188:AD188,2),999.99)","v":483.06},{"v":500.676,"d":"500.68"},{"v":450.145,"d":"450.15"},""]
["2013-01-07","241587681","BENJAMIN","DIAZ FIGUEROA","M","CAR","AS","U14","SI","1",999.99,148.13,null,{"$f":"MIN([1]Competencias!K189:P189)","v":108.75},{"$f":"IFERROR(SMALL([1]Competencias!K189:P189,2),999.99)","v":187.51},{"v":130.5,"d":"130.50"},148.13,"",999.99,{"v":192.165,"d":"192.17"},null,{"$f":"MIN([1]Competencias!Q189:AA189)","v":186.95},{"$f":"IFERROR(SMALL([1]Competencias!Q189:AA189,2),999.99)","v":197.38},{"v":224.33999999999997,"d":"224.34"},{"v":192.165,"d":"192.17"},"",999.99,{"v":338.508,"d":"338.51"},null,{"$f":"MIN([1]Competencias!AB189:AD189)","v":282.09},{"$f":"IFERROR(SMALL([1]Competencias!AB189:AD189,2),999.99)","v":999.99},{"v":338.508,"d":"338.51"},{"v":338.508,"d":"338.51"},""]
["2013-01-02","241593223","STEPHAN KARL","LANDOLT HARRIS","M","CAPA","AS","U14","SI","1",999.99,999.99,null,{"$f":"MIN([1]Competencias!K190:P190)","v":999.99},{"$f":"IFERROR(SMALL([1]Competencias!K190:P190,2),999.99)","v":999.99},{"v":1199.988,"d":"1199.99"},999.99,"+",999.99,999.99,null,{"$f":"MIN([1]Competencias!Q190:AA190)","v":999.99},{"$f":"IFERROR(SMALL([1]Competencias!Q190:AA190,2),999.99)","v":999.99},{"v":1199.988,"d":"1199.99"},999.99,"+",999.99,999.99,null,{"$f":"MIN([1]Competencias!AB190:AD190)","v":999.99},{"$f":"IFERROR(SMALL([1]Competencias!AB190:AD190,2),999.99)","v":999.99},{"v":1199.988,"d":"1199.99"},999.99,"+"]
["2013-01-07","241608506","CRISTIAN","SWETT LAGO","M","CAO","AS","U14","SI","1",999.99,999.99,null,{"$f":"MIN([1]Competencias!K191:P191)","v":999.99},{"$f":"IFERROR(SMALL([1]Competencias!K191:P191,2),999.99)","v":999.99},{"v":1199.988,"d":"1199.99"},999.99,"+",999.99,999.99,null,{"$f":"MIN([1]Competencias!Q191:AA191)","v":999.99},{"$f":"IFERROR(SMALL([1]Competencias!Q191:AA191,2),999.99)","v":999.99},{"v":1199.988,"d":"1199.99"},999.99,"+",999.99,999.99,null,{"$f":"MIN([1]Competencias!AB191:AD191)","v":999.99},{"$f":"IFERROR(SMALL([1]Competencias!AB191:AD191,2),999.99)","v":999.99},{"v":1199.988,"d":"1199.99"},999.99,"+"]
["2013-01-07","241608786","TRINIDAD","SWETT LAGO","F","CAO","AS","U14","SI","1",999.99,999.99,null,{"$f":"MIN([1]Competencias!K192:P192)","v":999.99},{"$f":"IFERROR(SMALL([1]Competencias!K192:P192,2),999.99)","v":999.99},{"v":1199.988,"d":"1199.99"},999.99,"+",999.99,999.99,null,{"$f":"MIN([1]Competencias!Q192:AA192)","v":999.99},{"$f":"IFERROR(SMALL([1]Competencias!Q192:AA192,2),999.99)","v":999.99},{"v":1199.988,"d":"1199.99"},999.99,"+",999.99,999.99,null,{"$f":"MIN([1]Competencias!AB192:AD192)","v":999.99},{"$f":"IFERROR(SMALL([1]Competencias!AB192:AD192,2),999.99)","v":999.99},{"v":1199.988,"d":"1199.99"},999.99,"+"]
["2013-01-18","241684717","SOFÍA","SOLAR TURRILLAS","F","CVN","AS","U14","SI","1",999.99,999.99,null,{"$f":"MIN([1]Competencias!K193:P193)","v":999.99},{"$f":"IFERROR(SMALL([1]Competencias!K193:P193,2),999.99)","v":999.99},{"v":1199.988,"d":"1199.99"},999.99,"+",999.99,999.99,null,{"$f":"MIN([1]Competencias!Q193:AA193)","v":999.99},{"$f":"IFERROR(SMALL([1]Competencias!Q193:AA193,2),999.99)","v":999.99},{"v":1199.988,"d":"1199.99"},999.99,"+",999.99,999.99,null,{"$f":"MIN([1]Competencias!AB193:AD193)","v":999.99},{"$f":"IFERROR(SMALL([1]Competencias!AB193:AD193,2),999.99)","v":999.99},{"v":1199.988,"d":"1199.99"},999.99,"+"]
["2013-01-16","241684849","AMBAR","CARDENAS CONEJEROS","F","PAT","AS","U14","SI","1",999.99,{"v":279.396,"d":"279.40"},null,{"$f":"MIN([1]Competencias!K194:P194)","v":232.83},{"$f":"IFERROR(SMALL([1]Competencias!K194:P194,2),999.99)","v":999.99},{"v":279.396,"d":"279.40"},{"v":279.396,"d":"279.40"},"",999.99,{"v":314.3,"d":"314.30"},null,{"$f":"MIN([1]Competencias!Q194:AA194)","v":{"v":314.3,"d":"314.30"}},{"$f":"IFERROR(SMALL([1]Competencias!Q194:AA194,2),999.99)","v":{"v":314.3,"d":"314.30"}},377.16,{"v":314.3,"d":"314.30"},"+",999.99,999.99,null,{"$f":"MIN([1]Competencias!AB194:AD194)","v":999.99},{"$f":"IFERROR(SMALL([1]Competencias!AB194:AD194,2),999.99)","v":999.99},{"v":1199.988,"d":"1199.99"},999.99,"+"]
["2013-01-19","241702219","ANA ","MONTAGNON  FERNÁNDEZ","F","ARS","AS","U14","SI","1",999.99,184.67,null,{"$f":"MIN([1]Competencias!K195:P195)","v":160.13},{"$f":"IFERROR(SMALL([1]Competencias!K195:P195,2),999.99)","v":209.21},{"$f":"N195*1.2","v":{"v":192.15599999999998,"d":"192.16"}},{"$f":"IF(N195=999.99,K195,IF(O195=999.99,IF(K195<999.99,K195,P195),IF((N195+O195)/2>K195,K195,(N195+O195)/2)))","v":{"v":184.67000000000002,"d":"184.67"}},{"$f":"IF(Q195=\"999,99\",\"\",IF(Q195=A195,\">\",IF(Q195=O195,\"+\",\"\")))","v":""},999.99,194.45,null,{"$f":"MIN([1]Competencias!Q195:AA195)","v":170.24},{"$f":"IFERROR(SMALL([1]Competencias!Q195:AA195,2),999.99)","v":218.66},{"$f":"V195*1.2","v":{"v":204.288,"d":"204.29"}},{"$f":"IF(V195=999.99,S195,IF(W195=999.99,IF(S195<999.99,S195,X195),IF((V195+W195)/2>S195,S195,(V195+W195)/2)))","v":194.45},{"$f":"IF(Y195=\"999,99\",\"\",IF(Y195=G195,\">\",IF(Y195=W195,\"+\",\"\")))","v":""},999.99,{"v":220.015,"d":"220.02"},null,{"$f":"MIN([1]Competencias!AB195:AD195)","v":208.19},{"$f":"IFERROR(SMALL([1]Competencias!AB195:AD195,2),999.99)","v":231.84},{"$f":"AD195*1.2","v":{"v":249.82799999999997,"d":"249.83"}},{"$f":"IF(AD195=999.99,AA195,IF(AE195=999.99,IF(AA195<999.99,AA195,AF195),IF((AD195+AE195)/2>AA195,AA195,(AD195+AE195)/2)))","v":{"v":220.015,"d":"220.02"}},{"$f":"IF(AG195=\"999,99\",\"\",IF(AG195=R195,\">\",IF(AG195=AE195,\"+\",\"\")))","v":""}]
["2013-01-22","241716457","BORJA","CHAVEZ BAHAMONDES","M","ARS","AS","U14","SI","1",999.99,999.99,null,{"$f":"MIN([1]Competencias!K196:P196)","v":999.99},{"$f":"IFERROR(SMALL([1]Competencias!K196:P196,2),999.99)","v":999.99},{"v":1199.988,"d":"1199.99"},999.99,"+",999.99,{"v":304.884,"d":"304.88"},null,{"$f":"MIN([1]Competencias!Q196:AA196)","v":254.07},{"$f":"IFERROR(SMALL([1]Competencias!Q196:AA196,2),999.99)","v":999.99},{"v":304.88399999999996,"d":"304.88"},{"v":304.88399999999996,"d":"304.88"},"",999.99,{"v":340.115,"d":"340.12"},null,{"$f":"MIN([1]Competencias!AB196:AD196)","v":319.35},{"$f":"IFERROR(SMALL([1]Competencias!AB196:AD196,2),999.99)","v":360.88},383.22,{"v":340.115,"d":"340.12"},""]
["2013-01-27","241761185","ALEXANDER","ROJAS BUSTOS","M","UC","AS","U14","SI","1",999.99,999.99,null,{"$f":"MIN([1]Competencias!K197:P197)","v":999.99},{"$f":"IFERROR(SMALL([1]Competencias!K197:P197,2),999.99)","v":999.99},{"v":1199.988,"d":"1199.99"},999.99,"+",999.99,{"v":141.805,"d":"141.81"},null,{"$f":"MIN([1]Competencias!Q197:AA197)","v":124.79},{"$f":"IFERROR(SMALL([1]Competencias!Q197:AA197,2),999.99)","v":158.82},{"v":149.748,"d":"149.75"},{"v":141.805,"d":"141.81"},"",999.99,999.99,null,{"$f":"MIN([1]Competencias!AB197:AD197)","v":999.99},{"$f":"IFERROR(SMALL([1]Competencias!AB197:AD197,2),999.99)","v":999.99},{"v":1199.988,"d":"1199.99"},999.99,"+"]
["2013-05-02","241853950","ZOE","MOLINARE OLMOS","F","LV","AS","U14","SI","1",999.99,351.05,null,{"$f":"MIN([1]Competencias!K198:P198)","v":215.51},{"$f":"IFERROR(SMALL([1]Competencias!K198:P198,2),999.99)","v":486.59},{"v":258.61199999999997,"d":"258.61"},{"v":351.04999999999995,"d":"351.05"},"",999.99,331.36,null,{"$f":"MIN([1]Competencias!Q198:AA198)","v":329.49},{"$f":"IFERROR(SMALL([1]Competencias!Q198:AA198,2),999.99)","v":333.23},{"v":395.388,"d":"395.39"},331.36,"",999.99,{"v":339.468,"d":"339.47"},null,{"$f":"MIN([1]Competencias!AB198:AD198)","v":282.89},{"$f":"IFERROR(SMALL([1]Competencias!AB198:AD198,2),999.99)","v":999.99},{"v":339.46799999999996,"d":"339.47"},{"v":339.46799999999996,"d":"339.47"},""]
["2013-01-17","241893359","JUAN","UNDURRAGA URIBE","M","CLP","AS","U14","SI","1",999.99,{"v":201.648,"d":"201.65"},null,{"$f":"MIN([1]Competencias!K199:P199)","v":168.04},{"$f":"IFERROR(SMALL([1]Competencias!K199:P199,2),999.99)","v":999.99},{"v":201.648,"d":"201.65"},{"v":201.648,"d":"201.65"},"",999.99,112.32,null,{"$f":"MIN([1]Competencias!Q199:AA199)","v":107.92},{"$f":"IFERROR(SMALL([1]Competencias!Q199:AA199,2),999.99)","v":116.72},{"v":129.504,"d":"129.50"},112.32,"",999.99,{"v":294.605,"d":"294.61"},null,{"$f":"MIN([1]Competencias!AB199:AD199)","v":{"v":239,"d":"239.00"}},{"$f":"IFERROR(SMALL([1]Competencias!AB199:AD199,2),999.99)","v":350.21},{"v":286.8,"d":"286.80"},{"v":294.605,"d":"294.61"},""]
["2013-02-08","24189715K","BERNARDO","BRAVO RECCIUS","M","UC","AS","U14","SI","1",999.99,999.99,null,{"$f":"MIN([1]Competencias!K200:P200)","v":999.99},{"$f":"IFERROR(SMALL([1]Competencias!K200:P200,2),999.99)","v":999.99},{"v":1199.988,"d":"1199.99"},999.99,"+",999.99,231.56,null,{"$f":"MIN([1]Competencias!Q200:AA200)","v":226.17},{"$f":"IFERROR(SMALL([1]Competencias!Q200:AA200,2),999.99)","v":236.95},{"v":271.404,"d":"271.40"},231.56,"",999.99,306.21,null,{"$f":"MIN([1]Competencias!AB200:AD200)","v":304.04},{"$f":"IFERROR(SMALL([1]Competencias!AB200:AD200,2),999.99)","v":308.38},{"v":364.848,"d":"364.85"},{"v":306.21000000000004,"d":"306.21"},""]
["2013-02-17","241942392","DAMIÁN","CAREY RABY","M","CAN","AS","U14","SI","1",999.99,999.99,null,{"$f":"MIN([1]Competencias!K201:P201)","v":999.99},{"$f":"IFERROR(SMALL([1]Competencias!K201:P201,2),999.99)","v":999.99},{"v":1199.988,"d":"1199.99"},999.99,"+",999.99,999.99,null,{"$f":"MIN([1]Competencias!Q201:AA201)","v":999.99},{"$f":"IFERROR(SMALL([1]Competencias!Q201:AA201,2),999.99)","v":999.99},{"v":1199.988,"d":"1199.99"},999.99,"+",999.99,999.99,null,{"$f":"MIN([1]Competencias!AB201:AD201)","v":999.99},{"$f":"IFERROR(SMALL([1]Competencias!AB201:AD201,2),999.99)","v":999.99},{"v":1199.988,"d":"1199.99"},999.99,"+"]
["2013-02-17","241942643","ISMAEL","CAREY RABY","M","CAN","AS","U14","SI","1",999.99,999.99,null,{"$f":"MIN([1]Competencias!K202:P202)","v":999.99},{"$f":"IFERROR(SMALL([1]Competencias!K202:P202,2),999.99)","v":999.99},{"v":1199.988,"d":"1199.99"},999.99,"+",999.99,999.99,null,{"$f":"MIN([1]Competencias!Q202:AA202)","v":999.99},{"$f":"IFERROR(SMALL([1]Competencias!Q202:AA202,2),999.99)","v":999.99},{"v":1199.988,"d":"1199.99"},999.99,"+",999.99,999.99,null,{"$f":"MIN([1]Competencias!AB202:AD202)","v":999.99},{"$f":"IFERROR(SMALL([1]Competencias!AB202:AD202,2),999.99)","v":999.99},{"v":1199.988,"d":"1199.99"},999.99,"+"]
["2013-02-17","241972593","ALFONSO","DIAZ GHIRARDELLI","M","UC","AS","U14","SI","1",999.99,{"v":136.272,"d":"136.27"},null,{"$f":"MIN([1]Competencias!K203:P203)","v":113.56},{"$f":"IFERROR(SMALL([1]Competencias!K203:P203,2),999.99)","v":999.99},{"v":136.272,"d":"136.27"},{"v":136.272,"d":"136.27"},"",999.99,{"v":119.005,"d":"119.01"},null,{"$f":"MIN([1]Competencias!Q203:AA203)","v":118.79},{"$f":"IFERROR(SMALL([1]Competencias!Q203:AA203,2),999.99)","v":119.22},{"v":142.548,"d":"142.55"},{"v":119.005,"d":"119.01"},"",999.99,{"v":185.955,"d":"185.96"},null,{"$f":"MIN([1]Competencias!AB203:AD203)","v":185.32},{"$f":"IFERROR(SMALL([1]Competencias!AB203:AD203,2),999.99)","v":186.59},{"v":222.384,"d":"222.38"},{"v":185.95499999999998,"d":"185.96"},""]
["2013-02-27","242035445","FEDERICO","LABRA MARIN","M","CVN","AS","U14","SI","1",999.99,999.99,null,{"$f":"MIN([1]Competencias!K204:P204)","v":999.99},{"$f":"IFERROR(SMALL([1]Competencias!K204:P204,2),999.99)","v":999.99},{"v":1199.988,"d":"1199.99"},999.99,"+",999.99,999.99,null,{"$f":"MIN([1]Competencias!Q204:AA204)","v":999.99},{"$f":"IFERROR(SMALL([1]Competencias!Q204:AA204,2),999.99)","v":999.99},{"v":1199.988,"d":"1199.99"},999.99,"+",999.99,999.99,null,{"$f":"MIN([1]Competencias!AB204:AD204)","v":999.99},{"$f":"IFERROR(SMALL([1]Competencias!AB204:AD204,2),999.99)","v":999.99},{"v":1199.988,"d":"1199.99"},999.99,"+"]
["2013-03-02","242058496","ALONSO","VALDIVIA GARRIDO","M","POR","AS","U14","SI","1",999.99,999.99,null,{"$f":"MIN([1]Competencias!K205:P205)","v":999.99},{"$f":"IFERROR(SMALL([1]Competencias!K205:P205,2),999.99)","v":999.99},{"v":1199.988,"d":"1199.99"},999.99,"+",999.99,342.19,null,{"$f":"MIN([1]Competencias!Q205:AA205)","v":339.11},{"$f":"IFERROR(SMALL([1]Competencias!Q205:AA205,2),999.99)","v":345.27},{"v":406.932,"d":"406.93"},342.19,"",999.99,{"v":517.164,"d":"517.16"},null,{"$f":"MIN([1]Competencias!AB205:AD205)","v":430.97},{"$f":"IFERROR(SMALL([1]Competencias!AB205:AD205,2),999.99)","v":999.99},{"v":517.164,"d":"517.16"},{"v":517.164,"d":"517.16"},""]
["2013-03-06","242099370","JULIETA","CEA INDA","F","LV","AS","U14","SI","1",999.99,{"v":331.9,"d":"331.90"},null,{"$f":"MIN([1]Competencias!K206:P206)","v":165.26},{"$f":"IFERROR(SMALL([1]Competencias!K206:P206,2),999.99)","v":498.54},{"v":198.31199999999998,"d":"198.31"},{"v":331.9,"d":"331.90"},"",999.99,{"v":281.975,"d":"281.98"},null,{"$f":"MIN([1]Competencias!Q206:AA206)","v":{"v":203.3,"d":"203.30"}},{"$f":"IFERROR(SMALL([1]Competencias!Q206:AA206,2),999.99)","v":360.65},243.96,{"v":281.975,"d":"281.98"},"",999.99,{"v":301.428,"d":"301.43"},null,{"$f":"MIN([1]Competencias!AB206:AD206)","v":251.19},{"$f":"IFERROR(SMALL([1]Competencias!AB206:AD206,2),999.99)","v":999.99},{"v":301.428,"d":"301.43"},{"v":301.428,"d":"301.43"},""]
["2013-03-12","242204476","CAMILA","CONCHA NASSER","F","CLP","AS","U14","SI","1",999.99,{"v":134.025,"d":"134.03"},null,{"$f":"MIN([1]Competencias!K207:P207)","v":128.51},{"$f":"IFERROR(SMALL([1]Competencias!K207:P207,2),999.99)","v":139.54},{"v":154.212,"d":"154.21"},{"v":134.02499999999998,"d":"134.03"},"",999.99,156.14,null,{"$f":"MIN([1]Competencias!Q207:AA207)","v":153.55},{"$f":"IFERROR(SMALL([1]Competencias!Q207:AA207,2),999.99)","v":158.73},{"v":184.26000000000002,"d":"184.26"},156.14,"",999.99,225.28,null,{"$f":"MIN([1]Competencias!AB207:AD207)","v":212.68},{"$f":"IFERROR(SMALL([1]Competencias!AB207:AD207,2),999.99)","v":237.88},{"v":255.216,"d":"255.22"},225.28,""]
["2013-03-18","242210808","GONZALO","GARCIA MORAN","M","CLP","AS","U14","SI","1",999.99,999.99,null,{"$f":"MIN([1]Competencias!K208:P208)","v":999.99},{"$f":"IFERROR(SMALL([1]Competencias!K208:P208,2),999.99)","v":999.99},{"v":1199.988,"d":"1199.99"},999.99,"+",999.99,{"v":160.825,"d":"160.83"},null,{"$f":"MIN([1]Competencias!Q208:AA208)","v":147.56},{"$f":"IFERROR(SMALL([1]Competencias!Q208:AA208,2),999.99)","v":174.09},{"v":177.072,"d":"177.07"},{"v":160.825,"d":"160.83"},"",999.99,279.56,null,{"$f":"MIN([1]Competencias!AB208:AD208)","v":259.62},{"$f":"IFERROR(SMALL([1]Competencias!AB208:AD208,2),999.99)","v":{"v":299.5,"d":"299.50"}},{"v":311.544,"d":"311.54"},279.56,""]
["2013-03-06","242213521","LUZ","CASTRO GONZALEZ","F","ARS","AS","U14","SI","1",999.99,{"v":225.108,"d":"225.11"},null,{"$f":"MIN([1]Competencias!K209:P209)","v":187.59},{"$f":"IFERROR(SMALL([1]Competencias!K209:P209,2),999.99)","v":999.99},{"v":225.108,"d":"225.11"},{"v":225.108,"d":"225.11"},"",999.99,{"v":165.535,"d":"165.54"},null,{"$f":"MIN([1]Competencias!Q209:AA209)","v":143.63},{"$f":"IFERROR(SMALL([1]Competencias!Q209:AA209,2),999.99)","v":187.44},{"v":172.356,"d":"172.36"},{"v":165.535,"d":"165.54"},"",999.99,{"v":172.975,"d":"172.98"},null,{"$f":"MIN([1]Competencias!AB209:AD209)","v":167.35},{"$f":"IFERROR(SMALL([1]Competencias!AB209:AD209,2),999.99)","v":{"v":178.6,"d":"178.60"}},200.82,{"v":172.975,"d":"172.98"},""]
["2013-03-21","24224897K","AMPARO","LIVINGSTON DELARD","F","CAPA","AS","U14","SI","1",999.99,{"v":634.032,"d":"634.03"},null,{"$f":"MIN([1]Competencias!K210:P210)","v":528.36},{"$f":"IFERROR(SMALL([1]Competencias!K210:P210,2),999.99)","v":999.99},{"v":634.032,"d":"634.03"},{"v":634.032,"d":"634.03"},"",999.99,{"v":505.5,"d":"505.50"},null,{"$f":"MIN([1]Competencias!Q210:AA210)","v":421.25},{"$f":"IFERROR(SMALL([1]Competencias!Q210:AA210,2),999.99)","v":999.99},{"v":505.5,"d":"505.50"},{"v":505.5,"d":"505.50"},"",999.99,999.99,null,{"$f":"MIN([1]Competencias!AB210:AD210)","v":999.99},{"$f":"IFERROR(SMALL([1]Competencias!AB210:AD210,2),999.99)","v":999.99},{"v":1199.988,"d":"1199.99"},999.99,"+"]
["2013-03-24","242269241","JOSEFA","HOWARD DONOSO","F","CLP","AS","U14","SI","1",999.99,{"v":375.165,"d":"375.17"},null,{"$f":"MIN([1]Competencias!K211:P211)","v":322.83},{"$f":"IFERROR(SMALL([1]Competencias!K211:P211,2),999.99)","v":{"v":427.5,"d":"427.50"}},{"v":387.39599999999996,"d":"387.40"},{"v":375.16499999999996,"d":"375.17"},"",999.99,{"v":572.855,"d":"572.86"},null,{"$f":"MIN([1]Competencias!Q211:AA211)","v":557.35},{"$f":"IFERROR(SMALL([1]Competencias!Q211:AA211,2),999.99)","v":588.36},668.82,{"v":572.855,"d":"572.86"},"",999.99,999.99,null,{"$f":"MIN([1]Competencias!AB211:AD211)","v":999.99},{"$f":"IFERROR(SMALL([1]Competencias!AB211:AD211,2),999.99)","v":999.99},{"v":1199.988,"d":"1199.99"},999.99,"+"]
["2013-03-27","24233695K","FRANCISCA","GANDARA RODILLO ","F","CAN","AS","U14","SI","1",999.99,212.76,null,{"$f":"MIN([1]Competencias!K212:P212)","v":{"v":177.3,"d":"177.30"}},{"$f":"IFERROR(SMALL([1]Competencias!K212:P212,2),999.99)","v":999.99},{"v":212.76000000000002,"d":"212.76"},{"v":212.76000000000002,"d":"212.76"},"",999.99,188.77,null,{"$f":"MIN([1]Competencias!Q212:AA212)","v":{"v":188.5,"d":"188.50"}},{"$f":"IFERROR(SMALL([1]Competencias!Q212:AA212,2),999.99)","v":189.04},{"v":226.2,"d":"226.20"},{"v":188.76999999999998,"d":"188.77"},"",999.99,269.99,null,{"$f":"MIN([1]Competencias!AB212:AD212)","v":261.17},{"$f":"IFERROR(SMALL([1]Competencias!AB212:AD212,2),999.99)","v":278.81},{"v":313.404,"d":"313.40"},269.99,""]
["2013-03-23","242358082","CAMILA","MANQUE GUERRA","F","UC","AS","U14","SI","1",999.99,999.99,null,{"$f":"MIN([1]Competencias!K213:P213)","v":999.99},{"$f":"IFERROR(SMALL([1]Competencias!K213:P213,2),999.99)","v":999.99},{"v":1199.988,"d":"1199.99"},999.99,"+",999.99,999.99,null,{"$f":"MIN([1]Competencias!Q213:AA213)","v":999.99},{"$f":"IFERROR(SMALL([1]Competencias!Q213:AA213,2),999.99)","v":999.99},{"v":1199.988,"d":"1199.99"},999.99,"+",999.99,999.99,null,{"$f":"MIN([1]Competencias!AB213:AD213)","v":999.99},{"$f":"IFERROR(SMALL([1]Competencias!AB213:AD213,2),999.99)","v":999.99},{"v":1199.988,"d":"1199.99"},999.99,"+"]
["2013-08-04","242410343","ZOE","SCHNEIDER SCHNEIDER","F","CAN","AS","U14","SI","1",999.99,{"v":217.752,"d":"217.75"},null,{"$f":"MIN([1]Competencias!K214:P214)","v":181.46},{"$f":"IFERROR(SMALL([1]Competencias!K214:P214,2),999.99)","v":999.99},{"v":217.752,"d":"217.75"},{"v":217.752,"d":"217.75"},"",999.99,{"v":183.245,"d":"183.25"},null,{"$f":"MIN([1]Competencias!Q214:AA214)","v":177.68},{"$f":"IFERROR(SMALL([1]Competencias!Q214:AA214,2),999.99)","v":188.81},{"v":213.216,"d":"213.22"},{"v":183.245,"d":"183.25"},"",999.99,197.39,null,{"$f":"MIN([1]Competencias!AB214:AD214)","v":194.74},{"$f":"IFERROR(SMALL([1]Competencias!AB214:AD214,2),999.99)","v":200.04},{"v":233.688,"d":"233.69"},197.39,""]
["2013-04-21","242507606","MARÍA IGNACIA","HADAD AGUIRRE","F","POR","AS","U14","SI","1",999.99,{"v":150.696,"d":"150.70"},null,{"$f":"MIN([1]Competencias!K215:P215)","v":125.58},{"$f":"IFERROR(SMALL([1]Competencias!K215:P215,2),999.99)","v":999.99},{"v":150.696,"d":"150.70"},{"v":150.696,"d":"150.70"},"",999.99,{"v":147.235,"d":"147.24"},null,{"$f":"MIN([1]Competencias!Q215:AA215)","v":128.95},{"$f":"IFERROR(SMALL([1]Competencias!Q215:AA215,2),999.99)","v":165.52},{"v":154.73999999999998,"d":"154.74"},{"v":147.235,"d":"147.24"},"",999.99,{"v":211.625,"d":"211.63"},null,{"$f":"MIN([1]Competencias!AB215:AD215)","v":205.87},{"$f":"IFERROR(SMALL([1]Competencias!AB215:AD215,2),999.99)","v":217.38},{"v":247.04399999999998,"d":"247.04"},{"v":211.625,"d":"211.63"},""]
["2013-04-20","242512391","MATHIAS","LINNEBERG CARRETERO","M","CLP","AS","U14","SI","1",999.99,999.99,null,{"$f":"MIN([1]Competencias!K216:P216)","v":999.99},{"$f":"IFERROR(SMALL([1]Competencias!K216:P216,2),999.99)","v":999.99},{"v":1199.988,"d":"1199.99"},999.99,"+",999.99,100.55,null,{"$f":"MIN([1]Competencias!Q216:AA216)","v":93.56},{"$f":"IFERROR(SMALL([1]Competencias!Q216:AA216,2),999.99)","v":107.54},{"v":112.272,"d":"112.27"},{"v":100.55000000000001,"d":"100.55"},"",999.99,{"v":167.785,"d":"167.79"},null,{"$f":"MIN([1]Competencias!AB216:AD216)","v":149.69},{"$f":"IFERROR(SMALL([1]Competencias!AB216:AD216,2),999.99)","v":185.88},{"v":179.628,"d":"179.63"},{"v":167.785,"d":"167.79"},""]
["2012-08-01","242549562","VICENTE SEBASTIAN","ROBLES URIBE","M","CAN","AS","U14","SI","2",999.99,{"v":543.684,"d":"543.68"},null,{"$f":"MIN([1]Competencias!K217:P217)","v":453.07},{"$f":"IFERROR(SMALL([1]Competencias!K217:P217,2),999.99)","v":999.99},{"v":543.684,"d":"543.68"},{"v":543.684,"d":"543.68"},"",414.26,414.26,null,{"$f":"MIN([1]Competencias!Q217:AA217)","v":332.84},{"$f":"IFERROR(SMALL([1]Competencias!Q217:AA217,2),999.99)","v":999.99},{"v":399.40799999999996,"d":"399.41"},414.26,"",363.94,363.94,null,{"$f":"MIN([1]Competencias!AB217:AD217)","v":999.99},{"$f":"IFERROR(SMALL([1]Competencias!AB217:AD217,2),999.99)","v":999.99},{"v":1199.988,"d":"1199.99"},363.94,""]
["2012-08-10","242574125","ANTONIO","TORRETTI ZAIDAN","M","CAN","AS","U14","SI","2",363.59,283.87,null,{"$f":"MIN([1]Competencias!K218:P218)","v":264.47},{"$f":"IFERROR(SMALL([1]Competencias!K218:P218,2),999.99)","v":303.27},{"v":317.36400000000003,"d":"317.36"},283.87,"",281.34,281.34,null,{"$f":"MIN([1]Competencias!Q218:AA218)","v":279.62},{"$f":"IFERROR(SMALL([1]Competencias!Q218:AA218,2),999.99)","v":284.64},{"v":335.544,"d":"335.54"},281.34,"",427.48,{"v":325.055,"d":"325.06"},null,{"$f":"MIN([1]Competencias!AB218:AD218)","v":324.85},{"$f":"IFERROR(SMALL([1]Competencias!AB218:AD218,2),999.99)","v":325.26},389.82,{"v":325.055,"d":"325.06"},""]
["2013-04-23","242595858","JAVIER","DARRAIDOU LERIA","M","CLP","AS","U14","SI","1",999.99,276.96,null,{"$f":"MIN([1]Competencias!K219:P219)","v":{"v":230.8,"d":"230.80"}},{"$f":"IFERROR(SMALL([1]Competencias!K219:P219,2),999.99)","v":999.99},276.96,276.96,"",999.99,{"v":167.875,"d":"167.88"},null,{"$f":"MIN([1]Competencias!Q219:AA219)","v":165.45},{"$f":"IFERROR(SMALL([1]Competencias!Q219:AA219,2),999.99)","v":{"v":170.3,"d":"170.30"}},198.54,{"v":167.875,"d":"167.88"},"",999.99,{"v":264.665,"d":"264.67"},null,{"$f":"MIN([1]Competencias!AB219:AD219)","v":251.66},{"$f":"IFERROR(SMALL([1]Competencias!AB219:AD219,2),999.99)","v":277.67},{"v":301.99199999999996,"d":"301.99"},{"v":264.665,"d":"264.67"},""]
["2013-04-24","242596816","MAX ","RODRIGUEZ SANDOVAL","M","CEC","AS","U14","SI","1",999.99,999.99,null,{"$f":"MIN([1]Competencias!K220:P220)","v":999.99},{"$f":"IFERROR(SMALL([1]Competencias!K220:P220,2),999.99)","v":999.99},{"v":1199.988,"d":"1199.99"},999.99,"+",999.99,999.99,null,{"$f":"MIN([1]Competencias!Q220:AA220)","v":999.99},{"$f":"IFERROR(SMALL([1]Competencias!Q220:AA220,2),999.99)","v":999.99},{"v":1199.988,"d":"1199.99"},999.99,"+",999.99,999.99,null,{"$f":"MIN([1]Competencias!AB220:AD220)","v":999.99},{"$f":"IFERROR(SMALL([1]Competencias!AB220:AD220,2),999.99)","v":999.99},{"v":1199.988,"d":"1199.99"},999.99,"+"]
["2013-04-18","24259925K","MAGDALENA","DERPSCH  OLATE","F","CORR","AS","U14","SI","1",999.99,{"v":212.052,"d":"212.05"},null,{"$f":"MIN([1]Competencias!K221:P221)","v":176.71},{"$f":"IFERROR(SMALL([1]Competencias!K221:P221,2),999.99)","v":999.99},{"v":212.052,"d":"212.05"},{"v":212.052,"d":"212.05"},"",999.99,{"v":348.288,"d":"348.29"},null,{"$f":"MIN([1]Competencias!Q221:AA221)","v":290.24},{"$f":"IFERROR(SMALL([1]Competencias!Q221:AA221,2),999.99)","v":999.99},{"v":348.288,"d":"348.29"},{"v":348.288,"d":"348.29"},"",999.99,366.54,null,{"$f":"MIN([1]Competencias!AB221:AD221)","v":305.45},{"$f":"IFERROR(SMALL([1]Competencias!AB221:AD221,2),999.99)","v":999.99},{"v":366.53999999999996,"d":"366.54"},{"v":366.53999999999996,"d":"366.54"},""]
["2013-05-09","242731921","AMELIA FLORENCIA","SUTTER  MARQUEZ","F","CORR","AS","U14","SI","1",999.99,{"v":149.615,"d":"149.62"},null,{"$f":"MIN([1]Competencias!K222:P222)","v":143.15},{"$f":"IFERROR(SMALL([1]Competencias!K222:P222,2),999.99)","v":156.08},171.78,{"v":149.615,"d":"149.62"},"",999.99,{"v":238.135,"d":"238.14"},null,{"$f":"MIN([1]Competencias!Q222:AA222)","v":234.76},{"$f":"IFERROR(SMALL([1]Competencias!Q222:AA222,2),999.99)","v":241.51},{"v":281.712,"d":"281.71"},{"v":238.135,"d":"238.14"},"",999.99,{"v":291.588,"d":"291.59"},null,{"$f":"MIN([1]Competencias!AB222:AD222)","v":242.99},{"$f":"IFERROR(SMALL([1]Competencias!AB222:AD222,2),999.99)","v":999.99},{"v":291.588,"d":"291.59"},{"v":291.588,"d":"291.59"},""]
["2013-09-05","242885414","MATILDE","RIVERA DEL CAMPO","F","ARS","AS","U14","SI","1",999.99,263.94,null,{"$f":"MIN([1]Competencias!K223:P223)","v":240.68},{"$f":"IFERROR(SMALL([1]Competencias!K223:P223,2),999.99)","v":{"v":287.2,"d":"287.20"}},{"v":288.816,"d":"288.82"},263.94,"",999.99,{"v":285.675,"d":"285.68"},null,{"$f":"MIN([1]Competencias!Q223:AA223)","v":264.72},{"$f":"IFERROR(SMALL([1]Competencias!Q223:AA223,2),999.99)","v":306.63},{"v":317.66400000000004,"d":"317.66"},{"v":285.675,"d":"285.68"},"",999.99,{"v":312.115,"d":"312.12"},null,{"$f":"MIN([1]Competencias!AB223:AD223)","v":305.28},{"$f":"IFERROR(SMALL([1]Competencias!AB223:AD223,2),999.99)","v":318.95},{"v":366.33599999999996,"d":"366.34"},{"v":312.115,"d":"312.12"},""]
["2013-05-29","242898788","NICOLÁS","MORENO CORBO","M","CAN","AS","U14","SI","1",999.99,999.99,null,{"$f":"MIN([1]Competencias!K224:P224)","v":999.99},{"$f":"IFERROR(SMALL([1]Competencias!K224:P224,2),999.99)","v":999.99},{"v":1199.988,"d":"1199.99"},999.99,"+",999.99,207.68,null,{"$f":"MIN([1]Competencias!Q224:AA224)","v":{"v":205.6,"d":"205.60"}},{"$f":"IFERROR(SMALL([1]Competencias!Q224:AA224,2),999.99)","v":209.76},{"v":246.71999999999997,"d":"246.72"},207.68,"",999.99,999.99,null,{"$f":"MIN([1]Competencias!AB224:AD224)","v":999.99},{"$f":"IFERROR(SMALL([1]Competencias!AB224:AD224,2),999.99)","v":999.99},{"v":1199.988,"d":"1199.99"},999.99,"+"]
["2013-05-10","242935659","MARGARITA","ACUÑA BARROS","F","UC","AS","U14","SI","1",999.99,173.52,null,{"$f":"MIN([1]Competencias!K225:P225)","v":166.91},{"$f":"IFERROR(SMALL([1]Competencias!K225:P225,2),999.99)","v":180.13},{"v":200.292,"d":"200.29"},{"v":173.51999999999998,"d":"173.52"},"",999.99,136.47,null,{"$f":"MIN([1]Competencias!Q225:AA225)","v":124.01},{"$f":"IFERROR(SMALL([1]Competencias!Q225:AA225,2),999.99)","v":148.93},{"v":148.812,"d":"148.81"},136.47,"",999.99,999.99,null,{"$f":"MIN([1]Competencias!AB225:AD225)","v":999.99},{"$f":"IFERROR(SMALL([1]Competencias!AB225:AD225,2),999.99)","v":999.99},{"v":1199.988,"d":"1199.99"},999.99,"+"]
["2013-06-01","242956451","JOSÉ TOMÁS","AGUILERA ALLENDE","M","POR","AS","U14","SI","1",999.99,999.99,null,{"$f":"MIN([1]Competencias!K226:P226)","v":999.99},{"$f":"IFERROR(SMALL([1]Competencias!K226:P226,2),999.99)","v":999.99},{"v":1199.988,"d":"1199.99"},999.99,"+",999.99,559.75,null,{"$f":"MIN([1]Competencias!Q226:AA226)","v":550.69},{"$f":"IFERROR(SMALL([1]Competencias!Q226:AA226,2),999.99)","v":568.81},{"v":660.8280000000001,"d":"660.83"},559.75,"",999.99,999.99,null,{"$f":"MIN([1]Competencias!AB226:AD226)","v":999.99},{"$f":"IFERROR(SMALL([1]Competencias!AB226:AD226,2),999.99)","v":999.99},{"v":1199.988,"d":"1199.99"},999.99,"+"]
["2013-06-03","242967526","ALICIA","LANDGREN DELPIANO","F","CAN","AS","U14","SI","1",999.99,999.99,null,{"$f":"MIN([1]Competencias!K227:P227)","v":999.99},{"$f":"IFERROR(SMALL([1]Competencias!K227:P227,2),999.99)","v":999.99},{"v":1199.988,"d":"1199.99"},999.99,"+",999.99,{"v":419.985,"d":"419.99"},null,{"$f":"MIN([1]Competencias!Q227:AA227)","v":{"v":356.5,"d":"356.50"}},{"$f":"IFERROR(SMALL([1]Competencias!Q227:AA227,2),999.99)","v":483.47},{"v":427.8,"d":"427.80"},{"v":419.985,"d":"419.99"},"",999.99,999.99,null,{"$f":"MIN([1]Competencias!AB227:AD227)","v":999.99},{"$f":"IFERROR(SMALL([1]Competencias!AB227:AD227,2),999.99)","v":999.99},{"v":1199.988,"d":"1199.99"},999.99,"+"]
["2013-06-12","243013437","BAUTISTA","CID SANTA MARIA","M","UC","AS","U14","SI","1",999.99,{"v":369.385,"d":"369.39"},null,{"$f":"MIN([1]Competencias!K228:P228)","v":362.97},{"$f":"IFERROR(SMALL([1]Competencias!K228:P228,2),999.99)","v":{"v":375.8,"d":"375.80"}},{"v":435.564,"d":"435.56"},{"v":369.385,"d":"369.39"},"",999.99,{"v":476.1,"d":"476.10"},null,{"$f":"MIN([1]Competencias!Q228:AA228)","v":441.16},{"$f":"IFERROR(SMALL([1]Competencias!Q228:AA228,2),999.99)","v":511.04},{"v":529.392,"d":"529.39"},{"v":476.1,"d":"476.10"},"",999.99,999.99,null,{"$f":"MIN([1]Competencias!AB228:AD228)","v":999.99},{"$f":"IFERROR(SMALL([1]Competencias!AB228:AD228,2),999.99)","v":999.99},{"v":1199.988,"d":"1199.99"},999.99,"+"]
["2013-06-13","243021383","ALBERTO","GALILEA NANNIG","M","CAO","AS","U14","SI","1",999.99,161.56,null,{"$f":"MIN([1]Competencias!K229:P229)","v":154.07},{"$f":"IFERROR(SMALL([1]Competencias!K229:P229,2),999.99)","v":169.05},{"v":184.884,"d":"184.88"},161.56,"",999.99,217.22,null,{"$f":"MIN([1]Competencias!Q229:AA229)","v":205.54},{"$f":"IFERROR(SMALL([1]Competencias!Q229:AA229,2),999.99)","v":{"v":228.9,"d":"228.90"}},{"v":246.64799999999997,"d":"246.65"},217.22,"",999.99,{"v":482.172,"d":"482.17"},null,{"$f":"MIN([1]Competencias!AB229:AD229)","v":401.81},{"$f":"IFERROR(SMALL([1]Competencias!AB229:AD229,2),999.99)","v":999.99},{"v":482.17199999999997,"d":"482.17"},{"v":482.17199999999997,"d":"482.17"},""]
["2013-06-06","243052513","CRISTOBAL","IZQUIERDO SANTULLO","M","UC","AS","U14","SI","1",999.99,{"v":147.468,"d":"147.47"},null,{"$f":"MIN([1]Competencias!K230:P230)","v":122.89},{"$f":"IFERROR(SMALL([1]Competencias!K230:P230,2),999.99)","v":999.99},{"v":147.468,"d":"147.47"},{"v":147.468,"d":"147.47"},"",999.99,{"v":139.255,"d":"139.26"},null,{"$f":"MIN([1]Competencias!Q230:AA230)","v":120.67},{"$f":"IFERROR(SMALL([1]Competencias!Q230:AA230,2),999.99)","v":157.84},{"v":144.804,"d":"144.80"},{"v":139.255,"d":"139.26"},"",999.99,{"v":209.915,"d":"209.92"},null,{"$f":"MIN([1]Competencias!AB230:AD230)","v":203.34},{"$f":"IFERROR(SMALL([1]Competencias!AB230:AD230,2),999.99)","v":216.49},{"v":244.00799999999998,"d":"244.01"},{"v":209.91500000000002,"d":"209.92"},""]
["2013-06-16","243053285","IGNACIO","VERGARA SÁNCHEZ","M","POR","AS","U14","SI","1",999.99,999.99,null,{"$f":"MIN([1]Competencias!K231:P231)","v":999.99},{"$f":"IFERROR(SMALL([1]Competencias!K231:P231,2),999.99)","v":999.99},{"v":1199.988,"d":"1199.99"},999.99,"+",999.99,{"v":420.408,"d":"420.41"},null,{"$f":"MIN([1]Competencias!Q231:AA231)","v":350.34},{"$f":"IFERROR(SMALL([1]Competencias!Q231:AA231,2),999.99)","v":999.99},{"v":420.40799999999996,"d":"420.41"},{"v":420.40799999999996,"d":"420.41"},"",999.99,999.99,null,{"$f":"MIN([1]Competencias!AB231:AD231)","v":999.99},{"$f":"IFERROR(SMALL([1]Competencias!AB231:AD231,2),999.99)","v":999.99},{"v":1199.988,"d":"1199.99"},999.99,"+"]
["2013-06-20","243106907","ELISA","LARACH LLORENTE","F","CAN","AS","U14","SI","1",999.99,212.54,null,{"$f":"MIN([1]Competencias!K232:P232)","v":{"v":204.3,"d":"204.30"}},{"$f":"IFERROR(SMALL([1]Competencias!K232:P232,2),999.99)","v":220.78},245.16,{"v":212.54000000000002,"d":"212.54"},"",999.99,{"v":282.055,"d":"282.06"},null,{"$f":"MIN([1]Competencias!Q232:AA232)","v":259.76},{"$f":"IFERROR(SMALL([1]Competencias!Q232:AA232,2),999.99)","v":304.35},{"v":311.712,"d":"311.71"},{"v":282.055,"d":"282.06"},"",999.99,999.99,null,{"$f":"MIN([1]Competencias!AB232:AD232)","v":999.99},{"$f":"IFERROR(SMALL([1]Competencias!AB232:AD232,2),999.99)","v":999.99},{"v":1199.988,"d":"1199.99"},999.99,"+"]
["2013-06-26","243157323","ISABEL","MUÑOZ  QUINTANA","F","CORR","AS","U14","SI","1",999.99,200.94,null,{"$f":"MIN([1]Competencias!K233:P233)","v":167.45},{"$f":"IFERROR(SMALL([1]Competencias!K233:P233,2),999.99)","v":999.99},{"v":200.93999999999997,"d":"200.94"},{"v":200.93999999999997,"d":"200.94"},"",999.99,299.07,null,{"$f":"MIN([1]Competencias!Q233:AA233)","v":294.56},{"$f":"IFERROR(SMALL([1]Competencias!Q233:AA233,2),999.99)","v":303.58},{"v":353.472,"d":"353.47"},299.07,"",999.99,{"v":393.828,"d":"393.83"},null,{"$f":"MIN([1]Competencias!AB233:AD233)","v":328.19},{"$f":"IFERROR(SMALL([1]Competencias!AB233:AD233,2),999.99)","v":999.99},{"v":393.828,"d":"393.83"},{"v":393.828,"d":"393.83"},""]
["2013-06-29","24319749K","FILIPA","PEREZ MULLER","F","CLP","AS","U14","SI","1",999.99,{"v":196.572,"d":"196.57"},null,{"$f":"MIN([1]Competencias!K234:P234)","v":163.81},{"$f":"IFERROR(SMALL([1]Competencias!K234:P234,2),999.99)","v":999.99},{"v":196.572,"d":"196.57"},{"v":196.572,"d":"196.57"},"",999.99,999.99,null,{"$f":"MIN([1]Competencias!Q234:AA234)","v":999.99},{"$f":"IFERROR(SMALL([1]Competencias!Q234:AA234,2),999.99)","v":999.99},{"v":1199.988,"d":"1199.99"},999.99,"+",999.99,{"v":279.735,"d":"279.74"},null,{"$f":"MIN([1]Competencias!AB234:AD234)","v":272.36},{"$f":"IFERROR(SMALL([1]Competencias!AB234:AD234,2),999.99)","v":287.11},{"v":326.832,"d":"326.83"},{"v":279.735,"d":"279.74"},""]
["2013-06-28","243218691","CONSTANZA","MISLEJ LÓPEZ","F","CVN","AS","U14","SI","1",999.99,999.99,null,{"$f":"MIN([1]Competencias!K235:P235)","v":999.99},{"$f":"IFERROR(SMALL([1]Competencias!K235:P235,2),999.99)","v":999.99},{"v":1199.988,"d":"1199.99"},999.99,"+",999.99,999.99,null,{"$f":"MIN([1]Competencias!Q235:AA235)","v":999.99},{"$f":"IFERROR(SMALL([1]Competencias!Q235:AA235,2),999.99)","v":999.99},{"v":1199.988,"d":"1199.99"},999.99,"+",999.99,999.99,null,{"$f":"MIN([1]Competencias!AB235:AD235)","v":999.99},{"$f":"IFERROR(SMALL([1]Competencias!AB235:AD235,2),999.99)","v":999.99},{"v":1199.988,"d":"1199.99"},999.99,"+"]
["2013-07-04","243224055","MARA","GIRALT BERNHARDT","F","CAO","AS","U14","SI","1",999.99,{"v":192.535,"d":"192.54"},null,{"$f":"MIN([1]Competencias!K236:P236)","v":177.32},{"$f":"IFERROR(SMALL([1]Competencias!K236:P236,2),999.99)","v":207.75},{"v":212.784,"d":"212.78"},{"v":192.535,"d":"192.54"},"",999.99,{"v":268.985,"d":"268.99"},null,{"$f":"MIN([1]Competencias!Q236:AA236)","v":263.79},{"$f":"IFERROR(SMALL([1]Competencias!Q236:AA236,2),999.99)","v":274.18},{"v":316.548,"d":"316.55"},{"v":268.985,"d":"268.99"},"",999.99,{"v":377.052,"d":"377.05"},null,{"$f":"MIN([1]Competencias!AB236:AD236)","v":314.21},{"$f":"IFERROR(SMALL([1]Competencias!AB236:AD236,2),999.99)","v":999.99},{"v":377.05199999999996,"d":"377.05"},{"v":377.05199999999996,"d":"377.05"},""]
["2013-07-17","243331714","LUCIANO IGNACIO","CALDERA ALMONACID","M","CEC","AS","U14","SI","1",999.99,314.49,null,{"$f":"MIN([1]Competencias!K237:P237)","v":119.77},{"$f":"IFERROR(SMALL([1]Competencias!K237:P237,2),999.99)","v":509.21},{"v":143.724,"d":"143.72"},314.49,"",999.99,161.29,null,{"$f":"MIN([1]Competencias!Q237:AA237)","v":147.99},{"$f":"IFERROR(SMALL([1]Competencias!Q237:AA237,2),999.99)","v":174.59},{"v":177.588,"d":"177.59"},{"v":161.29000000000002,"d":"161.29"},"",999.99,{"v":199.175,"d":"199.18"},null,{"$f":"MIN([1]Competencias!AB237:AD237)","v":{"v":190.9,"d":"190.90"}},{"$f":"IFERROR(SMALL([1]Competencias!AB237:AD237,2),999.99)","v":207.45},229.08,{"v":199.175,"d":"199.18"},""]
["2013-07-23","243393639","CAROLINA","LEÓN VALDERRAMA","F","CLP","AS","U14","SI","1",999.99,{"v":365.256,"d":"365.26"},null,{"$f":"MIN([1]Competencias!K238:P238)","v":304.38},{"$f":"IFERROR(SMALL([1]Competencias!K238:P238,2),999.99)","v":999.99},{"v":365.256,"d":"365.26"},{"v":365.256,"d":"365.26"},"",999.99,{"v":293.745,"d":"293.75"},null,{"$f":"MIN([1]Competencias!Q238:AA238)","v":289.98},{"$f":"IFERROR(SMALL([1]Competencias!Q238:AA238,2),999.99)","v":297.51},{"v":347.976,"d":"347.98"},{"v":293.745,"d":"293.75"},"",999.99,999.99,null,{"$f":"MIN([1]Competencias!AB238:AD238)","v":999.99},{"$f":"IFERROR(SMALL([1]Competencias!AB238:AD238,2),999.99)","v":999.99},{"v":1199.988,"d":"1199.99"},999.99,"+"]
["2013-07-26","243450373","BENITO ","COX GUERRA","M","CORR","AS","U14","SI","1",999.99,999.99,null,{"$f":"MIN([1]Competencias!K239:P239)","v":999.99},{"$f":"IFERROR(SMALL([1]Competencias!K239:P239,2),999.99)","v":999.99},{"v":1199.988,"d":"1199.99"},999.99,"+",999.99,999.99,null,{"$f":"MIN([1]Competencias!Q239:AA239)","v":999.99},{"$f":"IFERROR(SMALL([1]Competencias!Q239:AA239,2),999.99)","v":999.99},{"v":1199.988,"d":"1199.99"},999.99,"+",999.99,{"v":922.7159999999999,"d":"922.72"},null,{"$f":"MIN([1]Competencias!AB239:AD239)","v":768.93},{"$f":"IFERROR(SMALL([1]Competencias!AB239:AD239,2),999.99)","v":999.99},{"v":922.7159999999999,"d":"922.72"},{"v":922.7159999999999,"d":"922.72"},""]
["2013-08-08","243555817","MATHIAS","PRADO AUERSPERG","M","UC","AS","U14","SI","1",999.99,396.28,null,{"$f":"MIN([1]Competencias!K240:P240)","v":384.21},{"$f":"IFERROR(SMALL([1]Competencias!K240:P240,2),999.99)","v":408.35},{"v":461.05199999999996,"d":"461.05"},396.28,"",999.99,999.99,null,{"$f":"MIN([1]Competencias!Q240:AA240)","v":999.99},{"$f":"IFERROR(SMALL([1]Competencias!Q240:AA240,2),999.99)","v":999.99},{"v":1199.988,"d":"1199.99"},999.99,"+",999.99,999.99,null,{"$f":"MIN([1]Competencias!AB240:AD240)","v":999.99},{"$f":"IFERROR(SMALL([1]Competencias!AB240:AD240,2),999.99)","v":999.99},{"v":1199.988,"d":"1199.99"},999.99,"+"]
["2013-08-06","24361774K","LUCÍA","PRIETO  CRUZ","F","CLP","AS","U14","SI","1",999.99,999.99,null,{"$f":"MIN([1]Competencias!K241:P241)","v":999.99},{"$f":"IFERROR(SMALL([1]Competencias!K241:P241,2),999.99)","v":999.99},{"v":1199.988,"d":"1199.99"},999.99,"+",999.99,999.99,null,{"$f":"MIN([1]Competencias!Q241:AA241)","v":999.99},{"$f":"IFERROR(SMALL([1]Competencias!Q241:AA241,2),999.99)","v":999.99},{"v":1199.988,"d":"1199.99"},999.99,"+",999.99,999.99,null,{"$f":"MIN([1]Competencias!AB241:AD241)","v":999.99},{"$f":"IFERROR(SMALL([1]Competencias!AB241:AD241,2),999.99)","v":999.99},{"v":1199.988,"d":"1199.99"},999.99,"+"]
["2013-08-09","243621887","FACUNDO EDUARDO ","OLIVA  MENDEZ","M","CEC","AS","U14","SI","1",999.99,{"v":258,"d":"258.00"},null,{"$f":"MIN([1]Competencias!K242:P242)","v":{"v":215,"d":"215.00"}},{"$f":"IFERROR(SMALL([1]Competencias!K242:P242,2),999.99)","v":999.99},{"v":258,"d":"258.00"},{"v":258,"d":"258.00"},"",999.99,344.84,null,{"$f":"MIN([1]Competencias!Q242:AA242)","v":310.88},{"$f":"IFERROR(SMALL([1]Competencias!Q242:AA242,2),999.99)","v":{"v":378.8,"d":"378.80"}},{"v":373.056,"d":"373.06"},{"v":344.84000000000003,"d":"344.84"},"",999.99,{"v":732.2159999999999,"d":"732.22"},null,{"$f":"MIN([1]Competencias!AB242:AD242)","v":610.18},{"$f":"IFERROR(SMALL([1]Competencias!AB242:AD242,2),999.99)","v":999.99},{"v":732.2159999999999,"d":"732.22"},{"v":732.2159999999999,"d":"732.22"},""]
["2013-08-22","243688604","BENITO","MORAL GARCÍA","M","ARS","AS","U14","SI","1",999.99,999.99,null,{"$f":"MIN([1]Competencias!K243:P243)","v":999.99},{"$f":"IFERROR(SMALL([1]Competencias!K243:P243,2),999.99)","v":999.99},{"v":1199.988,"d":"1199.99"},999.99,"+",999.99,999.99,null,{"$f":"MIN([1]Competencias!Q243:AA243)","v":999.99},{"$f":"IFERROR(SMALL([1]Competencias!Q243:AA243,2),999.99)","v":999.99},{"v":1199.988,"d":"1199.99"},999.99,"+",999.99,999.99,null,{"$f":"MIN([1]Competencias!AB243:AD243)","v":999.99},{"$f":"IFERROR(SMALL([1]Competencias!AB243:AD243,2),999.99)","v":999.99},{"v":1199.988,"d":"1199.99"},999.99,"+"]
["2013-09-26","243854660","LILY","SERANI LESSER","F","CLP","AS","U14","SI","1",999.99,{"v":280.215,"d":"280.22"},null,{"$f":"MIN([1]Competencias!K244:P244)","v":244.62},{"$f":"IFERROR(SMALL([1]Competencias!K244:P244,2),999.99)","v":315.81},{"v":293.544,"d":"293.54"},{"v":280.21500000000003,"d":"280.22"},"",999.99,{"v":292.985,"d":"292.99"},null,{"$f":"MIN([1]Competencias!Q244:AA244)","v":282.08},{"$f":"IFERROR(SMALL([1]Competencias!Q244:AA244,2),999.99)","v":303.89},{"v":338.496,"d":"338.50"},{"v":292.985,"d":"292.99"},"",999.99,{"v":403.765,"d":"403.77"},null,{"$f":"MIN([1]Competencias!AB244:AD244)","v":374.69},{"$f":"IFERROR(SMALL([1]Competencias!AB244:AD244,2),999.99)","v":432.84},{"v":449.628,"d":"449.63"},{"v":403.765,"d":"403.77"},""]
["2013-09-25","243879124","MARÍA GRACIA","URRUTICOECHEA ROBINSON","F","CLP","AS","U14","SI","1",999.99,378.37,null,{"$f":"MIN([1]Competencias!K245:P245)","v":324.33},{"$f":"IFERROR(SMALL([1]Competencias!K245:P245,2),999.99)","v":432.41},{"v":389.19599999999997,"d":"389.20"},378.37,"",999.99,{"v":360.595,"d":"360.60"},null,{"$f":"MIN([1]Competencias!Q245:AA245)","v":360.41},{"$f":"IFERROR(SMALL([1]Competencias!Q245:AA245,2),999.99)","v":360.78},{"v":432.492,"d":"432.49"},{"v":360.595,"d":"360.60"},"",999.99,412.15,null,{"$f":"MIN([1]Competencias!AB245:AD245)","v":400.88},{"$f":"IFERROR(SMALL([1]Competencias!AB245:AD245,2),999.99)","v":423.42},{"v":481.056,"d":"481.06"},412.15,""]
["2013-09-10","243951976","GUADALUPE","IZQUIERDO BOETSCH","F","UC","AS","U14","SI","1",999.99,999.99,null,{"$f":"MIN([1]Competencias!K246:P246)","v":999.99},{"$f":"IFERROR(SMALL([1]Competencias!K246:P246,2),999.99)","v":999.99},{"v":1199.988,"d":"1199.99"},999.99,"+",999.99,{"v":224.335,"d":"224.34"},null,{"$f":"MIN([1]Competencias!Q246:AA246)","v":223.64},{"$f":"IFERROR(SMALL([1]Competencias!Q246:AA246,2),999.99)","v":225.03},{"v":268.368,"d":"268.37"},{"v":224.33499999999998,"d":"224.34"},"",999.99,{"v":350.988,"d":"350.99"},null,{"$f":"MIN([1]Competencias!AB246:AD246)","v":292.49},{"$f":"IFERROR(SMALL([1]Competencias!AB246:AD246,2),999.99)","v":999.99},{"v":350.988,"d":"350.99"},{"v":350.988,"d":"350.99"},""]
["2013-10-04","243993334","PEDRO PABLO","OCAMPO ZUMELZU","M","CSC","AS","U14","SI","1",999.99,999.99,null,{"$f":"MIN([1]Competencias!K247:P247)","v":999.99},{"$f":"IFERROR(SMALL([1]Competencias!K247:P247,2),999.99)","v":999.99},{"v":1199.988,"d":"1199.99"},999.99,"+",999.99,{"v":466.4519999999999,"d":"466.45"},null,{"$f":"MIN([1]Competencias!Q247:AA247)","v":388.71},{"$f":"IFERROR(SMALL([1]Competencias!Q247:AA247,2),999.99)","v":999.99},{"v":466.45199999999994,"d":"466.45"},{"v":466.45199999999994,"d":"466.45"},"",999.99,{"v":601.0559999999999,"d":"601.06"},null,{"$f":"MIN([1]Competencias!AB247:AD247)","v":500.88},{"$f":"IFERROR(SMALL([1]Competencias!AB247:AD247,2),999.99)","v":999.99},{"v":601.0559999999999,"d":"601.06"},{"v":601.0559999999999,"d":"601.06"},""]
["2013-09-15","243994829","JOSEFA","SANCHEZ HOCHSCHILD","F","CLP","AS","U14","SI","1",999.99,999.99,null,{"$f":"MIN([1]Competencias!K248:P248)","v":999.99},{"$f":"IFERROR(SMALL([1]Competencias!K248:P248,2),999.99)","v":999.99},{"v":1199.988,"d":"1199.99"},999.99,"+",999.99,999.99,null,{"$f":"MIN([1]Competencias!Q248:AA248)","v":999.99},{"$f":"IFERROR(SMALL([1]Competencias!Q248:AA248,2),999.99)","v":999.99},{"v":1199.988,"d":"1199.99"},999.99,"+",999.99,999.99,null,{"$f":"MIN([1]Competencias!AB248:AD248)","v":999.99},{"$f":"IFERROR(SMALL([1]Competencias!AB248:AD248,2),999.99)","v":999.99},{"v":1199.988,"d":"1199.99"},999.99,"+"]
["2013-09-02","243998468","JUANITA MARÍA","VELIZ LEÓN","F","CLP","AS","U14","SI","1",999.99,{"v":304.872,"d":"304.87"},null,{"$f":"MIN([1]Competencias!K249:P249)","v":254.06},{"$f":"IFERROR(SMALL([1]Competencias!K249:P249,2),999.99)","v":999.99},{"v":304.872,"d":"304.87"},{"v":304.872,"d":"304.87"},"",999.99,{"v":281.628,"d":"281.63"},null,{"$f":"MIN([1]Competencias!Q249:AA249)","v":234.69},{"$f":"IFERROR(SMALL([1]Competencias!Q249:AA249,2),999.99)","v":999.99},{"v":281.628,"d":"281.63"},{"v":281.628,"d":"281.63"},"",999.99,252.41,null,{"$f":"MIN([1]Competencias!AB249:AD249)","v":244.15},{"$f":"IFERROR(SMALL([1]Competencias!AB249:AD249,2),999.99)","v":260.67},292.98,{"v":252.41000000000003,"d":"252.41"},""]
["2013-09-16","24400105K","JOSÉ TOMÁS","JABAT CROQUEVIELLE","M","ARS","AS","U14","SI","1",999.99,228.71,null,{"$f":"MIN([1]Competencias!K250:P250)","v":226.79},{"$f":"IFERROR(SMALL([1]Competencias!K250:P250,2),999.99)","v":230.63},{"v":272.14799999999997,"d":"272.15"},{"v":228.70999999999998,"d":"228.71"},"",999.99,223.74,null,{"$f":"MIN([1]Competencias!Q250:AA250)","v":215.45},{"$f":"IFERROR(SMALL([1]Competencias!Q250:AA250,2),999.99)","v":232.03},{"v":258.53999999999996,"d":"258.54"},223.74,"",999.99,{"v":283.825,"d":"283.83"},null,{"$f":"MIN([1]Competencias!AB250:AD250)","v":269.12},{"$f":"IFERROR(SMALL([1]Competencias!AB250:AD250,2),999.99)","v":298.53},{"v":322.944,"d":"322.94"},{"v":283.825,"d":"283.83"},""]
["2013-10-02","244049249","LUCIA","COSMELLI PIWONKA","F","UC","AS","U14","SI","1",999.99,999.99,null,{"$f":"MIN([1]Competencias!K251:P251)","v":999.99},{"$f":"IFERROR(SMALL([1]Competencias!K251:P251,2),999.99)","v":999.99},{"v":1199.988,"d":"1199.99"},999.99,"+",999.99,999.99,null,{"$f":"MIN([1]Competencias!Q251:AA251)","v":999.99},{"$f":"IFERROR(SMALL([1]Competencias!Q251:AA251,2),999.99)","v":999.99},{"v":1199.988,"d":"1199.99"},999.99,"+",999.99,999.99,null,{"$f":"MIN([1]Competencias!AB251:AD251)","v":999.99},{"$f":"IFERROR(SMALL([1]Competencias!AB251:AD251,2),999.99)","v":999.99},{"v":1199.988,"d":"1199.99"},999.99,"+"]
["2013-08-23","244063179","MATILDE","EULUFI BENAVIDES","F","ARS","AS","U14","SI","1",999.99,999.99,null,{"$f":"MIN([1]Competencias!K252:P252)","v":999.99},{"$f":"IFERROR(SMALL([1]Competencias!K252:P252,2),999.99)","v":999.99},{"v":1199.988,"d":"1199.99"},999.99,"+",999.99,{"v":251.8,"d":"251.80"},null,{"$f":"MIN([1]Competencias!Q252:AA252)","v":249.61},{"$f":"IFERROR(SMALL([1]Competencias!Q252:AA252,2),999.99)","v":253.99},{"v":299.532,"d":"299.53"},{"v":251.8,"d":"251.80"},"",999.99,194.24,null,{"$f":"MIN([1]Competencias!AB252:AD252)","v":175.23},{"$f":"IFERROR(SMALL([1]Competencias!AB252:AD252,2),999.99)","v":213.25},{"v":210.27599999999998,"d":"210.28"},194.24,""]
["2013-09-11","244073166","MATILDA AMALIA","TORRES RETI","F","CAN","AS","U14","SI","1",999.99,130.16,null,{"$f":"MIN([1]Competencias!K253:P253)","v":123.86},{"$f":"IFERROR(SMALL([1]Competencias!K253:P253,2),999.99)","v":136.46},{"v":148.632,"d":"148.63"},130.16,"",999.99,{"v":222.045,"d":"222.05"},null,{"$f":"MIN([1]Competencias!Q253:AA253)","v":207.98},{"$f":"IFERROR(SMALL([1]Competencias!Q253:AA253,2),999.99)","v":236.11},{"v":249.57599999999996,"d":"249.58"},{"v":222.04500000000002,"d":"222.05"},"",999.99,999.99,null,{"$f":"MIN([1]Competencias!AB253:AD253)","v":999.99},{"$f":"IFERROR(SMALL([1]Competencias!AB253:AD253,2),999.99)","v":999.99},{"v":1199.988,"d":"1199.99"},999.99,"+"]
["2013-10-22","244288707","KAMAL","HADAD MOREL","M","POR","AS","U14","SI","1",999.99,999.99,null,{"$f":"MIN([1]Competencias!K254:P254)","v":999.99},{"$f":"IFERROR(SMALL([1]Competencias!K254:P254,2),999.99)","v":999.99},{"v":1199.988,"d":"1199.99"},999.99,"+",999.99,509.34,null,{"$f":"MIN([1]Competencias!Q254:AA254)","v":{"v":471.6,"d":"471.60"}},{"$f":"IFERROR(SMALL([1]Competencias!Q254:AA254,2),999.99)","v":547.08},565.92,{"v":509.34000000000003,"d":"509.34"},"",999.99,999.99,null,{"$f":"MIN([1]Competencias!AB254:AD254)","v":999.99},{"$f":"IFERROR(SMALL([1]Competencias!AB254:AD254,2),999.99)","v":999.99},{"v":1199.988,"d":"1199.99"},999.99,"+"]
["2013-10-28","244302939","CRISTOBAL","BRISEÑO  MUENCKE ","M","CAN","AS","U14","SI","1",999.99,307.59,null,{"$f":"MIN([1]Competencias!K255:P255)","v":306.17},{"$f":"IFERROR(SMALL([1]Competencias!K255:P255,2),999.99)","v":309.01},{"v":367.404,"d":"367.40"},{"v":307.59000000000003,"d":"307.59"},"",999.99,346.65,null,{"$f":"MIN([1]Competencias!Q255:AA255)","v":342.92},{"$f":"IFERROR(SMALL([1]Competencias!Q255:AA255,2),999.99)","v":350.38},{"v":411.504,"d":"411.50"},346.65,"",999.99,999.99,null,{"$f":"MIN([1]Competencias!AB255:AD255)","v":999.99},{"$f":"IFERROR(SMALL([1]Competencias!AB255:AD255,2),999.99)","v":999.99},{"v":1199.988,"d":"1199.99"},999.99,"+"]
["2013-10-25","244342272","GABRIELA","PRAT KOENEKAMP","F","CAO","AS","U14","SI","1",999.99,{"v":281.7,"d":"281.70"},null,{"$f":"MIN([1]Competencias!K256:P256)","v":234.75},{"$f":"IFERROR(SMALL([1]Competencias!K256:P256,2),999.99)","v":999.99},{"v":281.7,"d":"281.70"},{"v":281.7,"d":"281.70"},"",999.99,{"v":397.872,"d":"397.87"},null,{"$f":"MIN([1]Competencias!Q256:AA256)","v":331.56},{"$f":"IFERROR(SMALL([1]Competencias!Q256:AA256,2),999.99)","v":999.99},{"v":397.872,"d":"397.87"},{"v":397.872,"d":"397.87"},"",999.99,406.14,null,{"$f":"MIN([1]Competencias!AB256:AD256)","v":338.45},{"$f":"IFERROR(SMALL([1]Competencias!AB256:AD256,2),999.99)","v":999.99},406.14,406.14,""]
["2013-11-14","244539653","PABLO","GUTIERREZ RAMSAY","M","CAO","AS","U14","SI","1",999.99,{"v":215.832,"d":"215.83"},null,{"$f":"MIN([1]Competencias!K257:P257)","v":179.86},{"$f":"IFERROR(SMALL([1]Competencias!K257:P257,2),999.99)","v":999.99},{"v":215.83200000000002,"d":"215.83"},{"v":215.83200000000002,"d":"215.83"},"",999.99,219.56,null,{"$f":"MIN([1]Competencias!Q257:AA257)","v":203.35},{"$f":"IFERROR(SMALL([1]Competencias!Q257:AA257,2),999.99)","v":235.77},{"v":244.01999999999998,"d":"244.02"},219.56,"",999.99,{"v":325.465,"d":"325.47"},null,{"$f":"MIN([1]Competencias!AB257:AD257)","v":296.66},{"$f":"IFERROR(SMALL([1]Competencias!AB257:AD257,2),999.99)","v":354.27},{"v":355.992,"d":"355.99"},{"v":325.46500000000003,"d":"325.47"},""]
["2013-11-15","244548237","AMALIA","HOLZAPFEL KAUFMANN","F","CAO","AS","U14","SI","1",999.99,999.99,null,{"$f":"MIN([1]Competencias!K258:P258)","v":999.99},{"$f":"IFERROR(SMALL([1]Competencias!K258:P258,2),999.99)","v":999.99},{"v":1199.988,"d":"1199.99"},999.99,"+",999.99,999.99,null,{"$f":"MIN([1]Competencias!Q258:AA258)","v":999.99},{"$f":"IFERROR(SMALL([1]Competencias!Q258:AA258,2),999.99)","v":999.99},{"v":1199.988,"d":"1199.99"},999.99,"+",999.99,999.99,null,{"$f":"MIN([1]Competencias!AB258:AD258)","v":999.99},{"$f":"IFERROR(SMALL([1]Competencias!AB258:AD258,2),999.99)","v":999.99},{"v":1199.988,"d":"1199.99"},999.99,"+"]
["2013-11-17","244564275","VIOLETA","MARÍN PAICE","F","CAPA","AS","U14","SI","1",999.99,{"v":142.392,"d":"142.39"},null,{"$f":"MIN([1]Competencias!K259:P259)","v":118.66},{"$f":"IFERROR(SMALL([1]Competencias!K259:P259,2),999.99)","v":999.99},{"$f":"N259*1.2","v":{"v":142.392,"d":"142.39"}},{"$f":"IF(N259=999.99,K259,IF(O259=999.99,IF(K259<999.99,K259,P259),IF((N259+O259)/2>K259,K259,(N259+O259)/2)))","v":{"v":142.392,"d":"142.39"}},{"$f":"IF(Q259=\"999,99\",\"\",IF(Q259=A259,\">\",IF(Q259=O259,\"+\",\"\")))","v":""},999.99,{"v":206.365,"d":"206.37"},null,{"$f":"MIN([1]Competencias!Q259:AA259)","v":201.36},{"$f":"IFERROR(SMALL([1]Competencias!Q259:AA259,2),999.99)","v":211.37},{"$f":"V259*1.2","v":{"v":241.632,"d":"241.63"}},{"$f":"IF(V259=999.99,S259,IF(W259=999.99,IF(S259<999.99,S259,X259),IF((V259+W259)/2>S259,S259,(V259+W259)/2)))","v":{"v":206.365,"d":"206.37"}},{"$f":"IF(Y259=\"999,99\",\"\",IF(Y259=G259,\">\",IF(Y259=W259,\"+\",\"\")))","v":""},999.99,{"v":221.815,"d":"221.82"},null,{"$f":"MIN([1]Competencias!AB259:AD259)","v":219.97},{"$f":"IFERROR(SMALL([1]Competencias!AB259:AD259,2),999.99)","v":223.66},{"$f":"AD259*1.2","v":{"v":263.964,"d":"263.96"}},{"$f":"IF(AD259=999.99,AA259,IF(AE259=999.99,IF(AA259<999.99,AA259,AF259),IF((AD259+AE259)/2>AA259,AA259,(AD259+AE259)/2)))","v":{"v":221.815,"d":"221.82"}},{"$f":"IF(AG259=\"999,99\",\"\",IF(AG259=R259,\">\",IF(AG259=AE259,\"+\",\"\")))","v":""}]
["2013-11-26","244637272","CRISTOBAL ENRIQUE","TAPIA MARDONES","M","CSC","AS","U14","SI","1",999.99,{"v":308.004,"d":"308.00"},null,{"$f":"MIN([1]Competencias!K260:P260)","v":256.67},{"$f":"IFERROR(SMALL([1]Competencias!K260:P260,2),999.99)","v":999.99},{"v":308.004,"d":"308.00"},{"v":308.004,"d":"308.00"},"",999.99,999.99,null,{"$f":"MIN([1]Competencias!Q260:AA260)","v":999.99},{"$f":"IFERROR(SMALL([1]Competencias!Q260:AA260,2),999.99)","v":999.99},{"v":1199.988,"d":"1199.99"},999.99,"+",999.99,999.99,null,{"$f":"MIN([1]Competencias!AB260:AD260)","v":999.99},{"$f":"IFERROR(SMALL([1]Competencias!AB260:AD260,2),999.99)","v":999.99},{"v":1199.988,"d":"1199.99"},999.99,"+"]
["2013-11-23","24465536K","DANIEL","MARTINEZ ARAVENA","M","UC","AS","U14","SI","1",999.99,426.24,null,{"$f":"MIN([1]Competencias!K261:P261)","v":393.27},{"$f":"IFERROR(SMALL([1]Competencias!K261:P261,2),999.99)","v":459.21},{"v":471.924,"d":"471.92"},426.24,"",999.99,458.87,null,{"$f":"MIN([1]Competencias!Q261:AA261)","v":448.19},{"$f":"IFERROR(SMALL([1]Competencias!Q261:AA261,2),999.99)","v":469.55},{"v":537.828,"d":"537.83"},458.87,"",999.99,999.99,null,{"$f":"MIN([1]Competencias!AB261:AD261)","v":999.99},{"$f":"IFERROR(SMALL([1]Competencias!AB261:AD261,2),999.99)","v":999.99},{"v":1199.988,"d":"1199.99"},999.99,"+"]
["2013-11-26","244698476","MAIKE","OPITZ SEIDL","F","CAO","AS","U14","SI","1",999.99,{"v":217.6,"d":"217.60"},null,{"$f":"MIN([1]Competencias!K262:P262)","v":207.41},{"$f":"IFERROR(SMALL([1]Competencias!K262:P262,2),999.99)","v":227.79},{"v":248.892,"d":"248.89"},{"v":217.6,"d":"217.60"},"",999.99,269.65,null,{"$f":"MIN([1]Competencias!Q262:AA262)","v":269.65},{"$f":"IFERROR(SMALL([1]Competencias!Q262:AA262,2),999.99)","v":269.65},323.58,269.65,"+",999.99,{"v":445.056,"d":"445.06"},null,{"$f":"MIN([1]Competencias!AB262:AD262)","v":370.88},{"$f":"IFERROR(SMALL([1]Competencias!AB262:AD262,2),999.99)","v":999.99},{"v":445.056,"d":"445.06"},{"v":445.056,"d":"445.06"},""]
["2013-11-26","244705170","LAURA","HEISE KUNSTMANN","F","CORR","AS","U14","SI","1",999.99,{"v":377.532,"d":"377.53"},null,{"$f":"MIN([1]Competencias!K263:P263)","v":314.61},{"$f":"IFERROR(SMALL([1]Competencias!K263:P263,2),999.99)","v":999.99},{"v":377.532,"d":"377.53"},{"v":377.532,"d":"377.53"},"",999.99,{"v":514.824,"d":"514.82"},null,{"$f":"MIN([1]Competencias!Q263:AA263)","v":429.02},{"$f":"IFERROR(SMALL([1]Competencias!Q263:AA263,2),999.99)","v":999.99},{"v":514.824,"d":"514.82"},{"v":514.824,"d":"514.82"},"",999.99,{"v":513.516,"d":"513.52"},null,{"$f":"MIN([1]Competencias!AB263:AD263)","v":427.93},{"$f":"IFERROR(SMALL([1]Competencias!AB263:AD263,2),999.99)","v":999.99},{"v":513.516,"d":"513.52"},{"v":513.516,"d":"513.52"},""]
["2013-11-20","244763421","TOMAS","BEAOIN LANGER","M","CAN","AS","U14","SI","1",999.99,999.99,null,{"$f":"MIN([1]Competencias!K264:P264)","v":999.99},{"$f":"IFERROR(SMALL([1]Competencias!K264:P264,2),999.99)","v":999.99},{"v":1199.988,"d":"1199.99"},999.99,"+",999.99,999.99,null,{"$f":"MIN([1]Competencias!Q264:AA264)","v":999.99},{"$f":"IFERROR(SMALL([1]Competencias!Q264:AA264,2),999.99)","v":999.99},{"v":1199.988,"d":"1199.99"},999.99,"+",999.99,999.99,null,{"$f":"MIN([1]Competencias!AB264:AD264)","v":999.99},{"$f":"IFERROR(SMALL([1]Competencias!AB264:AD264,2),999.99)","v":999.99},{"v":1199.988,"d":"1199.99"},999.99,"+"]
["2013-12-14","244828949","MARÍA CECILIA","FUENZALIDA IRARRAZABAL","F","CLP","AS","U14","SI","1",999.99,999.99,null,{"$f":"MIN([1]Competencias!K265:P265)","v":999.99},{"$f":"IFERROR(SMALL([1]Competencias!K265:P265,2),999.99)","v":999.99},{"v":1199.988,"d":"1199.99"},999.99,"+",999.99,226.83,null,{"$f":"MIN([1]Competencias!Q265:AA265)","v":222.69},{"$f":"IFERROR(SMALL([1]Competencias!Q265:AA265,2),999.99)","v":230.97},{"v":267.228,"d":"267.23"},{"v":226.82999999999998,"d":"226.83"},"",999.99,999.99,null,{"$f":"MIN([1]Competencias!AB265:AD265)","v":999.99},{"$f":"IFERROR(SMALL([1]Competencias!AB265:AD265,2),999.99)","v":999.99},{"v":1199.988,"d":"1199.99"},999.99,"+"]
["2013-12-20","244876641","RAFAELA JESUS","GONZÁLEZ  LÓPEZ ","F","CEC","AS","U14","SI","1",999.99,{"v":362.688,"d":"362.69"},null,{"$f":"MIN([1]Competencias!K266:P266)","v":302.24},{"$f":"IFERROR(SMALL([1]Competencias!K266:P266,2),999.99)","v":999.99},{"v":362.688,"d":"362.69"},{"v":362.688,"d":"362.69"},"",999.99,{"v":429.672,"d":"429.67"},null,{"$f":"MIN([1]Competencias!Q266:AA266)","v":358.06},{"$f":"IFERROR(SMALL([1]Competencias!Q266:AA266,2),999.99)","v":999.99},{"v":429.67199999999997,"d":"429.67"},{"v":429.67199999999997,"d":"429.67"},"",999.99,{"v":449.316,"d":"449.32"},null,{"$f":"MIN([1]Competencias!AB266:AD266)","v":374.43},{"$f":"IFERROR(SMALL([1]Competencias!AB266:AD266,2),999.99)","v":999.99},{"v":449.316,"d":"449.32"},{"v":449.316,"d":"449.32"},""]
["2013-12-22","24489111K","MATEO","BARROS ALCALDE","M","UC","AS","U14","SI","1",999.99,308.58,null,{"$f":"MIN([1]Competencias!K267:P267)","v":279.06},{"$f":"IFERROR(SMALL([1]Competencias!K267:P267,2),999.99)","v":{"v":338.1,"d":"338.10"}},{"v":334.872,"d":"334.87"},{"v":308.58000000000004,"d":"308.58"},"",999.99,{"v":290.985,"d":"290.99"},null,{"$f":"MIN([1]Competencias!Q267:AA267)","v":281.19},{"$f":"IFERROR(SMALL([1]Competencias!Q267:AA267,2),999.99)","v":300.78},{"v":337.428,"d":"337.43"},{"v":290.985,"d":"290.99"},"",999.99,{"v":558.228,"d":"558.23"},null,{"$f":"MIN([1]Competencias!AB267:AD267)","v":465.19},{"$f":"IFERROR(SMALL([1]Competencias!AB267:AD267,2),999.99)","v":999.99},{"v":558.228,"d":"558.23"},{"v":558.228,"d":"558.23"},""]
["2011-04-26","24489767B","TOMÁS","DUEÑAS SUÁREZ","M","ARS","AS","U16","SI","1",171.56,171.56,null,{"$f":"MIN([1]Competencias!K268:P268)","v":999.99},{"$f":"IFERROR(SMALL([1]Competencias!K268:P268,2),999.99)","v":999.99},{"v":1199.988,"d":"1199.99"},171.56,"",119.98,119.98,null,{"$f":"MIN([1]Competencias!Q268:AA268)","v":117.78},{"$f":"IFERROR(SMALL([1]Competencias!Q268:AA268,2),999.99)","v":999.99},{"v":141.33599999999998,"d":"141.34"},119.98,"",999.99,999.99,null,{"$f":"MIN([1]Competencias!AB268:AD268)","v":999.99},{"$f":"IFERROR(SMALL([1]Competencias!AB268:AD268,2),999.99)","v":999.99},{"v":1199.988,"d":"1199.99"},999.99,"+"]
["2013-12-28","244931146","ELISA","GAZMURI PIEDRA","F","CEC","AS","U14","SI","1",999.99,999.99,null,{"$f":"MIN([1]Competencias!K269:P269)","v":999.99},{"$f":"IFERROR(SMALL([1]Competencias!K269:P269,2),999.99)","v":999.99},{"v":1199.988,"d":"1199.99"},999.99,"+",999.99,999.99,null,{"$f":"MIN([1]Competencias!Q269:AA269)","v":999.99},{"$f":"IFERROR(SMALL([1]Competencias!Q269:AA269,2),999.99)","v":999.99},{"v":1199.988,"d":"1199.99"},999.99,"+",999.99,999.99,null,{"$f":"MIN([1]Competencias!AB269:AD269)","v":999.99},{"$f":"IFERROR(SMALL([1]Competencias!AB269:AD269,2),999.99)","v":999.99},{"v":1199.988,"d":"1199.99"},999.99,"+"]
["2012-04-24","24934138K","MIA ","DIETRICH CHOCANO","F","CAN","AS","U14","SI","2",292.59,292.59,null,{"$f":"MIN([1]Competencias!K270:P270)","v":342.62},{"$f":"IFERROR(SMALL([1]Competencias!K270:P270,2),999.99)","v":999.99},{"v":411.144,"d":"411.14"},292.59,"",201.24,201.24,null,{"$f":"MIN([1]Competencias!Q270:AA270)","v":334.85},{"$f":"IFERROR(SMALL([1]Competencias!Q270:AA270,2),999.99)","v":391.18},401.82,201.24,"",314.86,314.86,null,{"$f":"MIN([1]Competencias!AB270:AD270)","v":340.21},{"$f":"IFERROR(SMALL([1]Competencias!AB270:AD270,2),999.99)","v":999.99},{"v":408.25199999999995,"d":"408.25"},314.86,""]
["2013-01-25","250985398","SOFIA","FONFACH  STOLZENBACH","F","CORR","AS","U14","SI","1",999.99,{"v":568.095,"d":"568.10"},null,{"$f":"MIN([1]Competencias!K271:P271)","v":275.99},{"$f":"IFERROR(SMALL([1]Competencias!K271:P271,2),999.99)","v":{"v":860.2,"d":"860.20"}},{"v":331.188,"d":"331.19"},{"v":568.095,"d":"568.10"},"",999.99,439.36,null,{"$f":"MIN([1]Competencias!Q271:AA271)","v":{"v":396.7,"d":"396.70"}},{"$f":"IFERROR(SMALL([1]Competencias!Q271:AA271,2),999.99)","v":482.02},{"v":476.03999999999996,"d":"476.04"},439.36,"",999.99,{"v":548.1959999999999,"d":"548.20"},null,{"$f":"MIN([1]Competencias!AB271:AD271)","v":456.83},{"$f":"IFERROR(SMALL([1]Competencias!AB271:AD271,2),999.99)","v":999.99},{"v":548.1959999999999,"d":"548.20"},{"v":548.1959999999999,"d":"548.20"},""]
["2010-03-02","25627271G","FRANCESC","DE VILLASANTE PASCUAL ","M","ARS","AS","U16","SI","2",999.99,{"v":88.88399999999999,"d":"88.88"},null,{"$f":"MIN([1]Competencias!K272:P272)","v":74.07},{"$f":"IFERROR(SMALL([1]Competencias!K272:P272,2),999.99)","v":999.99},{"v":88.88399999999999,"d":"88.88"},{"v":88.88399999999999,"d":"88.88"},"",159.46,159.46,null,{"$f":"MIN([1]Competencias!Q272:AA272)","v":999.99},{"$f":"IFERROR(SMALL([1]Competencias!Q272:AA272,2),999.99)","v":999.99},{"v":1199.988,"d":"1199.99"},159.46,"",999.99,999.99,null,{"$f":"MIN([1]Competencias!AB272:AD272)","v":999.99},{"$f":"IFERROR(SMALL([1]Competencias!AB272:AD272,2),999.99)","v":999.99},{"v":1199.988,"d":"1199.99"},999.99,"+"]
["2012-09-18","257771806","LAURA","PUENTE YANKOVIC","F","CAN","AS","U14","SI","2",{"v":50,"d":"50.00"},{"v":50,"d":"50.00"},null,{"$f":"MIN([1]Competencias!K273:P273)","v":47.62},{"$f":"IFERROR(SMALL([1]Competencias!K273:P273,2),999.99)","v":999.99},{"v":57.144,"d":"57.14"},{"v":50,"d":"50.00"},"",91.22,84.65,null,{"$f":"MIN([1]Competencias!Q273:AA273)","v":82.52},{"$f":"IFERROR(SMALL([1]Competencias!Q273:AA273,2),999.99)","v":86.78},{"v":99.02399999999999,"d":"99.02"},84.65,"",124.62,107.55,null,{"$f":"MIN([1]Competencias!AB273:AD273)","v":107.35},{"$f":"IFERROR(SMALL([1]Competencias!AB273:AD273,2),999.99)","v":107.75},128.82,107.55,""]
["2012-09-24","28347884K","LUCAS","ALMEIDA KÜHL","M","ARS","AS","U14","SI","2",999.99,999.99,null,{"$f":"MIN([1]Competencias!K274:P274)","v":999.99},{"$f":"IFERROR(SMALL([1]Competencias!K274:P274,2),999.99)","v":999.99},{"v":1199.988,"d":"1199.99"},999.99,"+",999.99,999.99,null,{"$f":"MIN([1]Competencias!Q274:AA274)","v":999.99},{"$f":"IFERROR(SMALL([1]Competencias!Q274:AA274,2),999.99)","v":999.99},{"v":1199.988,"d":"1199.99"},999.99,"+",999.99,999.99,null,{"$f":"MIN([1]Competencias!AB274:AD274)","v":999.99},{"$f":"IFERROR(SMALL([1]Competencias!AB274:AD274,2),999.99)","v":999.99},{"v":1199.988,"d":"1199.99"},999.99,"+"]
["2012-07-12","54328052M","ALEX","BORDA SANTAMARÍA","M","ARS","AS","U14","SI","2",70.54,70.54,null,{"$f":"MIN([1]Competencias!K275:P275)","v":99.25},{"$f":"IFERROR(SMALL([1]Competencias!K275:P275,2),999.99)","v":105.19},{"v":119.1,"d":"119.10"},70.54,"",{"v":99.9,"d":"99.90"},{"v":99.9,"d":"99.90"},null,{"$f":"MIN([1]Competencias!Q275:AA275)","v":159.81},{"$f":"IFERROR(SMALL([1]Competencias!Q275:AA275,2),999.99)","v":186.04},{"v":191.772,"d":"191.77"},{"v":99.9,"d":"99.90"},"",999.99,999.99,null,{"$f":"MIN([1]Competencias!AB275:AD275)","v":999.99},{"$f":"IFERROR(SMALL([1]Competencias!AB275:AD275,2),999.99)","v":999.99},{"v":1199.988,"d":"1199.99"},999.99,"+"]
["2011-08-03","669187360","YAEL","LANZKOWSKY ","F","CVN","AS","U16","SI","1",999.99,{"v":96.92399999999999,"d":"96.92"},null,{"$f":"MIN([1]Competencias!K276:P276)","v":80.77},{"$f":"IFERROR(SMALL([1]Competencias!K276:P276,2),999.99)","v":999.99},{"v":96.92399999999999,"d":"96.92"},{"v":96.92399999999999,"d":"96.92"},"",999.99,999.99,null,{"$f":"MIN([1]Competencias!Q276:AA276)","v":999.99},{"$f":"IFERROR(SMALL([1]Competencias!Q276:AA276,2),999.99)","v":999.99},{"v":1199.988,"d":"1199.99"},999.99,"+",999.99,999.99,null,{"$f":"MIN([1]Competencias!AB276:AD276)","v":999.99},{"$f":"IFERROR(SMALL([1]Competencias!AB276:AD276,2),999.99)","v":999.99},{"v":1199.988,"d":"1199.99"},999.99,"+"]
["2013-05-10","671566198","VICENZO","MASTTRIOANNI MASTRIOANNI","M","ARS","AS","U14","SI","1",999.99,155.34,null,{"$f":"MIN([1]Competencias!K277:P277)","v":129.45},{"$f":"IFERROR(SMALL([1]Competencias!K277:P277,2),999.99)","v":999.99},{"v":155.33999999999997,"d":"155.34"},{"v":155.33999999999997,"d":"155.34"},"",999.99,999.99,null,{"$f":"MIN([1]Competencias!Q277:AA277)","v":999.99},{"$f":"IFERROR(SMALL([1]Competencias!Q277:AA277,2),999.99)","v":999.99},{"v":1199.988,"d":"1199.99"},999.99,"+",999.99,999.99,null,{"$f":"MIN([1]Competencias!AB277:AD277)","v":999.99},{"$f":"IFERROR(SMALL([1]Competencias!AB277:AD277,2),999.99)","v":999.99},{"v":1199.988,"d":"1199.99"},999.99,"+"]
["2013-05-03","674320143","VICTORIA","DUGAS ","F","CORR","AS","U14","SI","1",999.99,{"v":188.664,"d":"188.66"},null,{"$f":"MIN([1]Competencias!K278:P278)","v":157.22},{"$f":"IFERROR(SMALL([1]Competencias!K278:P278,2),999.99)","v":999.99},{"v":188.664,"d":"188.66"},{"v":188.664,"d":"188.66"},"",999.99,{"v":279.144,"d":"279.14"},null,{"$f":"MIN([1]Competencias!Q278:AA278)","v":232.62},{"$f":"IFERROR(SMALL([1]Competencias!Q278:AA278,2),999.99)","v":999.99},{"v":279.144,"d":"279.14"},{"v":279.144,"d":"279.14"},"",999.99,{"v":351.324,"d":"351.32"},null,{"$f":"MIN([1]Competencias!AB278:AD278)","v":292.77},{"$f":"IFERROR(SMALL([1]Competencias!AB278:AD278,2),999.99)","v":999.99},{"v":351.32399999999996,"d":"351.32"},{"v":351.32399999999996,"d":"351.32"},""]
["2010-09-27","678083616","DASH","HAMILTON HAMILTON","M","ARS","AS","U16","SI","2",999.99,{"v":87.82499999999999,"d":"87.83"},null,{"$f":"MIN([1]Competencias!K279:P279)","v":83.52},{"$f":"IFERROR(SMALL([1]Competencias!K279:P279,2),999.99)","v":92.13},{"v":100.22399999999999,"d":"100.22"},{"v":87.82499999999999,"d":"87.83"},"",999.99,999.99,null,{"$f":"MIN([1]Competencias!Q279:AA279)","v":999.99},{"$f":"IFERROR(SMALL([1]Competencias!Q279:AA279,2),999.99)","v":999.99},{"v":1199.988,"d":"1199.99"},999.99,"+",999.99,999.99,null,{"$f":"MIN([1]Competencias!AB279:AD279)","v":999.99},{"$f":"IFERROR(SMALL([1]Competencias!AB279:AD279,2),999.99)","v":999.99},{"v":1199.988,"d":"1199.99"},999.99,"+"]
["2010-09-27","678083617","POPPY","HAMILTON HAMILTON","F","ARS","AS","U16","SI","2",999.99,{"v":88.225,"d":"88.23"},null,{"$f":"MIN([1]Competencias!K280:P280)","v":74.17},{"$f":"IFERROR(SMALL([1]Competencias!K280:P280,2),999.99)","v":102.28},{"v":89.004,"d":"89.00"},{"v":88.225,"d":"88.23"},"",999.99,999.99,null,{"$f":"MIN([1]Competencias!Q280:AA280)","v":999.99},{"$f":"IFERROR(SMALL([1]Competencias!Q280:AA280,2),999.99)","v":999.99},{"v":1199.988,"d":"1199.99"},999.99,"+",999.99,999.99,null,{"$f":"MIN([1]Competencias!AB280:AD280)","v":999.99},{"$f":"IFERROR(SMALL([1]Competencias!AB280:AD280,2),999.99)","v":999.99},{"v":1199.988,"d":"1199.99"},999.99,"+"]
["2012-04-04","680353783","LILA","MULLIN MULLIN","F","ARS","AS","U14","SI","2",999.99,{"v":227.988,"d":"227.99"},null,{"$f":"MIN([1]Competencias!K281:P281)","v":189.99},{"$f":"IFERROR(SMALL([1]Competencias!K281:P281,2),999.99)","v":999.99},{"v":227.988,"d":"227.99"},{"v":227.988,"d":"227.99"},"",999.99,999.99,null,{"$f":"MIN([1]Competencias!Q281:AA281)","v":999.99},{"$f":"IFERROR(SMALL([1]Competencias!Q281:AA281,2),999.99)","v":999.99},{"v":1199.988,"d":"1199.99"},999.99,"+",999.99,999.99,null,{"$f":"MIN([1]Competencias!AB281:AD281)","v":999.99},{"$f":"IFERROR(SMALL([1]Competencias!AB281:AD281,2),999.99)","v":999.99},{"v":1199.988,"d":"1199.99"},999.99,"+"]
["2011-05-18","A03673618","GRIFFIN","PEELE PEELE","M","ARS","AS","U16","SI","1",999.99,147.58,null,{"$f":"MIN([1]Competencias!K282:P282)","v":140.23},{"$f":"IFERROR(SMALL([1]Competencias!K282:P282,2),999.99)","v":154.93},{"v":168.27599999999998,"d":"168.28"},{"v":147.57999999999998,"d":"147.58"},"",999.99,999.99,null,{"$f":"MIN([1]Competencias!Q282:AA282)","v":999.99},{"$f":"IFERROR(SMALL([1]Competencias!Q282:AA282,2),999.99)","v":999.99},{"v":1199.988,"d":"1199.99"},999.99,"+",999.99,999.99,null,{"$f":"MIN([1]Competencias!AB282:AD282)","v":999.99},{"$f":"IFERROR(SMALL([1]Competencias!AB282:AD282,2),999.99)","v":999.99},{"v":1199.988,"d":"1199.99"},999.99,"+"]
["2012-07-07","A03834997","JACK","STRAZIK ","M","CORR","AS","U14","SI","2",999.99,{"v":360.528,"d":"360.53"},null,{"$f":"MIN([1]Competencias!K283:P283)","v":300.44},{"$f":"IFERROR(SMALL([1]Competencias!K283:P283,2),999.99)","v":999.99},{"v":360.52799999999996,"d":"360.53"},{"v":360.52799999999996,"d":"360.53"},"",999.99,{"v":464.964,"d":"464.96"},null,{"$f":"MIN([1]Competencias!Q283:AA283)","v":387.47},{"$f":"IFERROR(SMALL([1]Competencias!Q283:AA283,2),999.99)","v":999.99},{"v":464.964,"d":"464.96"},{"v":464.964,"d":"464.96"},"",999.99,{"v":614.244,"d":"614.24"},null,{"$f":"MIN([1]Competencias!AB283:AD283)","v":511.87},{"$f":"IFERROR(SMALL([1]Competencias!AB283:AD283,2),999.99)","v":999.99},{"v":614.244,"d":"614.24"},{"v":614.244,"d":"614.24"},""]
["2011-11-20","A05373389","FELIPE","CRESPO RODRÍGUEZ","M","CLP","AS","U16","SI","1",999.99,{"v":168.255,"d":"168.26"},null,{"$f":"MIN([1]Competencias!K284:P284)","v":160.22},{"$f":"IFERROR(SMALL([1]Competencias!K284:P284,2),999.99)","v":176.29},{"v":192.26399999999998,"d":"192.26"},{"v":168.255,"d":"168.26"},"",999.99,999.99,null,{"$f":"MIN([1]Competencias!Q284:AA284)","v":999.99},{"$f":"IFERROR(SMALL([1]Competencias!Q284:AA284,2),999.99)","v":999.99},{"v":1199.988,"d":"1199.99"},999.99,"+",999.99,999.99,null,{"$f":"MIN([1]Competencias!AB284:AD284)","v":999.99},{"$f":"IFERROR(SMALL([1]Competencias!AB284:AD284,2),999.99)","v":999.99},{"v":1199.988,"d":"1199.99"},999.99,"+"]
["2012-04-11","A07024773","CHARLIE","BROWN BROWN","M","ARS","AS","U14","SI","2",999.99,52.33,null,{"$f":"MIN([1]Competencias!K285:P285)","v":{"v":47.9,"d":"47.90"}},{"$f":"IFERROR(SMALL([1]Competencias!K285:P285,2),999.99)","v":56.76},57.48,52.33,"",999.99,999.99,null,{"$f":"MIN([1]Competencias!Q285:AA285)","v":999.99},{"$f":"IFERROR(SMALL([1]Competencias!Q285:AA285,2),999.99)","v":999.99},{"v":1199.988,"d":"1199.99"},999.99,"+",999.99,999.99,null,{"$f":"MIN([1]Competencias!AB285:AD285)","v":999.99},{"$f":"IFERROR(SMALL([1]Competencias!AB285:AD285,2),999.99)","v":999.99},{"v":1199.988,"d":"1199.99"},999.99,"+"]
["2013-03-12","A09434147","EREN","EKICI EKICI","M","ARS","AS","U14","SI","1",999.99,999.99,null,{"$f":"MIN([1]Competencias!K286:P286)","v":999.99},{"$f":"IFERROR(SMALL([1]Competencias!K286:P286,2),999.99)","v":999.99},{"v":1199.988,"d":"1199.99"},999.99,"+",999.99,999.99,null,{"$f":"MIN([1]Competencias!Q286:AA286)","v":999.99},{"$f":"IFERROR(SMALL([1]Competencias!Q286:AA286,2),999.99)","v":999.99},{"v":1199.988,"d":"1199.99"},999.99,"+",999.99,999.99,null,{"$f":"MIN([1]Competencias!AB286:AD286)","v":999.99},{"$f":"IFERROR(SMALL([1]Competencias!AB286:AD286,2),999.99)","v":999.99},{"v":1199.988,"d":"1199.99"},999.99,"+"]
["2012-09-14","A27377250","AURORA","KACZMAREK HILL","F","UC","AS","U14","SI","2",54.22,47.43,null,{"$f":"MIN([1]Competencias!K287:P287)","v":46.62},{"$f":"IFERROR(SMALL([1]Competencias!K287:P287,2),999.99)","v":48.24},{"v":55.943999999999996,"d":"55.94"},47.43,"",190.19,190.19,null,{"$f":"MIN([1]Competencias!Q287:AA287)","v":999.99},{"$f":"IFERROR(SMALL([1]Competencias!Q287:AA287,2),999.99)","v":999.99},{"v":1199.988,"d":"1199.99"},190.19,"",999.99,999.99,null,{"$f":"MIN([1]Competencias!AB287:AD287)","v":999.99},{"$f":"IFERROR(SMALL([1]Competencias!AB287:AD287,2),999.99)","v":999.99},{"v":1199.988,"d":"1199.99"},999.99,"+"]
["2010-09-21","A39357053","NICHOLAS ","DAME ","M","CORR","AS","U16","SI","2",999.99,{"v":154.488,"d":"154.49"},null,{"$f":"MIN([1]Competencias!K288:P288)","v":128.74},{"$f":"IFERROR(SMALL([1]Competencias!K288:P288,2),999.99)","v":999.99},{"v":154.488,"d":"154.49"},{"v":154.488,"d":"154.49"},"",999.99,{"v":163.812,"d":"163.81"},null,{"$f":"MIN([1]Competencias!Q288:AA288)","v":136.51},{"$f":"IFERROR(SMALL([1]Competencias!Q288:AA288,2),999.99)","v":999.99},{"v":163.81199999999998,"d":"163.81"},{"v":163.81199999999998,"d":"163.81"},"",999.99,999.99,null,{"$f":"MIN([1]Competencias!AB288:AD288)","v":999.99},{"$f":"IFERROR(SMALL([1]Competencias!AB288:AD288,2),999.99)","v":999.99},{"v":1199.988,"d":"1199.99"},999.99,"+"]
["2013-09-01","A39357054","KAYLEI ","DAME ","F","CORR","AS","U14","SI","1",999.99,{"v":238.656,"d":"238.66"},null,{"$f":"MIN([1]Competencias!K289:P289)","v":198.88},{"$f":"IFERROR(SMALL([1]Competencias!K289:P289,2),999.99)","v":999.99},{"v":238.65599999999998,"d":"238.66"},{"v":238.65599999999998,"d":"238.66"},"",999.99,369.42,null,{"$f":"MIN([1]Competencias!Q289:AA289)","v":307.85},{"$f":"IFERROR(SMALL([1]Competencias!Q289:AA289,2),999.99)","v":999.99},369.42,369.42,"",999.99,{"v":400.992,"d":"400.99"},null,{"$f":"MIN([1]Competencias!AB289:AD289)","v":334.16},{"$f":"IFERROR(SMALL([1]Competencias!AB289:AD289,2),999.99)","v":999.99},{"v":400.992,"d":"400.99"},{"v":400.992,"d":"400.99"},""]
["2013-09-18","A43190971","HAYDEN","HO ","F","CVN","AS","U14","SI","1",999.99,999.99,null,{"$f":"MIN([1]Competencias!K290:P290)","v":999.99},{"$f":"IFERROR(SMALL([1]Competencias!K290:P290,2),999.99)","v":999.99},{"v":1199.988,"d":"1199.99"},999.99,"+",999.99,999.99,null,{"$f":"MIN([1]Competencias!Q290:AA290)","v":999.99},{"$f":"IFERROR(SMALL([1]Competencias!Q290:AA290,2),999.99)","v":999.99},{"v":1199.988,"d":"1199.99"},999.99,"+",999.99,999.99,null,{"$f":"MIN([1]Competencias!AB290:AD290)","v":999.99},{"$f":"IFERROR(SMALL([1]Competencias!AB290:AD290,2),999.99)","v":999.99},{"v":1199.988,"d":"1199.99"},999.99,"+"]
["2013-09-14","A44229179","DAVID","BRAUNSTEIN BRAUNSTEIN","M","ARS","AS","U14","SI","1",999.99,{"v":459.6,"d":"459.60"},null,{"$f":"MIN([1]Competencias!K291:P291)","v":{"v":383,"d":"383.00"}},{"$f":"IFERROR(SMALL([1]Competencias!K291:P291,2),999.99)","v":999.99},{"v":459.59999999999997,"d":"459.60"},{"v":459.59999999999997,"d":"459.60"},"",999.99,999.99,null,{"$f":"MIN([1]Competencias!Q291:AA291)","v":999.99},{"$f":"IFERROR(SMALL([1]Competencias!Q291:AA291,2),999.99)","v":999.99},{"v":1199.988,"d":"1199.99"},999.99,"+",999.99,999.99,null,{"$f":"MIN([1]Competencias!AB291:AD291)","v":999.99},{"$f":"IFERROR(SMALL([1]Competencias!AB291:AD291,2),999.99)","v":999.99},{"v":1199.988,"d":"1199.99"},999.99,"+"]
["2010-10-10","A48936212","KOBI","BREGMAN BREGMAN","M","ARS","AS","U16","SI","2",999.99,999.99,null,{"$f":"MIN([1]Competencias!K292:P292)","v":999.99},{"$f":"IFERROR(SMALL([1]Competencias!K292:P292,2),999.99)","v":999.99},{"v":1199.988,"d":"1199.99"},999.99,"+",999.99,999.99,null,{"$f":"MIN([1]Competencias!Q292:AA292)","v":999.99},{"$f":"IFERROR(SMALL([1]Competencias!Q292:AA292,2),999.99)","v":999.99},{"v":1199.988,"d":"1199.99"},999.99,"+",999.99,999.99,null,{"$f":"MIN([1]Competencias!AB292:AD292)","v":999.99},{"$f":"IFERROR(SMALL([1]Competencias!AB292:AD292,2),999.99)","v":999.99},{"v":1199.988,"d":"1199.99"},999.99,"+"]
["2012-12-06","A60982609","JAXON","KELSAY ","M","UC","AS","U14","SI","2",999.99,{"v":89.08500000000001,"d":"89.09"},null,{"$f":"MIN([1]Competencias!K293:P293)","v":88.17},{"$f":"IFERROR(SMALL([1]Competencias!K293:P293,2),999.99)","v":{"v":90,"d":"90.00"}},{"v":105.804,"d":"105.80"},{"v":89.08500000000001,"d":"89.09"},"",999.99,999.99,null,{"$f":"MIN([1]Competencias!Q293:AA293)","v":999.99},{"$f":"IFERROR(SMALL([1]Competencias!Q293:AA293,2),999.99)","v":999.99},{"v":1199.988,"d":"1199.99"},999.99,"+",999.99,999.99,null,{"$f":"MIN([1]Competencias!AB293:AD293)","v":999.99},{"$f":"IFERROR(SMALL([1]Competencias!AB293:AD293,2),999.99)","v":999.99},{"v":1199.988,"d":"1199.99"},999.99,"+"]
["2013-06-11","A61548329","BLAKE","CULLMANN CULLMANN","M","ARS","AS","U14","SI","1",999.99,{"v":143.436,"d":"143.44"},null,{"$f":"MIN([1]Competencias!K294:P294)","v":119.53},{"$f":"IFERROR(SMALL([1]Competencias!K294:P294,2),999.99)","v":999.99},{"v":143.436,"d":"143.44"},{"v":143.436,"d":"143.44"},"",999.99,999.99,null,{"$f":"MIN([1]Competencias!Q294:AA294)","v":999.99},{"$f":"IFERROR(SMALL([1]Competencias!Q294:AA294,2),999.99)","v":999.99},{"v":1199.988,"d":"1199.99"},999.99,"+",999.99,999.99,null,{"$f":"MIN([1]Competencias!AB294:AD294)","v":999.99},{"$f":"IFERROR(SMALL([1]Competencias!AB294:AD294,2),999.99)","v":999.99},{"v":1199.988,"d":"1199.99"},999.99,"+"]
["2011-01-01","AL182239","YASMEEN ","KAUKAB ","F","CVN","AS","U16","SI","1",999.99,999.99,null,{"$f":"MIN([1]Competencias!K295:P295)","v":999.99},{"$f":"IFERROR(SMALL([1]Competencias!K295:P295,2),999.99)","v":999.99},{"v":1199.988,"d":"1199.99"},999.99,"+",999.99,999.99,null,{"$f":"MIN([1]Competencias!Q295:AA295)","v":999.99},{"$f":"IFERROR(SMALL([1]Competencias!Q295:AA295,2),999.99)","v":999.99},{"v":1199.988,"d":"1199.99"},999.99,"+",999.99,999.99,null,{"$f":"MIN([1]Competencias!AB295:AD295)","v":999.99},{"$f":"IFERROR(SMALL([1]Competencias!AB295:AD295,2),999.99)","v":999.99},{"v":1199.988,"d":"1199.99"},999.99,"+"]
["2012-10-23","AL182241","FARAH ","KAUKAB ","M","CVN","AS","U14","SI","2",999.99,999.99,null,{"$f":"MIN([1]Competencias!K296:P296)","v":999.99},{"$f":"IFERROR(SMALL([1]Competencias!K296:P296,2),999.99)","v":999.99},{"v":1199.988,"d":"1199.99"},999.99,"+",999.99,999.99,null,{"$f":"MIN([1]Competencias!Q296:AA296)","v":999.99},{"$f":"IFERROR(SMALL([1]Competencias!Q296:AA296,2),999.99)","v":999.99},{"v":1199.988,"d":"1199.99"},999.99,"+",999.99,999.99,null,{"$f":"MIN([1]Competencias!AB296:AD296)","v":999.99},{"$f":"IFERROR(SMALL([1]Competencias!AB296:AD296,2),999.99)","v":999.99},{"v":1199.988,"d":"1199.99"},999.99,"+"]
["2010-08-02","PAM179112","MARIO","DE LA CRUZ MARTIN","M","CVN","AS","U16","SI","2",999.99,999.99,null,{"$f":"MIN([1]Competencias!K297:P297)","v":999.99},{"$f":"IFERROR(SMALL([1]Competencias!K297:P297,2),999.99)","v":999.99},{"v":1199.988,"d":"1199.99"},999.99,"+",999.99,139.86,null,{"$f":"MIN([1]Competencias!Q297:AA297)","v":116.55},{"$f":"IFERROR(SMALL([1]Competencias!Q297:AA297,2),999.99)","v":999.99},{"v":139.85999999999999,"d":"139.86"},{"v":139.85999999999999,"d":"139.86"},"",999.99,155.24,null,{"$f":"MIN([1]Competencias!AB297:AD297)","v":152.73},{"$f":"IFERROR(SMALL([1]Competencias!AB297:AD297,2),999.99)","v":157.75},{"v":183.27599999999998,"d":"183.28"},155.24,""]
["2010-11-30","PAT792445","MARTINA","CASTRO VIAENE","F","CVN","AS","U16","SI","2",999.99,999.99,null,{"$f":"MIN([1]Competencias!K298:P298)","v":999.99},{"$f":"IFERROR(SMALL([1]Competencias!K298:P298,2),999.99)","v":999.99},{"v":1199.988,"d":"1199.99"},999.99,"+",999.99,999.99,null,{"$f":"MIN([1]Competencias!Q298:AA298)","v":999.99},{"$f":"IFERROR(SMALL([1]Competencias!Q298:AA298,2),999.99)","v":999.99},{"v":1199.988,"d":"1199.99"},999.99,"+",134.64,134.64,null,{"$f":"MIN([1]Competencias!AB298:AD298)","v":78.21},{"$f":"IFERROR(SMALL([1]Competencias!AB298:AD298,2),999.99)","v":999.99},{"v":93.85199999999999,"d":"93.85"},134.64,""]
["2011-02-26","PAU403815","MARTINA","TORRAS CASTELLS","F","ARS","AS","U16","SI","1",999.99,{"v":123.348,"d":"123.35"},null,{"$f":"MIN([1]Competencias!K299:P299)","v":102.79},{"$f":"IFERROR(SMALL([1]Competencias!K299:P299,2),999.99)","v":999.99},{"v":123.348,"d":"123.35"},{"v":123.348,"d":"123.35"},"",999.99,999.99,null,{"$f":"MIN([1]Competencias!Q299:AA299)","v":999.99},{"$f":"IFERROR(SMALL([1]Competencias!Q299:AA299,2),999.99)","v":999.99},{"v":1199.988,"d":"1199.99"},999.99,"+",999.99,999.99,null,{"$f":"MIN([1]Competencias!AB299:AD299)","v":999.99},{"$f":"IFERROR(SMALL([1]Competencias!AB299:AD299,2),999.99)","v":999.99},{"v":1199.988,"d":"1199.99"},999.99,"+"]
["2010-01-01","21768421W","JOAN","TARRAGA ESTEBAN","M","ARS","AS","U16","NO","2",116.31,116.31,null,{"$f":"MIN([1]Competencias!K300:P300)","v":999.99},{"$f":"IFERROR(SMALL([1]Competencias!K300:P300,2),999.99)","v":999.99},{"v":1199.988,"d":"1199.99"},116.31,"",999.99,999.99,null,{"$f":"MIN([1]Competencias!Q300:AA300)","v":999.99},{"$f":"IFERROR(SMALL([1]Competencias!Q300:AA300,2),999.99)","v":999.99},{"v":1199.988,"d":"1199.99"},999.99,"+",999.99,999.99,null,{"$f":"MIN([1]Competencias!AB300:AD300)","v":999.99},{"$f":"IFERROR(SMALL([1]Competencias!AB300:AD300,2),999.99)","v":999.99},{"v":1199.988,"d":"1199.99"},999.99,"+"]
["2011-08-20","22600443","ERIC","YUXIANG DANG","M","CVN","AS","U16","NO","1",999.99,999.99,null,{"$f":"MIN([1]Competencias!K301:P301)","v":999.99},{"$f":"IFERROR(SMALL([1]Competencias!K301:P301,2),999.99)","v":999.99},{"v":1199.988,"d":"1199.99"},999.99,"+",999.99,999.99,null,{"$f":"MIN([1]Competencias!Q301:AA301)","v":999.99},{"$f":"IFERROR(SMALL([1]Competencias!Q301:AA301,2),999.99)","v":999.99},{"v":1199.988,"d":"1199.99"},999.99,"+",999.99,999.99,null,{"$f":"MIN([1]Competencias!AB301:AD301)","v":999.99},{"$f":"IFERROR(SMALL([1]Competencias!AB301:AD301,2),999.99)","v":999.99},{"v":1199.988,"d":"1199.99"},999.99,"+"]
["2010-05-01","232169583","IGNACIO JAVIER","CORVALÁN PEDRAZA","M","CVN","AS","U16","NO","2",999.99,999.99,null,{"$f":"MIN([1]Competencias!K302:P302)","v":999.99},{"$f":"IFERROR(SMALL([1]Competencias!K302:P302,2),999.99)","v":999.99},{"v":1199.988,"d":"1199.99"},999.99,"+",999.99,999.99,null,{"$f":"MIN([1]Competencias!Q302:AA302)","v":999.99},{"$f":"IFERROR(SMALL([1]Competencias!Q302:AA302,2),999.99)","v":999.99},{"v":1199.988,"d":"1199.99"},999.99,"+",999.99,999.99,null,{"$f":"MIN([1]Competencias!AB302:AD302)","v":999.99},{"$f":"IFERROR(SMALL([1]Competencias!AB302:AD302,2),999.99)","v":999.99},{"v":1199.988,"d":"1199.99"},999.99,"+"]
["2010-03-24","232800186","MARTINA","MUÑOZ GOMEZ","F","CAR","AS","U16","NO","2",321.92,321.92,null,{"$f":"MIN([1]Competencias!K303:P303)","v":999.99},{"$f":"IFERROR(SMALL([1]Competencias!K303:P303,2),999.99)","v":999.99},{"v":1199.988,"d":"1199.99"},321.92,"",{"v":486.1,"d":"486.10"},{"v":486.1,"d":"486.10"},null,{"$f":"MIN([1]Competencias!Q303:AA303)","v":999.99},{"$f":"IFERROR(SMALL([1]Competencias!Q303:AA303,2),999.99)","v":999.99},{"v":1199.988,"d":"1199.99"},{"v":486.1,"d":"486.10"},"",{"v":574.1,"d":"574.10"},{"v":574.1,"d":"574.10"},null,{"$f":"MIN([1]Competencias!AB303:AD303)","v":999.99},{"$f":"IFERROR(SMALL([1]Competencias!AB303:AD303,2),999.99)","v":999.99},{"v":1199.988,"d":"1199.99"},{"v":574.1,"d":"574.10"},""]
["2010-03-27","232842075","DIEGO","SANCHEZ HOCHSCHILD","M","CLP","AS","U16","NO","2",240.03,240.03,null,{"$f":"MIN([1]Competencias!K304:P304)","v":999.99},{"$f":"IFERROR(SMALL([1]Competencias!K304:P304,2),999.99)","v":999.99},{"v":1199.988,"d":"1199.99"},240.03,"",376.82,376.82,null,{"$f":"MIN([1]Competencias!Q304:AA304)","v":999.99},{"$f":"IFERROR(SMALL([1]Competencias!Q304:AA304,2),999.99)","v":999.99},{"v":1199.988,"d":"1199.99"},376.82,"",999.99,999.99,null,{"$f":"MIN([1]Competencias!AB304:AD304)","v":999.99},{"$f":"IFERROR(SMALL([1]Competencias!AB304:AD304,2),999.99)","v":999.99},{"v":1199.988,"d":"1199.99"},999.99,"+"]
["2010-05-14","233287393","BRUNA","DE ROSSETTI FAINE","F","CLP","AS","U16","NO","2",299.83,299.83,null,{"$f":"MIN([1]Competencias!K305:P305)","v":999.99},{"$f":"IFERROR(SMALL([1]Competencias!K305:P305,2),999.99)","v":999.99},{"v":1199.988,"d":"1199.99"},299.83,"",369.59,369.59,null,{"$f":"MIN([1]Competencias!Q305:AA305)","v":999.99},{"$f":"IFERROR(SMALL([1]Competencias!Q305:AA305,2),999.99)","v":999.99},{"v":1199.988,"d":"1199.99"},369.59,"",293.38,293.38,null,{"$f":"MIN([1]Competencias!AB305:AD305)","v":999.99},{"$f":"IFERROR(SMALL([1]Competencias!AB305:AD305,2),999.99)","v":999.99},{"v":1199.988,"d":"1199.99"},293.38,""]
["2010-06-10","233466808","DIEGO","MORENO CORBO","M","CAN","AS","U16","NO","2",948.98,948.98,null,{"$f":"MIN([1]Competencias!K306:P306)","v":999.99},{"$f":"IFERROR(SMALL([1]Competencias!K306:P306,2),999.99)","v":999.99},{"v":1199.988,"d":"1199.99"},948.98,"",706.11,706.11,null,{"$f":"MIN([1]Competencias!Q306:AA306)","v":999.99},{"$f":"IFERROR(SMALL([1]Competencias!Q306:AA306,2),999.99)","v":999.99},{"v":1199.988,"d":"1199.99"},706.11,"",854.81,854.81,null,{"$f":"MIN([1]Competencias!AB306:AD306)","v":999.99},{"$f":"IFERROR(SMALL([1]Competencias!AB306:AD306,2),999.99)","v":999.99},{"v":1199.988,"d":"1199.99"},854.81,""]
["2010-06-22","233553921","ANTONIO","VALDES ALTUZARRA","M","CLP","AS","U16","NO","2",451.17,451.17,null,{"$f":"MIN([1]Competencias!K307:P307)","v":999.99},{"$f":"IFERROR(SMALL([1]Competencias!K307:P307,2),999.99)","v":999.99},{"v":1199.988,"d":"1199.99"},451.17,"",266.16,266.16,null,{"$f":"MIN([1]Competencias!Q307:AA307)","v":999.99},{"$f":"IFERROR(SMALL([1]Competencias!Q307:AA307,2),999.99)","v":999.99},{"v":1199.988,"d":"1199.99"},266.16,"",286.22,286.22,null,{"$f":"MIN([1]Competencias!AB307:AD307)","v":999.99},{"$f":"IFERROR(SMALL([1]Competencias!AB307:AD307,2),999.99)","v":999.99},{"v":1199.988,"d":"1199.99"},286.22,""]
["2010-07-02","233625663","TOMAS","ALFONSIN VALLI","M","CAN","AS","U16","NO","2",402.32,402.32,null,{"$f":"MIN([1]Competencias!K308:P308)","v":999.99},{"$f":"IFERROR(SMALL([1]Competencias!K308:P308,2),999.99)","v":999.99},{"v":1199.988,"d":"1199.99"},402.32,"",411.04,411.04,null,{"$f":"MIN([1]Competencias!Q308:AA308)","v":999.99},{"$f":"IFERROR(SMALL([1]Competencias!Q308:AA308,2),999.99)","v":999.99},{"v":1199.988,"d":"1199.99"},411.04,"",999.99,999.99,null,{"$f":"MIN([1]Competencias!AB308:AD308)","v":999.99},{"$f":"IFERROR(SMALL([1]Competencias!AB308:AD308,2),999.99)","v":999.99},{"v":1199.988,"d":"1199.99"},999.99,"+"]
["2010-09-28","234353284","GASPAR","VARGAS LUBBERT","M","CVN","AS","U16","NO","2",91.76,91.76,null,{"$f":"MIN([1]Competencias!K309:P309)","v":999.99},{"$f":"IFERROR(SMALL([1]Competencias!K309:P309,2),999.99)","v":999.99},{"v":1199.988,"d":"1199.99"},91.76,"",143.08,143.08,null,{"$f":"MIN([1]Competencias!Q309:AA309)","v":999.99},{"$f":"IFERROR(SMALL([1]Competencias!Q309:AA309,2),999.99)","v":999.99},{"v":1199.988,"d":"1199.99"},143.08,"",148.06,148.06,null,{"$f":"MIN([1]Competencias!AB309:AD309)","v":999.99},{"$f":"IFERROR(SMALL([1]Competencias!AB309:AD309,2),999.99)","v":999.99},{"v":1199.988,"d":"1199.99"},148.06,""]
["2010-09-13","234440845","GASTON ALFONSO","LOPEZ BORAGK","M","CVN","AS","U16","NO","2",999.99,999.99,null,{"$f":"MIN([1]Competencias!K310:P310)","v":999.99},{"$f":"IFERROR(SMALL([1]Competencias!K310:P310,2),999.99)","v":999.99},{"v":1199.988,"d":"1199.99"},999.99,"+",999.99,999.99,null,{"$f":"MIN([1]Competencias!Q310:AA310)","v":999.99},{"$f":"IFERROR(SMALL([1]Competencias!Q310:AA310,2),999.99)","v":999.99},{"v":1199.988,"d":"1199.99"},999.99,"+",999.99,999.99,null,{"$f":"MIN([1]Competencias!AB310:AD310)","v":999.99},{"$f":"IFERROR(SMALL([1]Competencias!AB310:AD310,2),999.99)","v":999.99},{"v":1199.988,"d":"1199.99"},999.99,"+"]
["2010-10-14","234801651","ATILIO","COSMELLI PIWONKA","M","UC","AS","U16","NO","2",187.77,187.77,null,{"$f":"MIN([1]Competencias!K311:P311)","v":999.99},{"$f":"IFERROR(SMALL([1]Competencias!K311:P311,2),999.99)","v":999.99},{"v":1199.988,"d":"1199.99"},187.77,"",167.14,167.14,null,{"$f":"MIN([1]Competencias!Q311:AA311)","v":999.99},{"$f":"IFERROR(SMALL([1]Competencias!Q311:AA311,2),999.99)","v":999.99},{"v":1199.988,"d":"1199.99"},167.14,"",198.99,198.99,null,{"$f":"MIN([1]Competencias!AB311:AD311)","v":999.99},{"$f":"IFERROR(SMALL([1]Competencias!AB311:AD311,2),999.99)","v":999.99},{"v":1199.988,"d":"1199.99"},198.99,""]
["2010-11-24","234872818","JORGE","MISLEJ LOPEZ","M","CVN","AS","U16","NO","2",999.99,999.99,null,{"$f":"MIN([1]Competencias!K312:P312)","v":999.99},{"$f":"IFERROR(SMALL([1]Competencias!K312:P312,2),999.99)","v":999.99},{"v":1199.988,"d":"1199.99"},999.99,"+",999.99,999.99,null,{"$f":"MIN([1]Competencias!Q312:AA312)","v":999.99},{"$f":"IFERROR(SMALL([1]Competencias!Q312:AA312,2),999.99)","v":999.99},{"v":1199.988,"d":"1199.99"},999.99,"+",999.99,999.99,null,{"$f":"MIN([1]Competencias!AB312:AD312)","v":999.99},{"$f":"IFERROR(SMALL([1]Competencias!AB312:AD312,2),999.99)","v":999.99},{"v":1199.988,"d":"1199.99"},999.99,"+"]
["2010-12-07","234957791","MARTINA","SILVA DURAN","F","CORR","AS","U16","NO","2",{"v":191.3,"d":"191.30"},{"v":191.3,"d":"191.30"},null,{"$f":"MIN([1]Competencias!K313:P313)","v":999.99},{"$f":"IFERROR(SMALL([1]Competencias!K313:P313,2),999.99)","v":999.99},{"v":1199.988,"d":"1199.99"},{"v":191.3,"d":"191.30"},"",242.29,242.29,null,{"$f":"MIN([1]Competencias!Q313:AA313)","v":999.99},{"$f":"IFERROR(SMALL([1]Competencias!Q313:AA313,2),999.99)","v":999.99},{"v":1199.988,"d":"1199.99"},242.29,"",288.26,288.26,null,{"$f":"MIN([1]Competencias!AB313:AD313)","v":999.99},{"$f":"IFERROR(SMALL([1]Competencias!AB313:AD313,2),999.99)","v":999.99},{"v":1199.988,"d":"1199.99"},288.26,""]
["2011-01-12","235309572","EMMA","HOLZAPFEL KAUFMANN","F","CAO","AS","U16","NO","1",425.71,425.71,null,{"$f":"MIN([1]Competencias!K314:P314)","v":999.99},{"$f":"IFERROR(SMALL([1]Competencias!K314:P314,2),999.99)","v":999.99},{"v":1199.988,"d":"1199.99"},425.71,"",359.33,359.33,null,{"$f":"MIN([1]Competencias!Q314:AA314)","v":999.99},{"$f":"IFERROR(SMALL([1]Competencias!Q314:AA314,2),999.99)","v":999.99},{"v":1199.988,"d":"1199.99"},359.33,"",463.85,463.85,null,{"$f":"MIN([1]Competencias!AB314:AD314)","v":999.99},{"$f":"IFERROR(SMALL([1]Competencias!AB314:AD314,2),999.99)","v":999.99},{"v":1199.988,"d":"1199.99"},463.85,""]
["2011-01-20","23538163K","MATILDE","QUIROGA AZOCAR","F","CEC","AS","U16","NO","1",999.99,999.99,null,{"$f":"MIN([1]Competencias!K315:P315)","v":999.99},{"$f":"IFERROR(SMALL([1]Competencias!K315:P315,2),999.99)","v":999.99},{"v":1199.988,"d":"1199.99"},999.99,"+",999.99,999.99,null,{"$f":"MIN([1]Competencias!Q315:AA315)","v":999.99},{"$f":"IFERROR(SMALL([1]Competencias!Q315:AA315,2),999.99)","v":999.99},{"v":1199.988,"d":"1199.99"},999.99,"+",999.99,999.99,null,{"$f":"MIN([1]Competencias!AB315:AD315)","v":999.99},{"$f":"IFERROR(SMALL([1]Competencias!AB315:AD315,2),999.99)","v":999.99},{"v":1199.988,"d":"1199.99"},999.99,"+"]
["2011-01-20","23538423K","MATEO SIMÓN","HENRÍQUEZ LUBASCHER","M","CORR","AS","U16","NO","1",137.56,137.56,null,{"$f":"MIN([1]Competencias!K316:P316)","v":999.99},{"$f":"IFERROR(SMALL([1]Competencias!K316:P316,2),999.99)","v":999.99},{"v":1199.988,"d":"1199.99"},137.56,"",182.56,182.56,null,{"$f":"MIN([1]Competencias!Q316:AA316)","v":999.99},{"$f":"IFERROR(SMALL([1]Competencias!Q316:AA316,2),999.99)","v":999.99},{"v":1199.988,"d":"1199.99"},182.56,"",201.88,201.88,null,{"$f":"MIN([1]Competencias!AB316:AD316)","v":999.99},{"$f":"IFERROR(SMALL([1]Competencias!AB316:AD316,2),999.99)","v":999.99},{"v":1199.988,"d":"1199.99"},201.88,""]
["2011-02-04","235511371","MANUEL IGNACIO","CELIS CAMPANO","M","CEC","AS","U16","NO","1",999.99,999.99,null,{"$f":"MIN([1]Competencias!K317:P317)","v":999.99},{"$f":"IFERROR(SMALL([1]Competencias!K317:P317,2),999.99)","v":999.99},{"v":1199.988,"d":"1199.99"},999.99,"+",999.99,999.99,null,{"$f":"MIN([1]Competencias!Q317:AA317)","v":999.99},{"$f":"IFERROR(SMALL([1]Competencias!Q317:AA317,2),999.99)","v":999.99},{"v":1199.988,"d":"1199.99"},999.99,"+",999.99,999.99,null,{"$f":"MIN([1]Competencias!AB317:AD317)","v":999.99},{"$f":"IFERROR(SMALL([1]Competencias!AB317:AD317,2),999.99)","v":999.99},{"v":1199.988,"d":"1199.99"},999.99,"+"]
["2011-02-13","235575655","ALAN","FISCHMAN BUTELMANN","M","CAN","AS","U16","NO","1",999.99,999.99,null,{"$f":"MIN([1]Competencias!K318:P318)","v":999.99},{"$f":"IFERROR(SMALL([1]Competencias!K318:P318,2),999.99)","v":999.99},{"v":1199.988,"d":"1199.99"},999.99,"+",583.61,583.61,null,{"$f":"MIN([1]Competencias!Q318:AA318)","v":999.99},{"$f":"IFERROR(SMALL([1]Competencias!Q318:AA318,2),999.99)","v":999.99},{"v":1199.988,"d":"1199.99"},583.61,"",999.99,999.99,null,{"$f":"MIN([1]Competencias!AB318:AD318)","v":999.99},{"$f":"IFERROR(SMALL([1]Competencias!AB318:AD318,2),999.99)","v":999.99},{"v":1199.988,"d":"1199.99"},999.99,"+"]
["2011-02-15","235761785","ELOISA","PRIETO CRUZ","F","CLP","AS","U16","NO","1",{"v":348,"d":"348.00"},{"v":348,"d":"348.00"},null,{"$f":"MIN([1]Competencias!K319:P319)","v":999.99},{"$f":"IFERROR(SMALL([1]Competencias!K319:P319,2),999.99)","v":999.99},{"v":1199.988,"d":"1199.99"},{"v":348,"d":"348.00"},"",231.71,231.71,null,{"$f":"MIN([1]Competencias!Q319:AA319)","v":999.99},{"$f":"IFERROR(SMALL([1]Competencias!Q319:AA319,2),999.99)","v":999.99},{"v":1199.988,"d":"1199.99"},231.71,"",233.93,233.93,null,{"$f":"MIN([1]Competencias!AB319:AD319)","v":999.99},{"$f":"IFERROR(SMALL([1]Competencias!AB319:AD319,2),999.99)","v":999.99},{"v":1199.988,"d":"1199.99"},233.93,""]
["2011-05-18","236490017","GRACIELA","BARRIENTOS  TRUJILLO","F","PAT","AS","U16","NO","1",145.56,145.56,null,{"$f":"MIN([1]Competencias!K320:P320)","v":158.02},{"$f":"IFERROR(SMALL([1]Competencias!K320:P320,2),999.99)","v":163.42},{"v":189.624,"d":"189.62"},145.56,"",335.24,335.24,null,{"$f":"MIN([1]Competencias!Q320:AA320)","v":181.96},{"$f":"IFERROR(SMALL([1]Competencias!Q320:AA320,2),999.99)","v":999.99},{"v":218.352,"d":"218.35"},335.24,"",353.42,353.42,null,{"$f":"MIN([1]Competencias!AB320:AD320)","v":999.99},{"$f":"IFERROR(SMALL([1]Competencias!AB320:AD320,2),999.99)","v":999.99},{"v":1199.988,"d":"1199.99"},353.42,""]
["2011-05-31","236569489","PEDRO","ARTEAGA BRUNA","M","CLP","AS","U16","NO","1",317.96,317.96,null,{"$f":"MIN([1]Competencias!K321:P321)","v":999.99},{"$f":"IFERROR(SMALL([1]Competencias!K321:P321,2),999.99)","v":999.99},{"v":1199.988,"d":"1199.99"},317.96,"",203.45,203.45,null,{"$f":"MIN([1]Competencias!Q321:AA321)","v":999.99},{"$f":"IFERROR(SMALL([1]Competencias!Q321:AA321,2),999.99)","v":999.99},{"v":1199.988,"d":"1199.99"},203.45,"",363.52,363.52,null,{"$f":"MIN([1]Competencias!AB321:AD321)","v":999.99},{"$f":"IFERROR(SMALL([1]Competencias!AB321:AD321,2),999.99)","v":999.99},{"v":1199.988,"d":"1199.99"},363.52,""]
["2011-06-10","236650731","CRISTOBAL","HILLERNS ESPINOZA","M","CEC","AS","U16","NO","1",{"v":149.5,"d":"149.50"},{"v":149.5,"d":"149.50"},null,{"$f":"MIN([1]Competencias!K322:P322)","v":999.99},{"$f":"IFERROR(SMALL([1]Competencias!K322:P322,2),999.99)","v":999.99},{"v":1199.988,"d":"1199.99"},{"v":149.5,"d":"149.50"},"",255.36,255.36,null,{"$f":"MIN([1]Competencias!Q322:AA322)","v":999.99},{"$f":"IFERROR(SMALL([1]Competencias!Q322:AA322,2),999.99)","v":999.99},{"v":1199.988,"d":"1199.99"},255.36,"",321.97,321.97,null,{"$f":"MIN([1]Competencias!AB322:AD322)","v":999.99},{"$f":"IFERROR(SMALL([1]Competencias!AB322:AD322,2),999.99)","v":999.99},{"v":1199.988,"d":"1199.99"},321.97,""]
["2011-07-12","236898172","LEONOR","FREIRE BAEZA","F","POR","AS","U16","NO","1",{"v":485,"d":"485.00"},{"v":485,"d":"485.00"},null,{"$f":"MIN([1]Competencias!K323:P323)","v":999.99},{"$f":"IFERROR(SMALL([1]Competencias!K323:P323,2),999.99)","v":999.99},{"$f":"N323*1.2","v":{"v":1199.988,"d":"1199.99"}},{"$f":"IF(N323=999.99,K323,IF(O323=999.99,IF(K323<999.99,K323,P323),IF((N323+O323)/2>K323,K323,(N323+O323)/2)))","v":{"v":485,"d":"485.00"}},{"$f":"IF(Q323=\"999,99\",\"\",IF(Q323=A323,\">\",IF(Q323=O323,\"+\",\"\")))","v":""},676.49,676.49,null,{"$f":"MIN([1]Competencias!Q323:AA323)","v":999.99},{"$f":"IFERROR(SMALL([1]Competencias!Q323:AA323,2),999.99)","v":999.99},{"$f":"V323*1.2","v":{"v":1199.988,"d":"1199.99"}},{"$f":"IF(V323=999.99,S323,IF(W323=999.99,IF(S323<999.99,S323,X323),IF((V323+W323)/2>S323,S323,(V323+W323)/2)))","v":676.49},{"$f":"IF(Y323=\"999,99\",\"\",IF(Y323=G323,\">\",IF(Y323=W323,\"+\",\"\")))","v":""},805.79,805.79,null,{"$f":"MIN([1]Competencias!AB323:AD323)","v":999.99},{"$f":"IFERROR(SMALL([1]Competencias!AB323:AD323,2),999.99)","v":999.99},{"$f":"AD323*1.2","v":{"v":1199.988,"d":"1199.99"}},{"$f":"IF(AD323=999.99,AA323,IF(AE323=999.99,IF(AA323<999.99,AA323,AF323),IF((AD323+AE323)/2>AA323,AA323,(AD323+AE323)/2)))","v":805.79},{"$f":"IF(AG323=\"999,99\",\"\",IF(AG323=R323,\">\",IF(AG323=AE323,\"+\",\"\")))","v":""}]
["2011-09-14","237487524","TOMAS","MARTIN UTHOFF","M","UC","AS","U16","NO","1",424.68,424.68,null,{"$f":"MIN([1]Competencias!K324:P324)","v":999.99},{"$f":"IFERROR(SMALL([1]Competencias!K324:P324,2),999.99)","v":999.99},{"v":1199.988,"d":"1199.99"},424.68,"",234.43,234.43,null,{"$f":"MIN([1]Competencias!Q324:AA324)","v":999.99},{"$f":"IFERROR(SMALL([1]Competencias!Q324:AA324,2),999.99)","v":999.99},{"v":1199.988,"d":"1199.99"},234.43,"",323.35,323.35,null,{"$f":"MIN([1]Competencias!AB324:AD324)","v":999.99},{"$f":"IFERROR(SMALL([1]Competencias!AB324:AD324,2),999.99)","v":999.99},{"v":1199.988,"d":"1199.99"},323.35,""]
["2011-10-04","23761786K","AUGUSTO","PRAT KOENEKAMP","M","CAO","AS","U16","NO","1",999.99,999.99,null,{"$f":"MIN([1]Competencias!K325:P325)","v":999.99},{"$f":"IFERROR(SMALL([1]Competencias!K325:P325,2),999.99)","v":999.99},{"v":1199.988,"d":"1199.99"},999.99,"+",999.99,999.99,null,{"$f":"MIN([1]Competencias!Q325:AA325)","v":999.99},{"$f":"IFERROR(SMALL([1]Competencias!Q325:AA325,2),999.99)","v":999.99},{"v":1199.988,"d":"1199.99"},999.99,"+",999.99,999.99,null,{"$f":"MIN([1]Competencias!AB325:AD325)","v":999.99},{"$f":"IFERROR(SMALL([1]Competencias!AB325:AD325,2),999.99)","v":999.99},{"v":1199.988,"d":"1199.99"},999.99,"+"]
["2011-11-07","237907442","SARA","NUNEZ SALINAS","F","CAU","AS","U16","NO","1",999.99,999.99,null,{"$f":"MIN([1]Competencias!K326:P326)","v":999.99},{"$f":"IFERROR(SMALL([1]Competencias!K326:P326,2),999.99)","v":999.99},{"v":1199.988,"d":"1199.99"},999.99,"+",999.99,999.99,null,{"$f":"MIN([1]Competencias!Q326:AA326)","v":999.99},{"$f":"IFERROR(SMALL([1]Competencias!Q326:AA326,2),999.99)","v":999.99},{"v":1199.988,"d":"1199.99"},999.99,"+",999.99,999.99,null,{"$f":"MIN([1]Competencias!AB326:AD326)","v":999.99},{"$f":"IFERROR(SMALL([1]Competencias!AB326:AD326,2),999.99)","v":999.99},{"v":1199.988,"d":"1199.99"},999.99,"+"]
["2011-11-18","23811960K","LUCAS RODRIGO","QUIROGA MARTÍNEZ","M","CEC","AS","U16","NO","1",999.99,999.99,null,{"$f":"MIN([1]Competencias!K327:P327)","v":999.99},{"$f":"IFERROR(SMALL([1]Competencias!K327:P327,2),999.99)","v":999.99},{"v":1199.988,"d":"1199.99"},999.99,"+",999.99,999.99,null,{"$f":"MIN([1]Competencias!Q327:AA327)","v":999.99},{"$f":"IFERROR(SMALL([1]Competencias!Q327:AA327,2),999.99)","v":999.99},{"v":1199.988,"d":"1199.99"},999.99,"+",999.99,999.99,null,{"$f":"MIN([1]Competencias!AB327:AD327)","v":999.99},{"$f":"IFERROR(SMALL([1]Competencias!AB327:AD327,2),999.99)","v":999.99},{"v":1199.988,"d":"1199.99"},999.99,"+"]
["2011-12-17","238295025","MANUEL JOSE","BARROS EMHART","M","UC","AS","U16","NO","1",145.78,145.78,null,{"$f":"MIN([1]Competencias!K328:P328)","v":999.99},{"$f":"IFERROR(SMALL([1]Competencias!K328:P328,2),999.99)","v":999.99},{"v":1199.988,"d":"1199.99"},145.78,"",{"v":127.8,"d":"127.80"},{"v":127.8,"d":"127.80"},null,{"$f":"MIN([1]Competencias!Q328:AA328)","v":999.99},{"$f":"IFERROR(SMALL([1]Competencias!Q328:AA328,2),999.99)","v":999.99},{"v":1199.988,"d":"1199.99"},{"v":127.8,"d":"127.80"},"",205.28,205.28,null,{"$f":"MIN([1]Competencias!AB328:AD328)","v":999.99},{"$f":"IFERROR(SMALL([1]Competencias!AB328:AD328,2),999.99)","v":999.99},{"v":1199.988,"d":"1199.99"},205.28,""]
["2012-02-13","238697301","ARIEL","PINO MUÑOZ","M","POR","AS","U14","NO","2",999.99,999.99,null,{"$f":"MIN([1]Competencias!K329:P329)","v":999.99},{"$f":"IFERROR(SMALL([1]Competencias!K329:P329,2),999.99)","v":999.99},{"v":1199.988,"d":"1199.99"},999.99,"+",999.99,999.99,null,{"$f":"MIN([1]Competencias!Q329:AA329)","v":999.99},{"$f":"IFERROR(SMALL([1]Competencias!Q329:AA329,2),999.99)","v":999.99},{"v":1199.988,"d":"1199.99"},999.99,"+",430.96,430.96,null,{"$f":"MIN([1]Competencias!AB329:AD329)","v":999.99},{"$f":"IFERROR(SMALL([1]Competencias!AB329:AD329,2),999.99)","v":999.99},{"v":1199.988,"d":"1199.99"},430.96,""]
["2012-02-14","238738695","ANA","MULLER CORREA","F","CLP","AS","U14","NO","2",999.99,999.99,null,{"$f":"MIN([1]Competencias!K330:P330)","v":999.99},{"$f":"IFERROR(SMALL([1]Competencias!K330:P330,2),999.99)","v":999.99},{"v":1199.988,"d":"1199.99"},999.99,"+",999.99,999.99,null,{"$f":"MIN([1]Competencias!Q330:AA330)","v":999.99},{"$f":"IFERROR(SMALL([1]Competencias!Q330:AA330,2),999.99)","v":999.99},{"v":1199.988,"d":"1199.99"},999.99,"+",999.99,999.99,null,{"$f":"MIN([1]Competencias!AB330:AD330)","v":999.99},{"$f":"IFERROR(SMALL([1]Competencias!AB330:AD330,2),999.99)","v":999.99},{"v":1199.988,"d":"1199.99"},999.99,"+"]
["2012-02-16","238760054","ELENA","LOPEZ BORAGK","F","CVN","AS","U14","NO","2",999.99,999.99,null,{"$f":"MIN([1]Competencias!K331:P331)","v":999.99},{"$f":"IFERROR(SMALL([1]Competencias!K331:P331,2),999.99)","v":999.99},{"v":1199.988,"d":"1199.99"},999.99,"+",{"v":409.6,"d":"409.60"},{"v":409.6,"d":"409.60"},null,{"$f":"MIN([1]Competencias!Q331:AA331)","v":999.99},{"$f":"IFERROR(SMALL([1]Competencias!Q331:AA331,2),999.99)","v":999.99},{"v":1199.988,"d":"1199.99"},{"v":409.6,"d":"409.60"},"",999.99,999.99,null,{"$f":"MIN([1]Competencias!AB331:AD331)","v":999.99},{"$f":"IFERROR(SMALL([1]Competencias!AB331:AD331,2),999.99)","v":999.99},{"v":1199.988,"d":"1199.99"},999.99,"+"]
["2012-02-25","23881846K","AITOR","IRIARTE MALFANTI","M","ARS","AS","U14","NO","2",999.99,999.99,null,{"$f":"MIN([1]Competencias!K332:P332)","v":999.99},{"$f":"IFERROR(SMALL([1]Competencias!K332:P332,2),999.99)","v":999.99},{"v":1199.988,"d":"1199.99"},999.99,"+",213.23,213.23,null,{"$f":"MIN([1]Competencias!Q332:AA332)","v":999.99},{"$f":"IFERROR(SMALL([1]Competencias!Q332:AA332,2),999.99)","v":999.99},{"v":1199.988,"d":"1199.99"},213.23,"",999.99,999.99,null,{"$f":"MIN([1]Competencias!AB332:AD332)","v":999.99},{"$f":"IFERROR(SMALL([1]Competencias!AB332:AD332,2),999.99)","v":999.99},{"v":1199.988,"d":"1199.99"},999.99,"+"]
["2012-03-21","239032788","NICOLÁS VICTOR","HENRÍQUEZ MAILLARD","M","CEC","AS","U14","NO","2",999.99,999.99,null,{"$f":"MIN([1]Competencias!K333:P333)","v":999.99},{"$f":"IFERROR(SMALL([1]Competencias!K333:P333,2),999.99)","v":999.99},{"v":1199.988,"d":"1199.99"},999.99,"+",999.99,999.99,null,{"$f":"MIN([1]Competencias!Q333:AA333)","v":999.99},{"$f":"IFERROR(SMALL([1]Competencias!Q333:AA333,2),999.99)","v":999.99},{"v":1199.988,"d":"1199.99"},999.99,"+",999.99,999.99,null,{"$f":"MIN([1]Competencias!AB333:AD333)","v":999.99},{"$f":"IFERROR(SMALL([1]Competencias!AB333:AD333,2),999.99)","v":999.99},{"v":1199.988,"d":"1199.99"},999.99,"+"]
["2012-03-26","239079997","PEDRO","ALFONSIN VALLI","M","CAN","AS","U14","NO","2",999.99,999.99,null,{"$f":"MIN([1]Competencias!K334:P334)","v":999.99},{"$f":"IFERROR(SMALL([1]Competencias!K334:P334,2),999.99)","v":999.99},{"v":1199.988,"d":"1199.99"},999.99,"+",999.99,999.99,null,{"$f":"MIN([1]Competencias!Q334:AA334)","v":999.99},{"$f":"IFERROR(SMALL([1]Competencias!Q334:AA334,2),999.99)","v":999.99},{"v":1199.988,"d":"1199.99"},999.99,"+",999.99,999.99,null,{"$f":"MIN([1]Competencias!AB334:AD334)","v":999.99},{"$f":"IFERROR(SMALL([1]Competencias!AB334:AD334,2),999.99)","v":999.99},{"v":1199.988,"d":"1199.99"},999.99,"+"]
["2012-03-27","23910357K","DOMINGO","MORALES FINSTERBUSCH","M","POR","AS","U14","NO","2",999.99,999.99,null,{"$f":"MIN([1]Competencias!K335:P335)","v":999.99},{"$f":"IFERROR(SMALL([1]Competencias!K335:P335,2),999.99)","v":999.99},{"v":1199.988,"d":"1199.99"},999.99,"+",999.99,999.99,null,{"$f":"MIN([1]Competencias!Q335:AA335)","v":999.99},{"$f":"IFERROR(SMALL([1]Competencias!Q335:AA335,2),999.99)","v":999.99},{"v":1199.988,"d":"1199.99"},999.99,"+",999.99,999.99,null,{"$f":"MIN([1]Competencias!AB335:AD335)","v":999.99},{"$f":"IFERROR(SMALL([1]Competencias!AB335:AD335,2),999.99)","v":999.99},{"v":1199.988,"d":"1199.99"},999.99,"+"]
["2012-05-17","239502563","ZOE","URQUIETA AGUIRRE","F","POR","AS","U14","NO","2",999.99,999.99,null,{"$f":"MIN([1]Competencias!K336:P336)","v":999.99},{"$f":"IFERROR(SMALL([1]Competencias!K336:P336,2),999.99)","v":999.99},{"v":1199.988,"d":"1199.99"},999.99,"+",999.99,{"v":504.345,"d":"504.35"},null,{"$f":"MIN([1]Competencias!Q336:AA336)","v":485.35},{"$f":"IFERROR(SMALL([1]Competencias!Q336:AA336,2),999.99)","v":523.34},582.42,{"v":504.345,"d":"504.35"},"",999.99,999.99,null,{"$f":"MIN([1]Competencias!AB336:AD336)","v":999.99},{"$f":"IFERROR(SMALL([1]Competencias!AB336:AD336,2),999.99)","v":999.99},{"v":1199.988,"d":"1199.99"},999.99,"+"]
["2012-05-17","23952110K","EVAN","RAMMSY CHAURA","M","CAPA","AS","U14","NO","2",999.99,999.99,null,{"$f":"MIN([1]Competencias!K337:P337)","v":999.99},{"$f":"IFERROR(SMALL([1]Competencias!K337:P337,2),999.99)","v":999.99},{"v":1199.988,"d":"1199.99"},999.99,"+",999.99,999.99,null,{"$f":"MIN([1]Competencias!Q337:AA337)","v":999.99},{"$f":"IFERROR(SMALL([1]Competencias!Q337:AA337,2),999.99)","v":999.99},{"v":1199.988,"d":"1199.99"},999.99,"+",999.99,999.99,null,{"$f":"MIN([1]Competencias!AB337:AD337)","v":999.99},{"$f":"IFERROR(SMALL([1]Competencias!AB337:AD337,2),999.99)","v":999.99},{"v":1199.988,"d":"1199.99"},999.99,"+"]
["2012-03-12","239659888","VIVIANA","BARRIGA ROFFEY","F","ARS","AS","U14","NO","2",999.99,999.99,null,{"$f":"MIN([1]Competencias!K338:P338)","v":999.99},{"$f":"IFERROR(SMALL([1]Competencias!K338:P338,2),999.99)","v":999.99},{"v":1199.988,"d":"1199.99"},999.99,"+",999.99,999.99,null,{"$f":"MIN([1]Competencias!Q338:AA338)","v":999.99},{"$f":"IFERROR(SMALL([1]Competencias!Q338:AA338,2),999.99)","v":999.99},{"v":1199.988,"d":"1199.99"},999.99,"+",999.99,999.99,null,{"$f":"MIN([1]Competencias!AB338:AD338)","v":999.99},{"$f":"IFERROR(SMALL([1]Competencias!AB338:AD338,2),999.99)","v":999.99},{"v":1199.988,"d":"1199.99"},999.99,"+"]
["2012-05-25","239692842","ALONSO","CORDERO VON LEYSER","M","CEC","AS","U14","NO","2",999.99,999.99,null,{"$f":"MIN([1]Competencias!K339:P339)","v":999.99},{"$f":"IFERROR(SMALL([1]Competencias!K339:P339,2),999.99)","v":999.99},{"v":1199.988,"d":"1199.99"},999.99,"+",999.99,999.99,null,{"$f":"MIN([1]Competencias!Q339:AA339)","v":999.99},{"$f":"IFERROR(SMALL([1]Competencias!Q339:AA339,2),999.99)","v":999.99},{"v":1199.988,"d":"1199.99"},999.99,"+",999.99,999.99,null,{"$f":"MIN([1]Competencias!AB339:AD339)","v":999.99},{"$f":"IFERROR(SMALL([1]Competencias!AB339:AD339,2),999.99)","v":999.99},{"v":1199.988,"d":"1199.99"},999.99,"+"]
["2012-06-01","239729045","OLIVIA","GODOY VALECH","F","CAN","AS","U14","NO","2",999.99,999.99,null,{"$f":"MIN([1]Competencias!K340:P340)","v":999.99},{"$f":"IFERROR(SMALL([1]Competencias!K340:P340,2),999.99)","v":999.99},{"v":1199.988,"d":"1199.99"},999.99,"+",999.99,999.99,null,{"$f":"MIN([1]Competencias!Q340:AA340)","v":999.99},{"$f":"IFERROR(SMALL([1]Competencias!Q340:AA340,2),999.99)","v":999.99},{"v":1199.988,"d":"1199.99"},999.99,"+",999.99,999.99,null,{"$f":"MIN([1]Competencias!AB340:AD340)","v":999.99},{"$f":"IFERROR(SMALL([1]Competencias!AB340:AD340,2),999.99)","v":999.99},{"v":1199.988,"d":"1199.99"},999.99,"+"]
["2012-06-27","239931197","VICENTE","URRUTICOECHEA ROBINSON","M","CLP","AS","U14","NO","2",999.99,999.99,null,{"$f":"MIN([1]Competencias!K341:P341)","v":999.99},{"$f":"IFERROR(SMALL([1]Competencias!K341:P341,2),999.99)","v":999.99},{"v":1199.988,"d":"1199.99"},999.99,"+",999.99,999.99,null,{"$f":"MIN([1]Competencias!Q341:AA341)","v":999.99},{"$f":"IFERROR(SMALL([1]Competencias!Q341:AA341,2),999.99)","v":999.99},{"v":1199.988,"d":"1199.99"},999.99,"+",999.99,999.99,null,{"$f":"MIN([1]Competencias!AB341:AD341)","v":999.99},{"$f":"IFERROR(SMALL([1]Competencias!AB341:AD341,2),999.99)","v":999.99},{"v":1199.988,"d":"1199.99"},999.99,"+"]
["2012-08-03","240296535","MICHELE MARTINO","LIOI ARRIAGADA","M","CEC","AS","U14","NO","2",999.99,999.99,null,{"$f":"MIN([1]Competencias!K342:P342)","v":999.99},{"$f":"IFERROR(SMALL([1]Competencias!K342:P342,2),999.99)","v":999.99},{"v":1199.988,"d":"1199.99"},999.99,"+",999.99,999.99,null,{"$f":"MIN([1]Competencias!Q342:AA342)","v":999.99},{"$f":"IFERROR(SMALL([1]Competencias!Q342:AA342,2),999.99)","v":999.99},{"v":1199.988,"d":"1199.99"},999.99,"+",999.99,999.99,null,{"$f":"MIN([1]Competencias!AB342:AD342)","v":999.99},{"$f":"IFERROR(SMALL([1]Competencias!AB342:AD342,2),999.99)","v":999.99},{"v":1199.988,"d":"1199.99"},999.99,"+"]
["2012-08-28","240482290","FIORELLA","STAGNO SANDOVAL","F","CEC","AS","U14","NO","2",999.99,999.99,null,{"$f":"MIN([1]Competencias!K343:P343)","v":999.99},{"$f":"IFERROR(SMALL([1]Competencias!K343:P343,2),999.99)","v":999.99},{"v":1199.988,"d":"1199.99"},999.99,"+",999.99,999.99,null,{"$f":"MIN([1]Competencias!Q343:AA343)","v":999.99},{"$f":"IFERROR(SMALL([1]Competencias!Q343:AA343,2),999.99)","v":999.99},{"v":1199.988,"d":"1199.99"},999.99,"+",999.99,999.99,null,{"$f":"MIN([1]Competencias!AB343:AD343)","v":999.99},{"$f":"IFERROR(SMALL([1]Competencias!AB343:AD343,2),999.99)","v":999.99},{"v":1199.988,"d":"1199.99"},999.99,"+"]
["2012-08-28","240492105","DOMINGO","LEON DE LA CERDA","M","UC","AS","U14","NO","2",100.73,100.73,null,{"$f":"MIN([1]Competencias!K344:P344)","v":999.99},{"$f":"IFERROR(SMALL([1]Competencias!K344:P344,2),999.99)","v":999.99},{"v":1199.988,"d":"1199.99"},100.73,"",114.74,114.74,null,{"$f":"MIN([1]Competencias!Q344:AA344)","v":999.99},{"$f":"IFERROR(SMALL([1]Competencias!Q344:AA344,2),999.99)","v":999.99},{"v":1199.988,"d":"1199.99"},114.74,"",{"v":243.5,"d":"243.50"},{"v":243.5,"d":"243.50"},null,{"$f":"MIN([1]Competencias!AB344:AD344)","v":999.99},{"$f":"IFERROR(SMALL([1]Competencias!AB344:AD344,2),999.99)","v":999.99},{"v":1199.988,"d":"1199.99"},{"v":243.5,"d":"243.50"},""]
["2012-09-27","240752840","JOSEFA","URZUA JUSTINIANO","F","CLP","AS","U14","NO","2",999.99,999.99,null,{"$f":"MIN([1]Competencias!K345:P345)","v":999.99},{"$f":"IFERROR(SMALL([1]Competencias!K345:P345,2),999.99)","v":999.99},{"v":1199.988,"d":"1199.99"},999.99,"+",999.99,999.99,null,{"$f":"MIN([1]Competencias!Q345:AA345)","v":999.99},{"$f":"IFERROR(SMALL([1]Competencias!Q345:AA345,2),999.99)","v":999.99},{"v":1199.988,"d":"1199.99"},999.99,"+",999.99,999.99,null,{"$f":"MIN([1]Competencias!AB345:AD345)","v":999.99},{"$f":"IFERROR(SMALL([1]Competencias!AB345:AD345,2),999.99)","v":999.99},{"v":1199.988,"d":"1199.99"},999.99,"+"]
["2012-03-10","240809907","AUGUSTO","PAVEZ DURAN","M","CEC","AS","U14","NO","2",999.99,999.99,null,{"$f":"MIN([1]Competencias!K346:P346)","v":999.99},{"$f":"IFERROR(SMALL([1]Competencias!K346:P346,2),999.99)","v":999.99},{"v":1199.988,"d":"1199.99"},999.99,"+",999.99,999.99,null,{"$f":"MIN([1]Competencias!Q346:AA346)","v":999.99},{"$f":"IFERROR(SMALL([1]Competencias!Q346:AA346,2),999.99)","v":999.99},{"v":1199.988,"d":"1199.99"},999.99,"+",999.99,999.99,null,{"$f":"MIN([1]Competencias!AB346:AD346)","v":999.99},{"$f":"IFERROR(SMALL([1]Competencias!AB346:AD346,2),999.99)","v":999.99},{"v":1199.988,"d":"1199.99"},999.99,"+"]
["2012-09-28","240840995","JERÓNIMO","MINAKER PIATEK","M","CAN","AS","U14","NO","2",999.99,999.99,null,{"$f":"MIN([1]Competencias!K347:P347)","v":999.99},{"$f":"IFERROR(SMALL([1]Competencias!K347:P347,2),999.99)","v":999.99},{"v":1199.988,"d":"1199.99"},999.99,"+",999.99,999.99,null,{"$f":"MIN([1]Competencias!Q347:AA347)","v":999.99},{"$f":"IFERROR(SMALL([1]Competencias!Q347:AA347,2),999.99)","v":999.99},{"v":1199.988,"d":"1199.99"},999.99,"+",999.99,999.99,null,{"$f":"MIN([1]Competencias!AB347:AD347)","v":999.99},{"$f":"IFERROR(SMALL([1]Competencias!AB347:AD347,2),999.99)","v":999.99},{"v":1199.988,"d":"1199.99"},999.99,"+"]
["2012-10-17","240917092","AMPARO ELISA","FREIRE BAEZA","F","POR","AS","U14","NO","2",999.99,999.99,null,{"$f":"MIN([1]Competencias!K348:P348)","v":999.99},{"$f":"IFERROR(SMALL([1]Competencias!K348:P348,2),999.99)","v":999.99},{"v":1199.988,"d":"1199.99"},999.99,"+",999.99,999.99,null,{"$f":"MIN([1]Competencias!Q348:AA348)","v":999.99},{"$f":"IFERROR(SMALL([1]Competencias!Q348:AA348,2),999.99)","v":999.99},{"v":1199.988,"d":"1199.99"},999.99,"+",999.99,999.99,null,{"$f":"MIN([1]Competencias!AB348:AD348)","v":999.99},{"$f":"IFERROR(SMALL([1]Competencias!AB348:AD348,2),999.99)","v":999.99},{"v":1199.988,"d":"1199.99"},999.99,"+"]
["2012-11-13","241138550","MARTINA","FLORES ANTOINE","F","CAPA","AS","U14","NO","2",999.99,999.99,null,{"$f":"MIN([1]Competencias!K349:P349)","v":999.99},{"$f":"IFERROR(SMALL([1]Competencias!K349:P349,2),999.99)","v":999.99},{"v":1199.988,"d":"1199.99"},999.99,"+",999.99,999.99,null,{"$f":"MIN([1]Competencias!Q349:AA349)","v":999.99},{"$f":"IFERROR(SMALL([1]Competencias!Q349:AA349,2),999.99)","v":999.99},{"v":1199.988,"d":"1199.99"},999.99,"+",413.87,413.87,null,{"$f":"MIN([1]Competencias!AB349:AD349)","v":999.99},{"$f":"IFERROR(SMALL([1]Competencias!AB349:AD349,2),999.99)","v":999.99},{"v":1199.988,"d":"1199.99"},413.87,""]
["2012-11-13","241138798","ANTONIA","FLORES ANTOINE","F","CAPA","AS","U14","NO","2",999.99,999.99,null,{"$f":"MIN([1]Competencias!K350:P350)","v":999.99},{"$f":"IFERROR(SMALL([1]Competencias!K350:P350,2),999.99)","v":999.99},{"v":1199.988,"d":"1199.99"},999.99,"+",999.99,999.99,null,{"$f":"MIN([1]Competencias!Q350:AA350)","v":999.99},{"$f":"IFERROR(SMALL([1]Competencias!Q350:AA350,2),999.99)","v":999.99},{"v":1199.988,"d":"1199.99"},999.99,"+",{"v":465.8,"d":"465.80"},{"v":465.8,"d":"465.80"},null,{"$f":"MIN([1]Competencias!AB350:AD350)","v":999.99},{"$f":"IFERROR(SMALL([1]Competencias!AB350:AD350,2),999.99)","v":999.99},{"v":1199.988,"d":"1199.99"},{"v":465.8,"d":"465.80"},""]
["2012-11-12","241161080","LOLA","AHLMANN ESTRADA","F","CEC","AS","U14","NO","2",999.99,999.99,null,{"$f":"MIN([1]Competencias!K351:P351)","v":999.99},{"$f":"IFERROR(SMALL([1]Competencias!K351:P351,2),999.99)","v":999.99},{"v":1199.988,"d":"1199.99"},999.99,"+",999.99,999.99,null,{"$f":"MIN([1]Competencias!Q351:AA351)","v":999.99},{"$f":"IFERROR(SMALL([1]Competencias!Q351:AA351,2),999.99)","v":999.99},{"v":1199.988,"d":"1199.99"},999.99,"+",999.99,999.99,null,{"$f":"MIN([1]Competencias!AB351:AD351)","v":999.99},{"$f":"IFERROR(SMALL([1]Competencias!AB351:AD351,2),999.99)","v":999.99},{"v":1199.988,"d":"1199.99"},999.99,"+"]
["2012-10-31","241167232","KAI","WENZEL ALVAREZ","M","UC","AS","U14","NO","2",401.02,401.02,null,{"$f":"MIN([1]Competencias!K352:P352)","v":999.99},{"$f":"IFERROR(SMALL([1]Competencias!K352:P352,2),999.99)","v":999.99},{"v":1199.988,"d":"1199.99"},401.02,"",345.09,345.09,null,{"$f":"MIN([1]Competencias!Q352:AA352)","v":999.99},{"$f":"IFERROR(SMALL([1]Competencias!Q352:AA352,2),999.99)","v":999.99},{"v":1199.988,"d":"1199.99"},345.09,"",393.98,393.98,null,{"$f":"MIN([1]Competencias!AB352:AD352)","v":999.99},{"$f":"IFERROR(SMALL([1]Competencias!AB352:AD352,2),999.99)","v":999.99},{"v":1199.988,"d":"1199.99"},393.98,""]
["2012-10-31","241167771","BLANCA","WENZEL ALVAREZ","F","UC","AS","U14","NO","2",999.99,999.99,null,{"$f":"MIN([1]Competencias!K353:P353)","v":999.99},{"$f":"IFERROR(SMALL([1]Competencias!K353:P353,2),999.99)","v":999.99},{"v":1199.988,"d":"1199.99"},999.99,"+",406.52,406.52,null,{"$f":"MIN([1]Competencias!Q353:AA353)","v":999.99},{"$f":"IFERROR(SMALL([1]Competencias!Q353:AA353,2),999.99)","v":999.99},{"v":1199.988,"d":"1199.99"},406.52,"",277.65,277.65,null,{"$f":"MIN([1]Competencias!AB353:AD353)","v":999.99},{"$f":"IFERROR(SMALL([1]Competencias!AB353:AD353,2),999.99)","v":999.99},{"v":1199.988,"d":"1199.99"},277.65,""]
["2012-12-27","241513610","OLIVIA","ROJAS GONZÁLEZ","F","ARS","AS","U14","NO","2",999.99,999.99,null,{"$f":"MIN([1]Competencias!K354:P354)","v":999.99},{"$f":"IFERROR(SMALL([1]Competencias!K354:P354,2),999.99)","v":999.99},{"v":1199.988,"d":"1199.99"},999.99,"+",999.99,999.99,null,{"$f":"MIN([1]Competencias!Q354:AA354)","v":999.99},{"$f":"IFERROR(SMALL([1]Competencias!Q354:AA354,2),999.99)","v":999.99},{"v":1199.988,"d":"1199.99"},999.99,"+",999.99,999.99,null,{"$f":"MIN([1]Competencias!AB354:AD354)","v":999.99},{"$f":"IFERROR(SMALL([1]Competencias!AB354:AD354,2),999.99)","v":999.99},{"v":1199.988,"d":"1199.99"},999.99,"+"]
["2011-07-26","250498462","AGUSTIN","RAPELA DEL CAMPO","M","CAN","AS","U16","NO","1",999.99,999.99,null,{"$f":"MIN([1]Competencias!K355:P355)","v":999.99},{"$f":"IFERROR(SMALL([1]Competencias!K355:P355,2),999.99)","v":999.99},{"v":1199.988,"d":"1199.99"},999.99,"+",999.99,999.99,null,{"$f":"MIN([1]Competencias!Q355:AA355)","v":999.99},{"$f":"IFERROR(SMALL([1]Competencias!Q355:AA355,2),999.99)","v":999.99},{"v":1199.988,"d":"1199.99"},999.99,"+",999.99,999.99,null,{"$f":"MIN([1]Competencias!AB355:AD355)","v":999.99},{"$f":"IFERROR(SMALL([1]Competencias!AB355:AD355,2),999.99)","v":999.99},{"v":1199.988,"d":"1199.99"},999.99,"+"]
["2011-11-23","253105607","OLIVIA","LOMBARDO SANTANA","F","CVN","AS","U16","NO","1",999.99,999.99,null,{"$f":"MIN([1]Competencias!K356:P356)","v":999.99},{"$f":"IFERROR(SMALL([1]Competencias!K356:P356,2),999.99)","v":999.99},{"v":1199.988,"d":"1199.99"},999.99,"+",999.99,999.99,null,{"$f":"MIN([1]Competencias!Q356:AA356)","v":999.99},{"$f":"IFERROR(SMALL([1]Competencias!Q356:AA356,2),999.99)","v":999.99},{"v":1199.988,"d":"1199.99"},999.99,"+",999.99,999.99,null,{"$f":"MIN([1]Competencias!AB356:AD356)","v":999.99},{"$f":"IFERROR(SMALL([1]Competencias!AB356:AD356,2),999.99)","v":999.99},{"v":1199.988,"d":"1199.99"},999.99,"+"]
["2010-08-01","26948061L","MARIA","MONGE RAMOS","F","ARS","AS","U16","NO","2",999.99,999.99,null,{"$f":"MIN([1]Competencias!K357:P357)","v":999.99},{"$f":"IFERROR(SMALL([1]Competencias!K357:P357,2),999.99)","v":999.99},{"v":1199.988,"d":"1199.99"},999.99,"+",999.99,999.99,null,{"$f":"MIN([1]Competencias!Q357:AA357)","v":999.99},{"$f":"IFERROR(SMALL([1]Competencias!Q357:AA357,2),999.99)","v":999.99},{"v":1199.988,"d":"1199.99"},999.99,"+",999.99,999.99,null,{"$f":"MIN([1]Competencias!AB357:AD357)","v":999.99},{"$f":"IFERROR(SMALL([1]Competencias!AB357:AD357,2),999.99)","v":999.99},{"v":1199.988,"d":"1199.99"},999.99,"+"]
["2010-01-01","40565646V","MARTINA","SEGOVIA VALVERDE","F","ARS","AS","U16","NO","2",999.99,999.99,null,{"$f":"MIN([1]Competencias!K358:P358)","v":999.99},{"$f":"IFERROR(SMALL([1]Competencias!K358:P358,2),999.99)","v":999.99},{"v":1199.988,"d":"1199.99"},999.99,"+",999.99,999.99,null,{"$f":"MIN([1]Competencias!Q358:AA358)","v":999.99},{"$f":"IFERROR(SMALL([1]Competencias!Q358:AA358,2),999.99)","v":999.99},{"v":1199.988,"d":"1199.99"},999.99,"+",999.99,999.99,null,{"$f":"MIN([1]Competencias!AB358:AD358)","v":999.99},{"$f":"IFERROR(SMALL([1]Competencias!AB358:AD358,2),999.99)","v":999.99},{"v":1199.988,"d":"1199.99"},999.99,"+"]
["2011-01-01","42302803F","NIL","CARMANIU BASCOMPTA","M","ARS","AS","U16","NO","1",155.66,155.66,null,{"$f":"MIN([1]Competencias!K359:P359)","v":999.99},{"$f":"IFERROR(SMALL([1]Competencias!K359:P359,2),999.99)","v":999.99},{"v":1199.988,"d":"1199.99"},155.66,"",999.99,999.99,null,{"$f":"MIN([1]Competencias!Q359:AA359)","v":999.99},{"$f":"IFERROR(SMALL([1]Competencias!Q359:AA359,2),999.99)","v":999.99},{"v":1199.988,"d":"1199.99"},999.99,"+",999.99,999.99,null,{"$f":"MIN([1]Competencias!AB359:AD359)","v":999.99},{"$f":"IFERROR(SMALL([1]Competencias!AB359:AD359,2),999.99)","v":999.99},{"v":1199.988,"d":"1199.99"},999.99,"+"]
["2010-05-25","490345574","ANIKA","BOLTMAN ","F","CVN","AS","U16","NO","2",166.46,166.46,null,{"$f":"MIN([1]Competencias!K360:P360)","v":999.99},{"$f":"IFERROR(SMALL([1]Competencias!K360:P360,2),999.99)","v":999.99},{"v":1199.988,"d":"1199.99"},166.46,"",246.08,246.08,null,{"$f":"MIN([1]Competencias!Q360:AA360)","v":999.99},{"$f":"IFERROR(SMALL([1]Competencias!Q360:AA360,2),999.99)","v":999.99},{"v":1199.988,"d":"1199.99"},246.08,"",222.14,222.14,null,{"$f":"MIN([1]Competencias!AB360:AD360)","v":999.99},{"$f":"IFERROR(SMALL([1]Competencias!AB360:AD360,2),999.99)","v":999.99},{"v":1199.988,"d":"1199.99"},222.14,""]
["2012-11-27","490345582","MIKA","BOLTMAN ","M","CVN","AS","U14","NO","2",247.44,247.44,null,{"$f":"MIN([1]Competencias!K361:P361)","v":999.99},{"$f":"IFERROR(SMALL([1]Competencias!K361:P361,2),999.99)","v":999.99},{"v":1199.988,"d":"1199.99"},247.44,"",234.75,234.75,null,{"$f":"MIN([1]Competencias!Q361:AA361)","v":999.99},{"$f":"IFERROR(SMALL([1]Competencias!Q361:AA361,2),999.99)","v":999.99},{"v":1199.988,"d":"1199.99"},234.75,"",307.02,307.02,null,{"$f":"MIN([1]Competencias!AB361:AD361)","v":999.99},{"$f":"IFERROR(SMALL([1]Competencias!AB361:AD361,2),999.99)","v":999.99},{"v":1199.988,"d":"1199.99"},307.02,""]
["2011-10-04","669968948","COLTER","BENGSTON ","M","CLP","AS","U16","NO","1",999.99,999.99,null,{"$f":"MIN([1]Competencias!K362:P362)","v":999.99},{"$f":"IFERROR(SMALL([1]Competencias!K362:P362,2),999.99)","v":999.99},{"v":1199.988,"d":"1199.99"},999.99,"+",{"v":105.8,"d":"105.80"},{"v":105.8,"d":"105.80"},null,{"$f":"MIN([1]Competencias!Q362:AA362)","v":999.99},{"$f":"IFERROR(SMALL([1]Competencias!Q362:AA362,2),999.99)","v":999.99},{"v":1199.988,"d":"1199.99"},{"v":105.8,"d":"105.80"},"",999.99,999.99,null,{"$f":"MIN([1]Competencias!AB362:AD362)","v":999.99},{"$f":"IFERROR(SMALL([1]Competencias!AB362:AD362,2),999.99)","v":999.99},{"v":1199.988,"d":"1199.99"},999.99,"+"]
["2012-08-09","A01088004","VALENTINA","BRYANT BRYANT","F","ARS","AS","U14","NO","2",{"v":233.9,"d":"233.90"},{"v":233.9,"d":"233.90"},null,{"$f":"MIN([1]Competencias!K363:P363)","v":999.99},{"$f":"IFERROR(SMALL([1]Competencias!K363:P363,2),999.99)","v":999.99},{"v":1199.988,"d":"1199.99"},{"v":233.9,"d":"233.90"},"",999.99,999.99,null,{"$f":"MIN([1]Competencias!Q363:AA363)","v":999.99},{"$f":"IFERROR(SMALL([1]Competencias!Q363:AA363,2),999.99)","v":999.99},{"v":1199.988,"d":"1199.99"},999.99,"+",999.99,999.99,null,{"$f":"MIN([1]Competencias!AB363:AD363)","v":999.99},{"$f":"IFERROR(SMALL([1]Competencias!AB363:AD363,2),999.99)","v":999.99},{"v":1199.988,"d":"1199.99"},999.99,"+"]
["2010-11-05","A01088007","DANIELLA","BRYANT BRYANT","F","ARS","AS","U16","NO","2",999.99,999.99,null,{"$f":"MIN([1]Competencias!K364:P364)","v":999.99},{"$f":"IFERROR(SMALL([1]Competencias!K364:P364,2),999.99)","v":999.99},{"v":1199.988,"d":"1199.99"},999.99,"+",999.99,999.99,null,{"$f":"MIN([1]Competencias!Q364:AA364)","v":999.99},{"$f":"IFERROR(SMALL([1]Competencias!Q364:AA364,2),999.99)","v":999.99},{"v":1199.988,"d":"1199.99"},999.99,"+",999.99,999.99,null,{"$f":"MIN([1]Competencias!AB364:AD364)","v":999.99},{"$f":"IFERROR(SMALL([1]Competencias!AB364:AD364,2),999.99)","v":999.99},{"v":1199.988,"d":"1199.99"},999.99,"+"]
["2011-03-22","A11080501","JACKSON","STEPHENSON  ","M","CLP","AS","U16","NO","1",{"v":101.3,"d":"101.30"},{"v":101.3,"d":"101.30"},null,{"$f":"MIN([1]Competencias!K365:P365)","v":999.99},{"$f":"IFERROR(SMALL([1]Competencias!K365:P365,2),999.99)","v":999.99},{"v":1199.988,"d":"1199.99"},{"v":101.3,"d":"101.30"},"",169.49,169.49,null,{"$f":"MIN([1]Competencias!Q365:AA365)","v":999.99},{"$f":"IFERROR(SMALL([1]Competencias!Q365:AA365,2),999.99)","v":999.99},{"v":1199.988,"d":"1199.99"},169.49,"",999.99,999.99,null,{"$f":"MIN([1]Competencias!AB365:AD365)","v":999.99},{"$f":"IFERROR(SMALL([1]Competencias!AB365:AD365,2),999.99)","v":999.99},{"v":1199.988,"d":"1199.99"},999.99,"+"]
["2011-08-03","C25772333","YAEL SHIRA","LANZKOWSKY ","F","CVN","AS","U16","NO","1",999.99,999.99,null,{"$f":"MIN([1]Competencias!K366:P366)","v":999.99},{"$f":"IFERROR(SMALL([1]Competencias!K366:P366,2),999.99)","v":999.99},{"v":1199.988,"d":"1199.99"},999.99,"+",219.75,219.75,null,{"$f":"MIN([1]Competencias!Q366:AA366)","v":999.99},{"$f":"IFERROR(SMALL([1]Competencias!Q366:AA366,2),999.99)","v":999.99},{"v":1199.988,"d":"1199.99"},219.75,"",999.99,999.99,null,{"$f":"MIN([1]Competencias!AB366:AD366)","v":999.99},{"$f":"IFERROR(SMALL([1]Competencias!AB366:AD366,2),999.99)","v":999.99},{"v":1199.988,"d":"1199.99"},999.99,"+"]
["2010-06-22","YE215526","MANUELA","FARAH CUNHA","F","CEC","AS","U16","NO","2",285.02,285.02,null,{"$f":"MIN([1]Competencias!K367:P367)","v":999.99},{"$f":"IFERROR(SMALL([1]Competencias!K367:P367,2),999.99)","v":999.99},{"v":1199.988,"d":"1199.99"},285.02,"",999.99,999.99,null,{"$f":"MIN([1]Competencias!Q367:AA367)","v":999.99},{"$f":"IFERROR(SMALL([1]Competencias!Q367:AA367,2),999.99)","v":999.99},{"v":1199.988,"d":"1199.99"},999.99,"+",999.99,999.99,null,{"$f":"MIN([1]Competencias!AB367:AD367)","v":999.99},{"$f":"IFERROR(SMALL([1]Competencias!AB367:AD367,2),999.99)","v":999.99},{"v":1199.988,"d":"1199.99"},999.99,"+"]

{"sheet":"Lista CNI","index":2,"n_rows":367,"n_cols":17,"rows_kept":367,"merged":[[0,0,0,9],[0,10,0,11],[0,12,0,13],[0,14,0,15]]}
["Datos de Deportista",{"$nulls":9},"Resultados SL",null,"Resultados GS",null,"Resultado SG"]
["Fecha","Rut","Nombre","Apellido","Sexo","Club","Disc.","Cat.","Activo","Año","BASE SL (aplica adder)","Lista 3","BASE GS (aplica adder)","Lista 3","BASE SG (aplica adder)","Lista 3"]
["2010-02-19","131926880","ENZO","CASAGRANDE BERTOLDI","M","CVN","AS","U16","SI","2",999.99,999.99,999.99,999.99,999.99,{"v":345.528,"d":"345.53"}]
["2013-06-21","16707724","RUFINO","CRESPO RODRÍGUEZ","M","CLP","AS","U14","SI","1",999.99,281.66,999.99,999.99,999.99,999.99]
["2012-01-07","22EA72258","JUAN","LE BAULT DE LA MORINIERE","M","CLP","AS","U14","SI","2",999.99,999.99,999.99,999.99,999.99,999.99]
["2010-01-03","23215800K","ANTONIA","ESTEVE SECO","F","CAR","AS","U16","SI","2",93.44,93.44,137.35,137.35,216.81,216.81]
["2010-01-19","23227283K","JOSEFINA","PEREZ OLMOS","F","LV","AS","U16","SI","2",230.47,230.47,212.52,{"v":209.125,"d":"209.13"},208.65,208.65]
["2010-01-17","232274360","SILKE","OPITZ SEIDL","F","CAO","AS","U16","SI","2",156.18,132.49,154.47,154.47,111.16,111.16]
["2010-01-20","232291966","ALEGRA","REYES  SBARAGLINI","F","CEC","AS","U16","SI","2",999.99,999.99,999.99,999.99,999.99,999.99]
["2010-01-26","232325704","AMALIA","BARRIENTOS MARTINEZ","F","CAO","AS","U16","SI","2",{"v":137.2,"d":"137.20"},{"v":137.2,"d":"137.20"},{"v":168.6,"d":"168.60"},{"v":168.6,"d":"168.60"},107.11,107.11]
["2010-01-23","232336994","FERNANDA JOSEFA","VASQUEZ VERGARA ","F","CAN","AS","U16","SI","2",197.04,{"v":161.705,"d":"161.71"},211.92,211.92,190.18,190.18]
["2010-01-23","232341041","FLORENCIA","PINCHEIRA BRAVO","F","CAR","AS","U16","SI","2",{"v":395.6,"d":"395.60"},{"v":204.985,"d":"204.99"},427.93,209.32,310.93,310.93]
["2010-01-25","23234394K","MARIA","MULLER CORREA","F","CLP","AS","U16","SI","2",185.27,185.27,182.87,182.87,249.13,{"v":227.055,"d":"227.06"}]
["2010-01-30","232362693","MARTIN","CRESPO IBAÑEZ","M","CLP","AS","U16","SI","2",{"v":93.9,"d":"93.90"},{"v":93.9,"d":"93.90"},84.41,84.41,99.08,99.08]
["2010-01-28","232389168","JADE","REBOLLEDO HERNANDEZ","F","CAPA","AS","U16","SI","2",999.99,{"v":251.508,"d":"251.51"},342.64,342.64,421.62,421.62]
["2010-02-15","232504285","CRISTIÁN","CUMSILLE SCHULBACH","M","CVN","AS","U16","SI","2",310.34,310.34,200.72,200.72,200.12,200.12]
["2010-03-10","232699809","FLORENCIA","ROJAS FARIAS","F","UC","AS","U16","SI","2",151.61,151.61,179.92,179.92,228.79,228.79]
["2010-03-15","232700335","CLARA","BASAURI  GARDILCIC","F","CORR","AS","U16","SI","2",215.95,215.95,230.36,230.36,219.83,219.83]
["2010-03-15","232706651","OLIVIA","RODRIGUEZ CASTRO","F","CVN","AS","U16","SI","2",{"v":206.5,"d":"206.50"},{"v":206.5,"d":"206.50"},284.87,284.87,488.72,488.72]
["2010-03-22","232776323","ANTONIO","KUBICK LESSER","M","CLP","AS","U16","SI","2",170.92,170.92,191.35,191.35,189.31,189.31]
["2010-04-05","232893249","FACUNDO","GALILEA FUENTEALBA","M","CAEC","AS","U16","SI","2",242.69,242.69,202.79,202.79,216.42,216.42]
["2010-04-08","232926155","PATRICIO","BANNURA DECEBAL-CUZA","M","UC","AS","U16","SI","2",{"v":50,"d":"50.00"},{"v":50,"d":"50.00"},122.02,122.02,141.41,141.41]
["2010-04-19","233009822","CARMENCITA","PINILLA MORENO","F","CLP","AS","U16","SI","2",{"v":50,"d":"50.00"},{"v":50,"d":"50.00"},78.97,78.97,{"v":85,"d":"85.00"},{"v":85,"d":"85.00"}]
["2010-04-22","233032808","LEONOR","MUÑOZ QUINTANA","F","CORR","AS","U16","SI","2",87.35,87.35,132.97,132.97,129.26,129.26]
["2010-04-19","233059706","ISABEL","CLARO IRARRAZAVAL","F","UC","AS","U16","SI","2",74.57,74.57,85.46,85.46,135.02,135.02]
["2010-04-27","233074896","SANTIAGO","CAPO CORNEJO","M","UC","AS","U16","SI","2",198.26,198.26,216.79,216.79,155.84,155.84]
["2010-04-01","233243736","NINA","DUPUY ALLEN","F","CVN","AS","U16","SI","2",{"v":171.5,"d":"171.50"},{"v":171.5,"d":"171.50"},112.82,112.82,226.51,226.51]
["2010-07-02","233245771","CLARA","TELLO MOLINARE","F","CAO","AS","U16","SI","2",180.57,180.57,246.41,246.41,240.31,240.31]
["2010-05-28","23338349K","JEAN CLAUDIO","CARDENAS MANSILLA","M","PAT","AS","U16","SI","2",198.07,198.07,222.69,222.69,366.15,366.15]
["2010-06-05","233456179","EMILIA","GROB ANGERMEYER","F","CAN","AS","U16","SI","2",{"v":122.8,"d":"122.80"},{"v":122.8,"d":"122.80"},155.12,116.91,109.14,109.14]
["2010-05-30","233464090","KARL","PAULMANN  PARSONS","M","CAN","AS","U16","SI","2",999.99,{"v":453.564,"d":"453.56"},999.99,{"v":524.6519999999999,"d":"524.65"},999.99,999.99]
["2010-11-06","233465003","ELOISA","COSTA BERNALES","F","CVN","AS","U16","SI","2",215.91,185.36,121.55,121.55,{"v":146.5,"d":"146.50"},{"v":146.5,"d":"146.50"}]
["2010-11-06","233465100","MATEO","COSTA BERNALES","M","CVN","AS","U16","SI","2",{"v":186.3,"d":"186.30"},{"v":186.3,"d":"186.30"},201.39,201.39,180.98,180.98]
["2010-11-06","233465259","LOURDES","COSTA BERNALES","F","CVN","AS","U16","SI","2",242.85,242.85,194.71,194.71,198.69,198.69]
["2010-06-09","233466352","AMY","CASTILLO ALVAREZ","F","UC","AS","U16","SI","2",250.83,250.83,{"v":174.5,"d":"174.50"},{"v":174.5,"d":"174.50"},188.41,188.41]
["2010-11-06","233480916","JUAN","GARDILCIC SANTA CRUZ","M","CVN","AS","U16","SI","2",211.51,211.51,136.88,136.88,151.31,151.31]
["2010-06-14","233491136","DANIEL IGNACIO ","GONZÁLEZ  LOPEZ ","M","CEC","AS","U16","SI","2",73.22,73.22,108.81,108.81,135.71,135.71]
["2010-06-22","233557250","TOMAS","OPAZO DIAZ","M","CLP","AS","U16","SI","2",219.82,219.82,208.29,208.29,239.08,239.08]
["2010-06-21","233561312","MATEO","CURKOVIC FRANCO","M","UC","AS","U16","SI","2",63.71,63.71,{"v":70,"d":"70.00"},{"v":70,"d":"70.00"},{"v":85,"d":"85.00"},{"v":85,"d":"85.00"}]
["2010-07-06","233659525","JOAQUIN","BARRIENTOS ENGLER","M","CAO","AS","U16","SI","2",170.93,170.93,197.63,197.63,194.86,194.86]
["2010-05-07","233662801","SOPHIE","HAMEAU GAETE","F","CLP","AS","U16","SI","2",279.72,279.72,255.74,255.74,352.22,352.22]
["2010-06-11","233711799","VICENTE","JUNEMANN ARANCIBIA","M","CAN","AS","U16","SI","2",730.74,730.74,999.99,999.99,999.99,999.99]
["2010-08-25","234064819","MARINA","LÓPEZ CHAMORRO","F","CEC","AS","U16","SI","2",215.02,215.02,394.56,{"v":246.735,"d":"246.74"},238.52,238.52]
["2010-09-08","234183079","COLOMBA","VASQUEZ HOTT","F","CAO","AS","U16","SI","2",172.26,172.26,253.38,253.38,{"v":237.7,"d":"237.70"},{"v":237.7,"d":"237.70"}]
["2010-08-24","234187511","RICARDO","VICUÑA CURTZE","M","CLP","AS","U16","SI","2",232.37,232.37,202.07,183.42,248.51,248.51]
["2010-08-24","234187651","FRANCISCO","VICUÑA CURTZE","M","CLP","AS","U16","SI","2",98.92,98.92,{"v":152.6,"d":"152.60"},{"v":152.6,"d":"152.60"},238.16,210.92]
["2010-09-06","234197185","UVY","ACERBONI AHUMADA","F","UC","AS","U16","SI","2",89.52,{"v":70.85499999999999,"d":"70.86"},{"v":70,"d":"70.00"},{"v":70,"d":"70.00"},163.45,163.45]
["2010-09-16","234271490","MATILDE SOFIA","GARDA  TIMMERMANN","F","CEC","AS","U16","SI","2",144.74,144.74,{"v":226.4,"d":"226.40"},{"v":164.135,"d":"164.14"},134.39,134.39]
["2010-09-22","23429511K","MAXIMILIANO","DIAZ FIGUEROA","M","CAR","AS","U16","SI","2",132.11,132.11,206.12,206.12,175.07,175.07]
["2010-09-16","234304798","EMILIA","ALVAREZ CHACON","F","CLP","AS","U16","SI","2",304.11,254.71,287.38,287.38,{"v":389.4,"d":"389.40"},{"v":389.4,"d":"389.40"}]
["2010-09-22","234304860","PATRICK","RABY IBAÑEZ","M","CLP","AS","U16","SI","2",128.79,128.79,116.93,116.93,116.76,116.76]
["2010-10-05","234452452","MARTINA NATALIA","HERRERA  NORAMBUENA","F","CORR","AS","U16","SI","2",999.99,480.72,999.99,{"v":530.448,"d":"530.45"},999.99,{"v":540.216,"d":"540.22"}]
["2011-10-18","234571850","MATÍAS","ANTIHUALA ARAYA","M","CLP","AS","U16","SI","1",390.08,390.08,448.54,448.54,330.47,330.47]
["2010-10-29","234657704","EMILIO","CADIZ MARIN","M","UC","AS","U16","SI","2",207.06,207.06,167.24,167.24,207.47,192.04]
["2010-10-28","234670417","LUNA","ANGUITA AVILES","F","CAO","AS","U16","SI","2",252.38,252.38,238.78,238.78,246.89,246.89]
["2010-11-05","234718827","MATEO","GROB CONCHA","M","CAO","AS","U16","SI","2",107.95,106.05,157.23,{"v":134.865,"d":"134.87"},125.81,125.81]
["2010-11-19","234863371","PEDRO","SANTIBAÑEZ PUFFE","M","CLP","AS","U16","SI","2",289.98,289.98,188.59,188.59,236.99,236.99]
["2010-11-24","234873016","ANTONIA","MISLEJ LÓPEZ","F","CVN","AS","U16","SI","2",999.99,999.99,999.99,999.99,999.99,999.99]
["2010-12-15","235046873","CLEMENTE","MURUA INFANTE","M","UC","AS","U16","SI","2",213.81,{"v":199.355,"d":"199.36"},187.08,187.08,370.52,370.52]
["2010-12-27","235123975","FLORENCIA","VIDAL DIAZ","F","CVN","AS","U16","SI","2",233.04,222.47,247.27,247.27,297.77,{"v":244.535,"d":"244.54"}]
["2010-12-30","235145197","TOMAS","GUZMAN LECANNELIER","M","CEC","AS","U16","SI","2",145.61,145.61,172.59,154.41,190.57,{"v":161.405,"d":"161.41"}]
["2011-01-03","235182785","FRANCISCO JAVIER","PEREZ HADDAD","M","CAN","AS","U16","SI","1",113.26,113.26,77.39,77.39,88.09,88.09]
["2010-12-28","235205378","JOAQUÍN","MARCHANT OLGUÍN","M","ARS","AS","U16","SI","2",999.99,999.99,999.99,999.99,999.99,999.99]
["2011-01-24","235429683","BAUTISTA","LAMA KAISER","M","CLP","AS","U16","SI","1",66.01,66.01,78.97,78.97,117.55,107.91]
["2011-02-06","235529300","ELBA","HUBER SOLIS","F","LV","AS","U16","SI","1",129.83,129.83,177.18,177.18,224.11,224.11]
["2011-02-01","235609819","JEAN PAUL","BOUDON URRA","M","CSC","AS","U16","SI","1",999.99,{"v":729.636,"d":"729.64"},999.99,{"v":694.308,"d":"694.31"},999.99,999.99]
["2011-02-21","235706288","FRIDA","SILVA JENSEN","F","CLP","AS","U16","SI","1",163.98,163.98,269.41,{"v":230.055,"d":"230.06"},233.37,233.37]
["2011-03-12","235826844","CLEMENTE ANDRÉS","BUSTOS  ALVARADO","M","CORR","AS","U16","SI","1",141.55,141.55,196.81,196.81,212.75,212.75]
["2011-03-14","23585550K","BORJA","LESSER DILL","M","CLP","AS","U16","SI","1",141.73,122.37,147.61,147.61,236.76,203.03]
["2011-01-17","235889730","ALBERTO","PUENTE YANKOVIC","M","CAN","AS","U16","SI","1",86.13,86.13,95.86,72.03,{"v":139,"d":"139.00"},{"v":99.345,"d":"99.35"}]
["2011-08-11","235923602","MAXIMILIAN","EPP GOYENECHEA","M","UC","AS","U16","SI","1",999.99,999.99,999.99,999.99,999.99,999.99]
["2011-03-20","235986701","BLANCA","IBAÑEZ AMBIA","F","CLP","AS","U16","SI","1",{"v":270,"d":"270.00"},{"v":270,"d":"270.00"},213.24,213.24,270.13,270.13]
["2011-03-21","235998793","IGNACIA","FUENTES  LABRA ","F","ARS","AS","U16","SI","1",71.98,71.98,{"v":110,"d":"110.00"},{"v":106.3,"d":"106.30"},132.94,{"v":103.295,"d":"103.30"}]
["2011-03-23","236058379","SANTIAGO","CASTRO OTERO","M","UC","AS","U16","SI","1",463.25,463.25,231.97,231.97,295.45,295.45]
["2011-03-30","236060357","TOMAS","GONZALEZ VALDES","M","CAN","AS","U16","SI","1",999.99,{"v":183.672,"d":"183.67"},999.99,999.99,241.84,241.84]
["2011-04-09","236151077","FEDERICO ","AYALA PEREZ","M","CAN","AS","U16","SI","1",152.49,152.49,187.43,187.43,213.25,213.25]
["2011-04-13","236208508","DIEGO","TAGLE ALLIENDE","M","CAO","AS","U16","SI","1",200.47,200.47,180.58,180.58,318.72,318.72]
["2011-04-13","236208613","ANA","TAGLE ALLIENDE","F","CAO","AS","U16","SI","1",258.03,258.03,405.23,405.23,392.13,392.13]
["2011-01-05","236348741","MAXIMILIANO","MOLINA QUINTANA","M","CVN","AS","U16","SI","1",999.99,999.99,999.99,999.99,330.41,330.41]
["2011-05-16","236440893","CLARA","DONOSO INFANTE","F","CAO","AS","U16","SI","1",117.08,116.59,134.47,134.47,157.23,157.23]
["2011-05-14","236442764","DIEGO ","MONTAGNON  FERNÁNDEZ","M","ARS","AS","U16","SI","1",377.62,377.62,243.38,243.38,345.85,345.85]
["2011-05-16","236449246","MARTIN","ROMENY WAEGER","M","CAO","AS","U16","SI","1",170.62,170.62,{"v":125.1,"d":"125.10"},{"v":125.1,"d":"125.10"},161.83,161.83]
["2011-05-18","236489973","GRACIELA","BARRIENTOS TRUJILLOS","F","PAT","AS","U16","SI","1",999.99,999.99,999.99,212.04,999.99,{"v":280.752,"d":"280.75"}]
["2011-06-15","236684938","GASPAR","CHAVEZ BAHAMONDES","M","ARS","AS","U16","SI","1",999.99,363.06,395.85,395.85,528.25,{"v":332.095,"d":"332.10"}]
["2011-06-13","236692175","LEONARDO","CARVALLO TARICCO","M","POR","AS","U16","SI","1",999.99,{"v":569.3399999999999,"d":"569.34"},999.99,999.99,792.54,792.54]
["2011-06-18","236710122","MARTINA","VERGARA SÁNCHEZ","F","POR","AS","U16","SI","1",999.99,999.99,999.99,999.99,427.37,427.37]
["2011-06-22","236769127","SOFIA","ASTORGA LAGOMARSINO","F","UC","AS","U16","SI","1",422.61,422.61,281.68,281.68,226.25,226.25]
["2011-06-22","236769607","MARTIN","ASTORGA LAGOMARSINO","M","UC","AS","U16","SI","1",269.95,269.95,276.31,276.31,390.28,390.28]
["2011-06-28","23679590K","MAGDALENA PASCALE","NEUMANN MENDEZ ","F","CEC","AS","U16","SI","1",145.24,145.24,174.94,174.94,195.09,195.09,"INJURY 09.09.25"]
["2011-06-07","236797112","LOURDES","GARCÍA ","F","CVN","AS","U16","SI","1",237.51,237.51,286.21,286.21,263.16,263.16]
["2011-07-21","236983242","VICENTE","GALDAMES RINCÓN","M","CVN","AS","U16","SI","1",336.38,336.38,382.72,382.72,412.54,412.54]
["2011-07-22","237037456","PEDRO","CASTRO GONZALEZ","M","ARS","AS","U16","SI","1",{"v":122.8,"d":"122.80"},{"v":122.8,"d":"122.80"},148.66,148.66,223.46,223.46]
["2011-07-29","237068440","LIONEL","ROBLES LOPEZ","M","CAO","AS","U16","SI","1",472.94,472.94,333.61,333.61,335.36,335.36]
["2011-08-01","237100441","ISMAEL ","GANDARA RODILLO ","M","CAN","AS","U16","SI","1",{"v":190.1,"d":"190.10"},{"v":181.885,"d":"181.89"},195.98,195.98,262.54,262.54]
["2011-08-07","237109740","RAFAELA","KNAPP MOYA","F","CAPA","AS","U16","SI","1",171.13,171.13,127.35,{"v":106.855,"d":"106.86"},87.23,87.23]
["2011-07-28","237117174","RAFAELLA","REYES SBARAGLINI","F","CEC","AS","U16","SI","1",999.99,999.99,999.99,999.99,999.99,999.99]
["2011-08-09","237159500","FRANCISCA","JABAT CROQUEVIELLE","F","ARS","AS","U16","SI","1",{"v":393.7,"d":"393.70"},{"v":393.7,"d":"393.70"},822.38,822.38,469.81,469.81]
["2011-08-12","23730571K","NICOLÁS ADOLFO","TAPIA MARDONES","M","CSC","AS","U16","SI","1",999.99,{"v":441.924,"d":"441.92"},999.99,{"v":416.688,"d":"416.69"},999.99,999.99]
["2011-09-07","237392299","DIEGO","RODRIGUEZ LAPOSTOL","M","CVN","AS","U16","SI","1",526.62,526.62,390.27,390.27,500.01,500.01]
["2011-09-12","237440420","PAULA FRANCISCA","SILVA CORNEJO","F","CEC","AS","U16","SI","1",999.99,999.99,999.99,999.99,999.99,999.99]
["2011-09-14","237461665","LAURA","DEL CAMPO TRAUTMANN","F","CEC","AS","U16","SI","1",130.99,130.99,171.94,171.94,167.56,167.56]
["2011-09-20","237514475","FLORENCIA","ROSS MASSANES","F","CAN","AS","U16","SI","1",143.06,143.06,177.34,177.34,211.46,211.46]
["2011-10-04","237609107","TRINIDAD","MONTANARI OTERO","F","UC","AS","U16","SI","1",411.04,411.04,999.99,999.99,468.67,468.67]
["2011-10-11","237668634","JOSE","MASSOUD AUSIN","M","CLP","AS","U16","SI","1",226.98,226.98,199.72,199.72,282.23,282.23]
["2011-10-10","237674901","JULIÁN","RIVERA DEL CAMPO","M","ARS","AS","U16","SI","1",244.42,{"v":180.975,"d":"180.98"},275.63,275.63,354.28,{"v":227.005,"d":"227.01"}]
["2011-10-11","237684176","PATRICIO MATÍAS ","CONTESSE ORTIZ ","M","CAN","AS","U16","SI","1",116.52,116.52,112.45,112.45,134.06,134.06]
["2011-10-24","237794540","MELISA MARIA","LERMANDA  IBAÑEZ","F","CORR","AS","U16","SI","1",{"v":152.3,"d":"152.30"},{"v":152.3,"d":"152.30"},255.98,255.98,327.86,327.86]
["2011-11-03","237871677","ARTURO","WILLER SIMON","M","CAO","AS","U16","SI","1",127.88,127.88,145.06,145.06,{"v":194.2,"d":"194.20"},187.23]
["2011-10-30","237881370","JULIA","OPITZ SEIDL","F","CAO","AS","U16","SI","1",398.07,398.07,523.93,523.93,661.88,661.88]
["2011-10-13","237939859","NAOMI","FISCHER BARENBOIM","F","ARS","AS","U16","SI","1",999.99,999.99,999.99,999.99,999.99,999.99]
["2011-11-11","237948424","DOMINGA","MANDRU ROMENY","F","CAO","AS","U16","SI","1",290.79,269.51,322.58,267.24,346.41,346.41]
["2011-11-16","237972236","AGUSTINA","BANNURA DECEBAL-CUZA","F","UC","AS","U16","SI","1",193.21,{"v":192.195,"d":"192.20"},146.58,146.58,181.22,181.22]
["2011-11-23","238028973","VICENTE","MARTINEZ VICHERAT","M","UC","AS","U16","SI","1",409.56,409.56,353.46,353.46,999.99,999.99]
["2011-12-09","238169380","SANTIAGO","BADILLA FUENTES","M","CAN","AS","U16","SI","1",234.13,234.13,181.07,181.07,231.28,231.28]
["2011-12-20","238262828","VICENTE","DÍAZ SOTO","M","CLP","AS","U16","SI","1",196.69,196.69,170.78,170.78,{"v":240.5,"d":"240.50"},{"v":240.5,"d":"240.50"}]
["2011-12-23","238289130","TIAGO ","CARTES ATALAH","M","CAN","AS","U16","SI","1",105.05,105.05,163.57,163.57,181.74,169.01]
["2012-08-01","238390419","MAGDALENA","ROJAS F","F","CVN","AS","U14","SI","2",177.17,177.17,179.86,179.86,{"v":205.6,"d":"205.60"},{"v":205.6,"d":"205.60"}]
["2012-01-18","238487544","LUCIANO","BRITO DIAZ","M","CLP","AS","U14","SI","2",106.99,106.99,96.02,96.02,109.06,109.06]
["2012-01-02","238488060","LORENZO","LEON AZUA","M","CVN","AS","U14","SI","2",999.99,999.99,490.08,490.08,999.99,999.99]
["2012-03-02","238625661","ISIDRO","SECALL MOREL","M","CVN","AS","U14","SI","2",{"v":200.9,"d":"200.90"},{"v":200.9,"d":"200.90"},148.03,148.03,182.28,182.28]
["2012-02-09","23866926K","HUGO JOSÉ","TAPIA MEDINA","M","CSC","AS","U14","SI","2",999.99,{"v":392.556,"d":"392.56"},999.99,384.54,999.99,{"v":559.9079999999999,"d":"559.91"}]
["2012-10-02","238674840","ANTONIA","GARDILCIC SANTA CRUZ","F","CVN","AS","U14","SI","2",162.96,162.96,155.75,155.75,151.45,151.45]
["2012-02-21","238774861","IGNACIA","LIRA CASAS","F","CAPA","AS","U14","SI","2",205.94,205.94,999.99,{"v":240.792,"d":"240.79"},260.15,260.15]
["2012-02-21","238775086","JOAQUIN","LIRA CASAS","M","CAPA","AS","U14","SI","2",230.76,230.76,999.99,{"v":299.4,"d":"299.40"},303.74,303.74]
["2012-03-09","238944864","LUNA","VERA ZAROR","F","LV","AS","U14","SI","2",213.75,213.75,250.64,250.64,281.06,281.06]
["2012-08-03","238953502","GABRIEL","FARÍAS AGUAYO","M","CVN","AS","U14","SI","2",999.99,999.99,999.99,{"v":176.845,"d":"176.85"},999.99,199.71]
["2012-03-13","239038379","MANUEL","LE-BERT RODRIGUEZ","M","UC","AS","U14","SI","2",367.49,223.72,999.99,{"v":159.195,"d":"159.20"},999.99,{"v":275.875,"d":"275.88"}]
["2012-03-21","239060099","ANGELES","CANDIA ECHENIQUE","F","UC","AS","U14","SI","2",298.68,298.68,377.82,{"v":317.005,"d":"317.01"},396.61,{"v":340.565,"d":"340.57"}]
["2012-03-28","239091547","JUAN EDUARDO","IBAÑEZ VERGARA","M","CLP","AS","U14","SI","2",{"v":69.9,"d":"69.90"},{"v":69.9,"d":"69.90"},{"v":70,"d":"70.00"},{"v":70,"d":"70.00"},140.46,140.46]
["2012-04-01","239221904","NABIH","SEITUN FUENTES","M","LV","AS","U14","SI","2",103.82,103.82,188.02,188.02,348.11,348.11]
["2012-12-04","239225624","JUAN","BRINKMANN UNDURRAGA","M","CVN","AS","U14","SI","2",{"v":126,"d":"126.00"},{"v":126,"d":"126.00"},156.35,{"v":140.545,"d":"140.55"},272.25,162.07]
["2012-04-21","23930088K","ANIBAL","MONTES GUTIERREZ","M","UC","AS","U14","SI","2",999.99,160.69,97.28,{"v":85.475,"d":"85.48"},142.63,142.63]
["2012-04-21","239350453","DOMINGO ARNAU","TORRES RETI","M","CAN","AS","U14","SI","2",189.54,{"v":152.005,"d":"152.01"},{"v":126.9,"d":"126.90"},{"v":126.9,"d":"126.90"},117.78,117.78]
["2012-05-22","23954326K","MAX ","MONREAL  ORMEÑO","M","CORR","AS","U14","SI","2",{"v":98.2,"d":"98.20"},{"v":98.2,"d":"98.20"},189.82,189.82,266.94,266.94]
["2012-05-03","23954410K","EMA","MUYLLE ALLIENDE","F","UC","AS","U14","SI","2",999.99,{"v":140.095,"d":"140.10"},160.13,151.28,245.64,230.78]
["2012-05-16","239561756","TEODORO","PASTENE SOTO","M","CORR","AS","U14","SI","2",258.15,258.15,348.62,348.62,383.63,383.63]
["2012-05-29","239611478","JACINTA","OPAZO DIAZ","F","CLP","AS","U14","SI","2",193.15,193.15,214.19,214.19,279.71,279.71]
["2012-05-01","239624863","CLARA","GAZMURI PIEDRA","F","CEC","AS","U14","SI","2",232.14,232.14,358.05,358.05,999.99,999.99]
["2012-05-30","239677304","JULIETA","FERNANDEZ VERGARA","F","CLP","AS","U14","SI","2",75.32,75.32,{"v":118.5,"d":"118.50"},{"v":118.5,"d":"118.50"},159.37,159.37]
["2012-05-30","239679838","OLGA","KUBICK LESSER","F","CLP","AS","U14","SI","2",155.09,155.09,158.13,158.13,210.97,{"v":186.755,"d":"186.76"}]
["2012-05-25","239693318","MAGDALENA ","CORDERO VON LEYSER","F","CEC","AS","U14","SI","2",999.99,999.99,999.99,999.99,999.99,999.99]
["2012-06-02","239697003","ADELA","VALDES PRIETO","F","CAO","AS","U14","SI","2",57.28,57.28,{"v":70,"d":"70.00"},{"v":70,"d":"70.00"},{"v":85,"d":"85.00"},{"v":85,"d":"85.00"}]
["2012-05-25","239723578","GUSTAVO","PINCHEIRA BRAVO","M","CAR","AS","U14","SI","2",71.46,{"v":64.565,"d":"64.57"},133.46,133.46,231.73,231.73]
["2012-06-07","239740588","ROSARIO ALEJANDRA","CALDERA ALMONACID","F","CEC","AS","U14","SI","2",141.73,141.73,267.91,227.71,261.85,{"v":248.855,"d":"248.86"}]
["2012-06-02","239743889","CLARA","CAMUS CORREA","F","CAN","AS","U14","SI","2",999.99,999.99,999.99,{"v":580.895,"d":"580.90"},999.99,999.99]
["2012-06-05","239758096","CRESCENTE","TUÑON SOTO","M","UC","AS","U14","SI","2",519.71,519.71,999.99,999.99,999.99,999.99]
["2012-06-12","239800572","IÑAKI","BASAURI  GARDILCIC","M","CORR","AS","U14","SI","2",110.68,110.68,181.78,181.78,223.15,223.15]
["2012-06-02","239811019","EMILIA","PEREZ OLMOS","F","LV","AS","U14","SI","2",156.17,131.98,{"v":166,"d":"166.00"},{"v":166,"d":"166.00"},216.92,216.92]
["2012-06-15","239854001","TEO","ATALAH BINFA","M","LV","AS","U14","SI","2",234.14,234.14,278.39,278.39,378.08,378.08]
["2012-03-19","239864716","PEDRO","RODRIGUEZ CASTRO","M","CVN","AS","U14","SI","2",195.25,195.25,179.99,179.99,171.88,171.88]
["2012-06-23","239909833","AGUSTIN","JARA ALVARADO","M","UC","AS","U14","SI","2",999.99,999.99,295.24,295.24,301.23,301.23]
["2012-07-02","240010763","JOSÉ","KRAUSE GUTIÉRREZ","M","CVN","AS","U14","SI","2",999.99,145.48,149.67,{"v":129.7,"d":"129.70"},112.47,112.47]
["2012-06-28","240018462","PILAR","CLARO IRARRAZAVAL","F","UC","AS","U14","SI","2",199.69,199.69,164.91,164.91,186.39,186.39]
["2012-07-04","240101319","AMANDA","JONES ILLANES","F","CAN","AS","U14","SI","2",62.33,62.33,103.25,103.25,110.29,110.29]
["2012-07-18","240114283","BLANCA","PUIG GUTIERREZ","F","CAR","AS","U14","SI","2",101.22,101.22,137.28,137.28,230.03,230.03]
["2012-07-17","24019130K","VICENTE JAVIER","ACLE ASENJO","M","CSC","AS","U14","SI","2",999.99,999.99,999.99,{"v":338.928,"d":"338.93"},999.99,{"v":434.436,"d":"434.44"}]
["2012-07-27","240208881","FRANCISCA","COSMELLI PIWONKA","F","UC","AS","U14","SI","2",{"v":141.3,"d":"141.30"},111.99,204.22,204.22,{"v":196.3,"d":"196.30"},{"v":196.3,"d":"196.30"}]
["2012-08-06","240321343","EMA ANTONIA","GARDA TIMMERMANN","F","CEC","AS","U14","SI","2",{"v":123.4,"d":"123.40"},{"v":123.4,"d":"123.40"},302.92,302.92,226.84,226.84]
["2012-08-09","240324194","VICTORIA","BORCHERT TOLEDO","F","POR","AS","U14","SI","2",999.99,{"v":352.572,"d":"352.57"},999.99,{"v":317.735,"d":"317.74"},999.99,999.99]
["2012-08-17","240385538","CLEMENTE","SILVA OSSIPOVICH","M","CVN","AS","U14","SI","2",78.03,78.03,80.66,{"v":76.13499999999999,"d":"76.14"},{"v":85,"d":"85.00"},{"v":85,"d":"85.00"}]
["2012-08-29","240505428","NICOLAS ","PEREZ CARDENAS","M","PAT","AS","U14","SI","2",163.31,163.31,206.18,206.18,151.39,151.39]
["2012-09-05","240575167","EMA","MURUA INFANTE","F","UC","AS","U14","SI","2",336.23,{"v":316.975,"d":"316.98"},512.55,357.61,999.99,999.99]
["2012-08-06","240583348","IAN","STENGEL MORRIS","M","CSC","AS","U14","SI","2",999.99,999.99,999.99,999.99,999.99,999.99]
["2012-09-12","240631164","RAFFAELLA","MOTTO GRINSPUN","F","CAN","AS","U14","SI","2",341.44,242.84,357.93,302.86,{"v":382.2,"d":"382.20"},365.33]
["2012-09-06","240631997","ANGEL","MARIN SOTO","M","PAT","AS","U14","SI","2",999.99,{"v":140.265,"d":"140.27"},198.57,{"v":191.015,"d":"191.02"},250.85,250.85]
["2012-09-23","240699540","SEBASTIAN","BASAURE VARGAS","M","UC","AS","U14","SI","2",75.26,75.26,81.83,80.82,132.34,{"v":116.875,"d":"116.88"}]
["2012-09-28","240776367","ELOISA","ROSENDE ZEGERS","F","LV","AS","U14","SI","2",201.17,201.17,221.43,221.43,281.45,281.45]
["2012-10-09","240845229","RAFAEL ","AYALA PEREZ","M","CAN","AS","U14","SI","2",162.73,162.73,209.97,209.97,216.29,216.29]
["2012-10-21","240953978","CARMEN","FLEISCHMANN KOSTER","F","CORR","AS","U14","SI","2",999.99,{"v":396.575,"d":"396.58"},{"v":746.4,"d":"746.40"},326.05,{"v":418,"d":"418.00"},{"v":418,"d":"418.00"}]
["2012-10-20","24095821K","SANTIAGO","MORALES FORMAS","M","UC","AS","U14","SI","2",305.47,305.47,364.92,364.92,413.14,413.14]
["2012-10-22","240962144","BERNARDITA","WINTER PINEDA","F","UC","AS","U14","SI","2",999.99,{"v":252.864,"d":"252.86"},240.79,240.79,999.99,999.99]
["2012-10-24","24098105K","MARTINA","WILLEMSEN GALARCE","F","CAPA","AS","U14","SI","2",999.99,999.99,999.99,{"v":518.544,"d":"518.54"},999.99,999.99]
["2012-10-26","240995360","DOMINGA","REINIKE DURAN","F","LV","AS","U14","SI","2",999.99,{"v":171.252,"d":"171.25"},999.99,{"v":250.908,"d":"250.91"},{"v":272.8,"d":"272.80"},{"v":272.8,"d":"272.80"}]
["2012-10-25","241014703","AGUSTIN","MILLAN KING","M","CAPA","AS","U14","SI","2",306.72,306.72,999.99,{"v":352.445,"d":"352.45"},334.66,334.66]
["2012-10-29","241030326","LAWRENCE","WESTCOTT LEIBBRANDT","M","CLP","AS","U14","SI","2",{"v":50,"d":"50.00"},{"v":50,"d":"50.00"},70.65,70.65,116.97,116.97]
["2012-10-27","241086215","MADDALENA","CERONI YOB","F","CAO","AS","U14","SI","2",65.87,65.87,104.78,104.78,145.68,145.68]
["2012-11-11","241106004","ASUNCION","GARCIA OVALLE","F","UC","AS","U14","SI","2",214.15,214.15,244.54,{"v":201.475,"d":"201.48"},229.58,{"v":203.995,"d":"204.00"}]
["2012-11-10","241121836","JAVIERA","QUEVEDO MONTAÑO","F","LV","AS","U14","SI","2",999.99,{"v":1049.652,"d":"1049.65"},999.99,{"v":670.908,"d":"670.91"},999.99,{"v":334.548,"d":"334.55"}]
["2012-11-21","241213900","DELFINA","ANGUITA AVILES","F","CAO","AS","U14","SI","2",109.36,{"v":99.375,"d":"99.38"},204.87,130.05,161.56,161.56]
["2012-11-26","241242684","TOBÍAS","GROB ANGERMEYER","M","CAN","AS","U14","SI","2",{"v":96.4,"d":"96.40"},{"v":96.4,"d":"96.40"},100.04,{"v":97.455,"d":"97.46"},{"v":153.4,"d":"153.40"},{"v":153.4,"d":"153.40"}]
["2012-11-14","24124489K","SANTIAGO","CARVALLO TARICCO","M","POR","AS","U14","SI","2",999.99,999.99,999.99,{"v":406.044,"d":"406.04"},579.79,579.79]
["2012-11-29","241284565","MATIAS","BARRIENTOS ENGLER","M","CAO","AS","U14","SI","2",202.95,{"v":190.385,"d":"190.39"},317.11,232.84,405.95,405.95]
["2012-12-09","241342328","MARIA","BRICEÑO PURCELL","F","CLP","AS","U14","SI","2",56.35,56.35,{"v":78.8,"d":"78.80"},{"v":78.8,"d":"78.80"},116.09,116.09]
["2012-12-07","241351483","FACUNDO","MORAGA  CANTERINI","M","CAN","AS","U14","SI","2",164.71,164.71,199.26,{"v":160.575,"d":"160.58"},276.56,276.56]
["2012-12-06","241361489","JULIETA","ESCUDERO ZARATE","F","CAPA","AS","U14","SI","2",999.99,999.99,999.99,{"v":425.765,"d":"425.77"},999.99,999.99]
["2012-12-11","241446131","SIMONA","SÁNCHEZ GÓMEZ","F","POR","AS","U14","SI","2",999.99,{"v":497.592,"d":"497.59"},999.99,{"v":459.645,"d":"459.65"},999.99,999.99]
["2012-12-26","241484866","SARA","GALLEGUILLOS MIRANDA","F","CAPA","AS","U14","SI","2",999.99,{"v":100.015,"d":"100.02"},237.53,159.22,205.92,{"v":201.975,"d":"201.98"}]
["2012-12-27","24149618K","JACINTA","LÓPEZ CHAMORRO","F","CEC","AS","U14","SI","2",495.85,495.85,919.47,{"v":395.185,"d":"395.19"},584.22,{"v":450.145,"d":"450.15"}]
["2013-01-07","241587681","BENJAMIN","DIAZ FIGUEROA","M","CAR","AS","U14","SI","1",999.99,148.13,999.99,{"v":192.165,"d":"192.17"},999.99,{"v":338.508,"d":"338.51"}]
["2013-01-02","241593223","STEPHAN KARL","LANDOLT HARRIS","M","CAPA","AS","U14","SI","1",999.99,999.99,999.99,999.99,999.99,999.99]
["2013-01-07","241608506","CRISTIAN","SWETT LAGO","M","CAO","AS","U14","SI","1",999.99,999.99,999.99,999.99,999.99,999.99]
["2013-01-07","241608786","TRINIDAD","SWETT LAGO","F","CAO","AS","U14","SI","1",999.99,999.99,999.99,999.99,999.99,999.99]
["2013-01-18","241684717","SOFÍA","SOLAR TURRILLAS","F","CVN","AS","U14","SI","1",999.99,999.99,999.99,999.99,999.99,999.99]
["2013-01-16","241684849","AMBAR","CARDENAS CONEJEROS","F","PAT","AS","U14","SI","1",999.99,{"v":279.396,"d":"279.40"},999.99,{"v":314.3,"d":"314.30"},999.99,999.99]
["2013-01-19","241702219","ANA ","MONTAGNON  FERNÁNDEZ","F","ARS","AS","U14","SI","1",999.99,184.67,999.99,194.45,999.99,{"v":220.015,"d":"220.02"}]
["2013-01-22","241716457","BORJA","CHAVEZ BAHAMONDES","M","ARS","AS","U14","SI","1",999.99,999.99,999.99,{"v":304.884,"d":"304.88"},999.99,{"v":340.115,"d":"340.12"}]
["2013-01-27","241761185","ALEXANDER","ROJAS BUSTOS","M","UC","AS","U14","SI","1",999.99,999.99,999.99,{"v":141.805,"d":"141.81"},999.99,999.99]
["2013-05-02","241853950","ZOE","MOLINARE OLMOS","F","LV","AS","U14","SI","1",999.99,351.05,999.99,331.36,999.99,{"v":339.468,"d":"339.47"}]
["2013-01-17","241893359","JUAN","UNDURRAGA URIBE","M","CLP","AS","U14","SI","1",999.99,{"v":201.648,"d":"201.65"},999.99,112.32,999.99,{"v":294.605,"d":"294.61"}]
["2013-02-08","24189715K","BERNARDO","BRAVO RECCIUS","M","UC","AS","U14","SI","1",999.99,999.99,999.99,231.56,999.99,306.21]
["2013-02-17","241942392","DAMIÁN","CAREY RABY","M","CAN","AS","U14","SI","1",999.99,999.99,999.99,999.99,999.99,999.99]
["2013-02-17","241942643","ISMAEL","CAREY RABY","M","CAN","AS","U14","SI","1",999.99,999.99,999.99,999.99,999.99,999.99]
["2013-02-17","241972593","ALFONSO","DIAZ GHIRARDELLI","M","UC","AS","U14","SI","1",999.99,{"v":136.272,"d":"136.27"},999.99,{"v":119.005,"d":"119.01"},999.99,{"v":185.955,"d":"185.96"}]
["2013-02-27","242035445","FEDERICO","LABRA MARIN","M","CVN","AS","U14","SI","1",999.99,999.99,999.99,999.99,999.99,999.99]
["2013-03-02","242058496","ALONSO","VALDIVIA GARRIDO","M","POR","AS","U14","SI","1",999.99,999.99,999.99,342.19,999.99,{"v":517.164,"d":"517.16"}]
["2013-03-06","242099370","JULIETA","CEA INDA","F","LV","AS","U14","SI","1",999.99,{"v":331.9,"d":"331.90"},999.99,{"v":281.975,"d":"281.98"},999.99,{"v":301.428,"d":"301.43"}]
["2013-03-12","242204476","CAMILA","CONCHA NASSER","F","CLP","AS","U14","SI","1",999.99,{"v":134.025,"d":"134.03"},999.99,156.14,999.99,225.28]
["2013-03-18","242210808","GONZALO","GARCIA MORAN","M","CLP","AS","U14","SI","1",999.99,999.99,999.99,{"v":160.825,"d":"160.83"},999.99,279.56]
["2013-03-06","242213521","LUZ","CASTRO GONZALEZ","F","ARS","AS","U14","SI","1",999.99,{"v":225.108,"d":"225.11"},999.99,{"v":165.535,"d":"165.54"},999.99,{"v":172.975,"d":"172.98"}]
["2013-03-21","24224897K","AMPARO","LIVINGSTON DELARD","F","CAPA","AS","U14","SI","1",999.99,{"v":634.032,"d":"634.03"},999.99,{"v":505.5,"d":"505.50"},999.99,999.99]
["2013-03-24","242269241","JOSEFA","HOWARD DONOSO","F","CLP","AS","U14","SI","1",999.99,{"v":375.165,"d":"375.17"},999.99,{"v":572.855,"d":"572.86"},999.99,999.99]
["2013-03-27","24233695K","FRANCISCA","GANDARA RODILLO ","F","CAN","AS","U14","SI","1",999.99,212.76,999.99,188.77,999.99,269.99]
["2013-03-23","242358082","CAMILA","MANQUE GUERRA","F","UC","AS","U14","SI","1",999.99,999.99,999.99,999.99,999.99,999.99]
["2013-08-04","242410343","ZOE","SCHNEIDER SCHNEIDER","F","CAN","AS","U14","SI","1",999.99,{"v":217.752,"d":"217.75"},999.99,{"v":183.245,"d":"183.25"},999.99,197.39]
["2013-04-21","242507606","MARÍA IGNACIA","HADAD AGUIRRE","F","POR","AS","U14","SI","1",999.99,{"v":150.696,"d":"150.70"},999.99,{"v":147.235,"d":"147.24"},999.99,{"v":211.625,"d":"211.63"}]
["2013-04-20","242512391","MATHIAS","LINNEBERG CARRETERO","M","CLP","AS","U14","SI","1",999.99,999.99,999.99,100.55,999.99,{"v":167.785,"d":"167.79"}]
["2012-08-01","242549562","VICENTE SEBASTIAN","ROBLES URIBE","M","CAN","AS","U14","SI","2",999.99,{"v":543.684,"d":"543.68"},414.26,414.26,363.94,363.94]
["2012-08-10","242574125","ANTONIO","TORRETTI ZAIDAN","M","CAN","AS","U14","SI","2",363.59,283.87,281.34,281.34,427.48,{"v":325.055,"d":"325.06"}]
["2013-04-23","242595858","JAVIER","DARRAIDOU LERIA","M","CLP","AS","U14","SI","1",999.99,276.96,999.99,{"v":167.875,"d":"167.88"},999.99,{"v":264.665,"d":"264.67"}]
["2013-04-24","242596816","MAX ","RODRIGUEZ SANDOVAL","M","CEC","AS","U14","SI","1",999.99,999.99,999.99,999.99,999.99,999.99]
["2013-04-18","24259925K","MAGDALENA","DERPSCH  OLATE","F","CORR","AS","U14","SI","1",999.99,{"v":212.052,"d":"212.05"},999.99,{"v":348.288,"d":"348.29"},999.99,366.54]
["2013-05-09","242731921","AMELIA FLORENCIA","SUTTER  MARQUEZ","F","CORR","AS","U14","SI","1",999.99,{"v":149.615,"d":"149.62"},999.99,{"v":238.135,"d":"238.14"},999.99,{"v":291.588,"d":"291.59"}]
["2013-09-05","242885414","MATILDE","RIVERA DEL CAMPO","F","ARS","AS","U14","SI","1",999.99,263.94,999.99,{"v":285.675,"d":"285.68"},999.99,{"v":312.115,"d":"312.12"}]
["2013-05-29","242898788","NICOLÁS","MORENO CORBO","M","CAN","AS","U14","SI","1",999.99,999.99,999.99,207.68,999.99,999.99]
["2013-05-10","242935659","MARGARITA","ACUÑA BARROS","F","UC","AS","U14","SI","1",999.99,173.52,999.99,136.47,999.99,999.99]
["2013-06-01","242956451","JOSÉ TOMÁS","AGUILERA ALLENDE","M","POR","AS","U14","SI","1",999.99,999.99,999.99,559.75,999.99,999.99]
["2013-06-03","242967526","ALICIA","LANDGREN DELPIANO","F","CAN","AS","U14","SI","1",999.99,999.99,999.99,{"v":419.985,"d":"419.99"},999.99,999.99]
["2013-06-12","243013437","BAUTISTA","CID SANTA MARIA","M","UC","AS","U14","SI","1",999.99,{"v":369.385,"d":"369.39"},999.99,{"v":476.1,"d":"476.10"},999.99,999.99]
["2013-06-13","243021383","ALBERTO","GALILEA NANNIG","M","CAO","AS","U14","SI","1",999.99,161.56,999.99,217.22,999.99,{"v":482.172,"d":"482.17"}]
["2013-06-06","243052513","CRISTOBAL","IZQUIERDO SANTULLO","M","UC","AS","U14","SI","1",999.99,{"v":147.468,"d":"147.47"},999.99,{"v":139.255,"d":"139.26"},999.99,{"v":209.915,"d":"209.92"}]
["2013-06-16","243053285","IGNACIO","VERGARA SÁNCHEZ","M","POR","AS","U14","SI","1",999.99,999.99,999.99,{"v":420.408,"d":"420.41"},999.99,999.99]
["2013-06-20","243106907","ELISA","LARACH LLORENTE","F","CAN","AS","U14","SI","1",999.99,212.54,999.99,{"v":282.055,"d":"282.06"},999.99,999.99]
["2013-06-26","243157323","ISABEL","MUÑOZ  QUINTANA","F","CORR","AS","U14","SI","1",999.99,200.94,999.99,299.07,999.99,{"v":393.828,"d":"393.83"}]
["2013-06-29","24319749K","FILIPA","PEREZ MULLER","F","CLP","AS","U14","SI","1",999.99,{"v":196.572,"d":"196.57"},999.99,999.99,999.99,{"v":279.735,"d":"279.74"}]
["2013-06-28","243218691","CONSTANZA","MISLEJ LÓPEZ","F","CVN","AS","U14","SI","1",999.99,999.99,999.99,999.99,999.99,999.99]
["2013-07-04","243224055","MARA","GIRALT BERNHARDT","F","CAO","AS","U14","SI","1",999.99,{"v":192.535,"d":"192.54"},999.99,{"v":268.985,"d":"268.99"},999.99,{"v":377.052,"d":"377.05"}]
["2013-07-17","243331714","LUCIANO IGNACIO","CALDERA ALMONACID","M","CEC","AS","U14","SI","1",999.99,314.49,999.99,161.29,999.99,{"v":199.175,"d":"199.18"}]
["2013-07-23","243393639","CAROLINA","LEÓN VALDERRAMA","F","CLP","AS","U14","SI","1",999.99,{"v":365.256,"d":"365.26"},999.99,{"v":293.745,"d":"293.75"},999.99,999.99]
["2013-07-26","243450373","BENITO ","COX GUERRA","M","CORR","AS","U14","SI","1",999.99,999.99,999.99,999.99,999.99,{"v":922.7159999999999,"d":"922.72"}]
["2013-08-08","243555817","MATHIAS","PRADO AUERSPERG","M","UC","AS","U14","SI","1",999.99,396.28,999.99,999.99,999.99,999.99]
["2013-08-06","24361774K","LUCÍA","PRIETO  CRUZ","F","CLP","AS","U14","SI","1",999.99,999.99,999.99,999.99,999.99,999.99]
["2013-08-09","243621887","FACUNDO EDUARDO ","OLIVA  MENDEZ","M","CEC","AS","U14","SI","1",999.99,{"v":258,"d":"258.00"},999.99,344.84,999.99,{"v":732.2159999999999,"d":"732.22"}]
["2013-08-22","243688604","BENITO","MORAL GARCÍA","M","ARS","AS","U14","SI","1",999.99,999.99,999.99,999.99,999.99,999.99]
["2013-09-26","243854660","LILY","SERANI LESSER","F","CLP","AS","U14","SI","1",999.99,{"v":280.215,"d":"280.22"},999.99,{"v":292.985,"d":"292.99"},999.99,{"v":403.765,"d":"403.77"}]
["2013-09-25","243879124","MARÍA GRACIA","URRUTICOECHEA ROBINSON","F","CLP","AS","U14","SI","1",999.99,378.37,999.99,{"v":360.595,"d":"360.60"},999.99,412.15]
["2013-09-10","243951976","GUADALUPE","IZQUIERDO BOETSCH","F","UC","AS","U14","SI","1",999.99,999.99,999.99,{"v":224.335,"d":"224.34"},999.99,{"v":350.988,"d":"350.99"}]
["2013-10-04","243993334","PEDRO PABLO","OCAMPO ZUMELZU","M","CSC","AS","U14","SI","1",999.99,999.99,999.99,{"v":466.4519999999999,"d":"466.45"},999.99,{"v":601.0559999999999,"d":"601.06"}]
["2013-09-15","243994829","JOSEFA","SANCHEZ HOCHSCHILD","F","CLP","AS","U14","SI","1",999.99,999.99,999.99,999.99,999.99,999.99]
["2013-09-02","243998468","JUANITA MARÍA","VELIZ LEÓN","F","CLP","AS","U14","SI","1",999.99,{"v":304.872,"d":"304.87"},999.99,{"v":281.628,"d":"281.63"},999.99,252.41]
["2013-09-16","24400105K","JOSÉ TOMÁS","JABAT CROQUEVIELLE","M","ARS","AS","U14","SI","1",999.99,228.71,999.99,223.74,999.99,{"v":283.825,"d":"283.83"}]
["2013-10-02","244049249","LUCIA","COSMELLI PIWONKA","F","UC","AS","U14","SI","1",999.99,999.99,999.99,999.99,999.99,999.99]
["2013-08-23","244063179","MATILDE","EULUFI BENAVIDES","F","ARS","AS","U14","SI","1",999.99,999.99,999.99,{"v":251.8,"d":"251.80"},999.99,194.24]
["2013-09-11","244073166","MATILDA AMALIA","TORRES RETI","F","CAN","AS","U14","SI","1",999.99,130.16,999.99,{"v":222.045,"d":"222.05"},999.99,999.99]
["2013-10-22","244288707","KAMAL","HADAD MOREL","M","POR","AS","U14","SI","1",999.99,999.99,999.99,509.34,999.99,999.99]
["2013-10-28","244302939","CRISTOBAL","BRISEÑO  MUENCKE ","M","CAN","AS","U14","SI","1",999.99,307.59,999.99,346.65,999.99,999.99]
["2013-10-25","244342272","GABRIELA","PRAT KOENEKAMP","F","CAO","AS","U14","SI","1",999.99,{"v":281.7,"d":"281.70"},999.99,{"v":397.872,"d":"397.87"},999.99,406.14]
["2013-11-14","244539653","PABLO","GUTIERREZ RAMSAY","M","CAO","AS","U14","SI","1",999.99,{"v":215.832,"d":"215.83"},999.99,219.56,999.99,{"v":325.465,"d":"325.47"}]
["2013-11-15","244548237","AMALIA","HOLZAPFEL KAUFMANN","F","CAO","AS","U14","SI","1",999.99,999.99,999.99,999.99,999.99,999.99]
["2013-11-17","244564275","VIOLETA","MARÍN PAICE","F","CAPA","AS","U14","SI","1",999.99,{"v":142.392,"d":"142.39"},999.99,{"v":206.365,"d":"206.37"},999.99,{"v":221.815,"d":"221.82"}]
["2013-11-26","244637272","CRISTOBAL ENRIQUE","TAPIA MARDONES","M","CSC","AS","U14","SI","1",999.99,{"v":308.004,"d":"308.00"},999.99,999.99,999.99,999.99]
["2013-11-23","24465536K","DANIEL","MARTINEZ ARAVENA","M","UC","AS","U14","SI","1",999.99,426.24,999.99,458.87,999.99,999.99]
["2013-11-26","244698476","MAIKE","OPITZ SEIDL","F","CAO","AS","U14","SI","1",999.99,{"v":217.6,"d":"217.60"},999.99,269.65,999.99,{"v":445.056,"d":"445.06"}]
["2013-11-26","244705170","LAURA","HEISE KUNSTMANN","F","CORR","AS","U14","SI","1",999.99,{"v":377.532,"d":"377.53"},999.99,{"v":514.824,"d":"514.82"},999.99,{"v":513.516,"d":"513.52"}]
["2013-11-20","244763421","TOMAS","BEAOIN LANGER","M","CAN","AS","U14","SI","1",999.99,999.99,999.99,999.99,999.99,999.99]
["2013-12-14","244828949","MARÍA CECILIA","FUENZALIDA IRARRAZABAL","F","CLP","AS","U14","SI","1",999.99,999.99,999.99,226.83,999.99,999.99]
["2013-12-20","244876641","RAFAELA JESUS","GONZÁLEZ  LÓPEZ ","F","CEC","AS","U14","SI","1",999.99,{"v":362.688,"d":"362.69"},999.99,{"v":429.672,"d":"429.67"},999.99,{"v":449.316,"d":"449.32"}]
["2013-12-22","24489111K","MATEO","BARROS ALCALDE","M","UC","AS","U14","SI","1",999.99,308.58,999.99,{"v":290.985,"d":"290.99"},999.99,{"v":558.228,"d":"558.23"}]
["2011-04-26","24489767B","TOMÁS","DUEÑAS SUÁREZ","M","ARS","AS","U16","SI","1",171.56,171.56,119.98,119.98,999.99,999.99]
["2013-12-28","244931146","ELISA","GAZMURI PIEDRA","F","CEC","AS","U14","SI","1",999.99,999.99,999.99,999.99,999.99,999.99]
["2012-04-24","24934138K","MIA ","DIETRICH CHOCANO","F","CAN","AS","U14","SI","2",292.59,292.59,201.24,201.24,314.86,314.86]
["2013-01-25","250985398","SOFIA","FONFACH  STOLZENBACH","F","CORR","AS","U14","SI","1",999.99,{"v":568.095,"d":"568.10"},999.99,439.36,999.99,{"v":548.1959999999999,"d":"548.20"}]
["2010-03-02","25627271G","FRANCESC","DE VILLASANTE PASCUAL ","M","ARS","AS","U16","SI","2",999.99,{"v":88.88399999999999,"d":"88.88"},159.46,159.46,999.99,999.99]
["2012-09-18","257771806","LAURA","PUENTE YANKOVIC","F","CAN","AS","U14","SI","2",{"v":50,"d":"50.00"},{"v":50,"d":"50.00"},91.22,84.65,124.62,107.55]
["2012-09-24","28347884K","LUCAS","ALMEIDA KÜHL","M","ARS","AS","U14","SI","2",999.99,999.99,999.99,999.99,999.99,999.99]
["2012-07-12","54328052M","ALEX","BORDA SANTAMARÍA","M","ARS","AS","U14","SI","2",70.54,70.54,{"v":99.9,"d":"99.90"},{"v":99.9,"d":"99.90"},999.99,999.99]
["2011-08-03","669187360","YAEL","LANZKOWSKY ","F","CVN","AS","U16","SI","1",999.99,{"v":96.92399999999999,"d":"96.92"},999.99,999.99,999.99,999.99]
["2013-05-10","671566198","VICENZO","MASTTRIOANNI MASTRIOANNI","M","ARS","AS","U14","SI","1",999.99,155.34,999.99,999.99,999.99,999.99]
["2013-05-03","674320143","VICTORIA","DUGAS ","F","CORR","AS","U14","SI","1",999.99,{"v":188.664,"d":"188.66"},999.99,{"v":279.144,"d":"279.14"},999.99,{"v":351.324,"d":"351.32"}]
["2010-09-27","678083616","DASH","HAMILTON HAMILTON","M","ARS","AS","U16","SI","2",999.99,{"v":87.82499999999999,"d":"87.83"},999.99,999.99,999.99,999.99]
["2010-09-27","678083617","POPPY","HAMILTON HAMILTON","F","ARS","AS","U16","SI","2",999.99,{"v":88.225,"d":"88.23"},999.99,999.99,999.99,999.99]
["2012-04-04","680353783","LILA","MULLIN MULLIN","F","ARS","AS","U14","SI","2",999.99,{"v":227.988,"d":"227.99"},999.99,999.99,999.99,999.99]
["2011-05-18","A03673618","GRIFFIN","PEELE PEELE","M","ARS","AS","U16","SI","1",999.99,147.58,999.99,999.99,999.99,999.99]
["2012-07-07","A03834997","JACK","STRAZIK ","M","CORR","AS","U14","SI","2",999.99,{"v":360.528,"d":"360.53"},999.99,{"v":464.964,"d":"464.96"},999.99,{"v":614.244,"d":"614.24"}]
["2011-11-20","A05373389","FELIPE","CRESPO RODRÍGUEZ","M","CLP","AS","U16","SI","1",999.99,{"v":168.255,"d":"168.26"},999.99,999.99,999.99,999.99]
["2012-04-11","A07024773","CHARLIE","BROWN BROWN","M","ARS","AS","U14","SI","2",999.99,52.33,999.99,999.99,999.99,999.99]
["2013-03-12","A09434147","EREN","EKICI EKICI","M","ARS","AS","U14","SI","1",999.99,999.99,999.99,999.99,999.99,999.99]
["2012-09-14","A27377250","AURORA","KACZMAREK HILL","F","UC","AS","U14","SI","2",54.22,47.43,190.19,190.19,999.99,999.99]
["2010-09-21","A39357053","NICHOLAS ","DAME ","M","CORR","AS","U16","SI","2",999.99,{"v":154.488,"d":"154.49"},999.99,{"v":163.812,"d":"163.81"},999.99,999.99]
["2013-09-01","A39357054","KAYLEI ","DAME ","F","CORR","AS","U14","SI","1",999.99,{"v":238.656,"d":"238.66"},999.99,369.42,999.99,{"v":400.992,"d":"400.99"}]
["2013-09-18","A43190971","HAYDEN","HO ","F","CVN","AS","U14","SI","1",999.99,999.99,999.99,999.99,999.99,999.99]
["2013-09-14","A44229179","DAVID","BRAUNSTEIN BRAUNSTEIN","M","ARS","AS","U14","SI","1",999.99,{"v":459.6,"d":"459.60"},999.99,999.99,999.99,999.99]
["2010-10-10","A48936212","KOBI","BREGMAN BREGMAN","M","ARS","AS","U16","SI","2",999.99,999.99,999.99,999.99,999.99,999.99]
["2012-12-06","A60982609","JAXON","KELSAY ","M","UC","AS","U14","SI","2",999.99,{"v":89.08500000000001,"d":"89.09"},999.99,999.99,999.99,999.99]
["2013-06-11","A61548329","BLAKE","CULLMANN CULLMANN","M","ARS","AS","U14","SI","1",999.99,{"v":143.436,"d":"143.44"},999.99,999.99,999.99,999.99]
["2011-01-01","AL182239","YASMEEN ","KAUKAB ","F","CVN","AS","U16","SI","1",999.99,999.99,999.99,999.99,999.99,999.99]
["2012-10-23","AL182241","FARAH ","KAUKAB ","M","CVN","AS","U14","SI","2",999.99,999.99,999.99,999.99,999.99,999.99]
["2010-08-02","PAM179112","MARIO","DE LA CRUZ MARTIN","M","CVN","AS","U16","SI","2",999.99,999.99,999.99,139.86,999.99,155.24]
["2010-11-30","PAT792445","MARTINA","CASTRO VIAENE","F","CVN","AS","U16","SI","2",999.99,999.99,999.99,999.99,134.64,134.64]
["2011-02-26","PAU403815","MARTINA","TORRAS CASTELLS","F","ARS","AS","U16","SI","1",999.99,{"v":123.348,"d":"123.35"},999.99,999.99,999.99,999.99]
["2010-01-01","21768421W","JOAN","TARRAGA ESTEBAN","M","ARS","AS","U16","NO","2",116.31,116.31,999.99,999.99,999.99,999.99]
["2011-08-20","22600443","ERIC","YUXIANG DANG","M","CVN","AS","U16","NO","1",999.99,999.99,999.99,999.99,999.99,999.99]
["2010-05-01","232169583","IGNACIO JAVIER","CORVALÁN PEDRAZA","M","CVN","AS","U16","NO","2",999.99,999.99,999.99,999.99,999.99,999.99]
["2010-03-24","232800186","MARTINA","MUÑOZ GOMEZ","F","CAR","AS","U16","NO","2",321.92,321.92,{"v":486.1,"d":"486.10"},{"v":486.1,"d":"486.10"},{"v":574.1,"d":"574.10"},{"v":574.1,"d":"574.10"}]
["2010-03-27","232842075","DIEGO","SANCHEZ HOCHSCHILD","M","CLP","AS","U16","NO","2",240.03,240.03,376.82,376.82,999.99,999.99]
["2010-05-14","233287393","BRUNA","DE ROSSETTI FAINE","F","CLP","AS","U16","NO","2",299.83,299.83,369.59,369.59,293.38,293.38]
["2010-06-10","233466808","DIEGO","MORENO CORBO","M","CAN","AS","U16","NO","2",948.98,948.98,706.11,706.11,854.81,854.81]
["2010-06-22","233553921","ANTONIO","VALDES ALTUZARRA","M","CLP","AS","U16","NO","2",451.17,451.17,266.16,266.16,286.22,286.22]
["2010-07-02","233625663","TOMAS","ALFONSIN VALLI","M","CAN","AS","U16","NO","2",402.32,402.32,411.04,411.04,999.99,999.99]
["2010-09-28","234353284","GASPAR","VARGAS LUBBERT","M","CVN","AS","U16","NO","2",91.76,91.76,143.08,143.08,148.06,148.06]
["2010-09-13","234440845","GASTON ALFONSO","LOPEZ BORAGK","M","CVN","AS","U16","NO","2",999.99,999.99,999.99,999.99,999.99,999.99]
["2010-10-14","234801651","ATILIO","COSMELLI PIWONKA","M","UC","AS","U16","NO","2",187.77,187.77,167.14,167.14,198.99,198.99]
["2010-11-24","234872818","JORGE","MISLEJ LOPEZ","M","CVN","AS","U16","NO","2",999.99,999.99,999.99,999.99,999.99,999.99]
["2010-12-07","234957791","MARTINA","SILVA DURAN","F","CORR","AS","U16","NO","2",{"v":191.3,"d":"191.30"},{"v":191.3,"d":"191.30"},242.29,242.29,288.26,288.26]
["2011-01-12","235309572","EMMA","HOLZAPFEL KAUFMANN","F","CAO","AS","U16","NO","1",425.71,425.71,359.33,359.33,463.85,463.85]
["2011-01-20","23538163K","MATILDE","QUIROGA AZOCAR","F","CEC","AS","U16","NO","1",999.99,999.99,999.99,999.99,999.99,999.99]
["2011-01-20","23538423K","MATEO SIMÓN","HENRÍQUEZ LUBASCHER","M","CORR","AS","U16","NO","1",137.56,137.56,182.56,182.56,201.88,201.88]
["2011-02-04","235511371","MANUEL IGNACIO","CELIS CAMPANO","M","CEC","AS","U16","NO","1",999.99,999.99,999.99,999.99,999.99,999.99]
["2011-02-13","235575655","ALAN","FISCHMAN BUTELMANN","M","CAN","AS","U16","NO","1",999.99,999.99,583.61,583.61,999.99,999.99]
["2011-02-15","235761785","ELOISA","PRIETO CRUZ","F","CLP","AS","U16","NO","1",{"v":348,"d":"348.00"},{"v":348,"d":"348.00"},231.71,231.71,233.93,233.93]
["2011-05-18","236490017","GRACIELA","BARRIENTOS  TRUJILLO","F","PAT","AS","U16","NO","1",145.56,145.56,335.24,335.24,353.42,353.42]
["2011-05-31","236569489","PEDRO","ARTEAGA BRUNA","M","CLP","AS","U16","NO","1",317.96,317.96,203.45,203.45,363.52,363.52]
["2011-06-10","236650731","CRISTOBAL","HILLERNS ESPINOZA","M","CEC","AS","U16","NO","1",{"v":149.5,"d":"149.50"},{"v":149.5,"d":"149.50"},255.36,255.36,321.97,321.97]
["2011-07-12","236898172","LEONOR","FREIRE BAEZA","F","POR","AS","U16","NO","1",{"v":485,"d":"485.00"},{"v":485,"d":"485.00"},676.49,676.49,805.79,805.79]
["2011-09-14","237487524","TOMAS","MARTIN UTHOFF","M","UC","AS","U16","NO","1",424.68,424.68,234.43,234.43,323.35,323.35]
["2011-10-04","23761786K","AUGUSTO","PRAT KOENEKAMP","M","CAO","AS","U16","NO","1",999.99,999.99,999.99,999.99,999.99,999.99]
["2011-11-07","237907442","SARA","NUNEZ SALINAS","F","CAU","AS","U16","NO","1",999.99,999.99,999.99,999.99,999.99,999.99]
["2011-11-18","23811960K","LUCAS RODRIGO","QUIROGA MARTÍNEZ","M","CEC","AS","U16","NO","1",999.99,999.99,999.99,999.99,999.99,999.99]
["2011-12-17","238295025","MANUEL JOSE","BARROS EMHART","M","UC","AS","U16","NO","1",145.78,145.78,{"v":127.8,"d":"127.80"},{"v":127.8,"d":"127.80"},205.28,205.28]
["2012-02-13","238697301","ARIEL","PINO MUÑOZ","M","POR","AS","U14","NO","2",999.99,999.99,999.99,999.99,430.96,430.96]
["2012-02-14","238738695","ANA","MULLER CORREA","F","CLP","AS","U14","NO","2",999.99,999.99,999.99,999.99,999.99,999.99]
["2012-02-16","238760054","ELENA","LOPEZ BORAGK","F","CVN","AS","U14","NO","2",999.99,999.99,{"v":409.6,"d":"409.60"},{"v":409.6,"d":"409.60"},999.99,999.99]
["2012-02-25","23881846K","AITOR","IRIARTE MALFANTI","M","ARS","AS","U14","NO","2",999.99,999.99,213.23,213.23,999.99,999.99]
["2012-03-21","239032788","NICOLÁS VICTOR","HENRÍQUEZ MAILLARD","M","CEC","AS","U14","NO","2",999.99,999.99,999.99,999.99,999.99,999.99]
["2012-03-26","239079997","PEDRO","ALFONSIN VALLI","M","CAN","AS","U14","NO","2",999.99,999.99,999.99,999.99,999.99,999.99]
["2012-03-27","23910357K","DOMINGO","MORALES FINSTERBUSCH","M","POR","AS","U14","NO","2",999.99,999.99,999.99,999.99,999.99,999.99]
["2012-05-17","239502563","ZOE","URQUIETA AGUIRRE","F","POR","AS","U14","NO","2",999.99,999.99,999.99,{"v":504.345,"d":"504.35"},999.99,999.99]
["2012-05-17","23952110K","EVAN","RAMMSY CHAURA","M","CAPA","AS","U14","NO","2",999.99,999.99,999.99,999.99,999.99,999.99]
["2012-03-12","239659888","VIVIANA","BARRIGA ROFFEY","F","ARS","AS","U14","NO","2",999.99,999.99,999.99,999.99,999.99,999.99]
["2012-05-25","239692842","ALONSO","CORDERO VON LEYSER","M","CEC","AS","U14","NO","2",999.99,999.99,999.99,999.99,999.99,999.99]
["2012-06-01","239729045","OLIVIA","GODOY VALECH","F","CAN","AS","U14","NO","2",999.99,999.99,999.99,999.99,999.99,999.99]
["2012-06-27","239931197","VICENTE","URRUTICOECHEA ROBINSON","M","CLP","AS","U14","NO","2",999.99,999.99,999.99,999.99,999.99,999.99]
["2012-08-03","240296535","MICHELE MARTINO","LIOI ARRIAGADA","M","CEC","AS","U14","NO","2",999.99,999.99,999.99,999.99,999.99,999.99]
["2012-08-28","240482290","FIORELLA","STAGNO SANDOVAL","F","CEC","AS","U14","NO","2",999.99,999.99,999.99,999.99,999.99,999.99]
["2012-08-28","240492105","DOMINGO","LEON DE LA CERDA","M","UC","AS","U14","NO","2",100.73,100.73,114.74,114.74,{"v":243.5,"d":"243.50"},{"v":243.5,"d":"243.50"}]
["2012-09-27","240752840","JOSEFA","URZUA JUSTINIANO","F","CLP","AS","U14","NO","2",999.99,999.99,999.99,999.99,999.99,999.99]
["2012-03-10","240809907","AUGUSTO","PAVEZ DURAN","M","CEC","AS","U14","NO","2",999.99,999.99,999.99,999.99,999.99,999.99]
["2012-09-28","240840995","JERÓNIMO","MINAKER PIATEK","M","CAN","AS","U14","NO","2",999.99,999.99,999.99,999.99,999.99,999.99]
["2012-10-17","240917092","AMPARO ELISA","FREIRE BAEZA","F","POR","AS","U14","NO","2",999.99,999.99,999.99,999.99,999.99,999.99]
["2012-11-13","241138550","MARTINA","FLORES ANTOINE","F","CAPA","AS","U14","NO","2",999.99,999.99,999.99,999.99,413.87,413.87]
["2012-11-13","241138798","ANTONIA","FLORES ANTOINE","F","CAPA","AS","U14","NO","2",999.99,999.99,999.99,999.99,{"v":465.8,"d":"465.80"},{"v":465.8,"d":"465.80"}]
["2012-11-12","241161080","LOLA","AHLMANN ESTRADA","F","CEC","AS","U14","NO","2",999.99,999.99,999.99,999.99,999.99,999.99]
["2012-10-31","241167232","KAI","WENZEL ALVAREZ","M","UC","AS","U14","NO","2",401.02,401.02,345.09,345.09,393.98,393.98]
["2012-10-31","241167771","BLANCA","WENZEL ALVAREZ","F","UC","AS","U14","NO","2",999.99,999.99,406.52,406.52,277.65,277.65]
["2012-12-27","241513610","OLIVIA","ROJAS GONZÁLEZ","F","ARS","AS","U14","NO","2",999.99,999.99,999.99,999.99,999.99,999.99]
["2011-07-26","250498462","AGUSTIN","RAPELA DEL CAMPO","M","CAN","AS","U16","NO","1",999.99,999.99,999.99,999.99,999.99,999.99]
["2011-11-23","253105607","OLIVIA","LOMBARDO SANTANA","F","CVN","AS","U16","NO","1",999.99,999.99,999.99,999.99,999.99,999.99]
["2010-08-01","26948061L","MARIA","MONGE RAMOS","F","ARS","AS","U16","NO","2",999.99,999.99,999.99,999.99,999.99,999.99]
["2010-01-01","40565646V","MARTINA","SEGOVIA VALVERDE","F","ARS","AS","U16","NO","2",999.99,999.99,999.99,999.99,999.99,999.99]
["2011-01-01","42302803F","NIL","CARMANIU BASCOMPTA","M","ARS","AS","U16","NO","1",155.66,155.66,999.99,999.99,999.99,999.99]
["2010-05-25","490345574","ANIKA","BOLTMAN ","F","CVN","AS","U16","NO","2",166.46,166.46,246.08,246.08,222.14,222.14]
["2012-11-27","490345582","MIKA","BOLTMAN ","M","CVN","AS","U14","NO","2",247.44,247.44,234.75,234.75,307.02,307.02]
["2011-10-04","669968948","COLTER","BENGSTON ","M","CLP","AS","U16","NO","1",999.99,999.99,{"v":105.8,"d":"105.80"},{"v":105.8,"d":"105.80"},999.99,999.99]
["2012-08-09","A01088004","VALENTINA","BRYANT BRYANT","F","ARS","AS","U14","NO","2",{"v":233.9,"d":"233.90"},{"v":233.9,"d":"233.90"},999.99,999.99,999.99,999.99]
["2010-11-05","A01088007","DANIELLA","BRYANT BRYANT","F","ARS","AS","U16","NO","2",999.99,999.99,999.99,999.99,999.99,999.99]
["2011-03-22","A11080501","JACKSON","STEPHENSON  ","M","CLP","AS","U16","NO","1",{"v":101.3,"d":"101.30"},{"v":101.3,"d":"101.30"},169.49,169.49,999.99,999.99]
["2011-08-03","C25772333","YAEL SHIRA","LANZKOWSKY ","F","CVN","AS","U16","NO","1",999.99,999.99,219.75,219.75,999.99,999.99]
["2010-06-22","YE215526","MANUELA","FARAH CUNHA","F","CEC","AS","U16","NO","2",285.02,285.02,999.99,999.99,999.99,999.99]

{"sheet":"Seleccionados DP","index":3,"n_rows":72,"n_cols":25,"rows_kept":72}
["Fecha","Rut","Nombre","Apellido","Sexo","Club","Disc.","Cat.","Activo","Año","BASE SL","Lista 3 SL","BASE GS","Lista 3 GS","BASE SG","Lista 3 SG","Documento","Participó_SL","Participó_GS","Participó_SG","Puntos Lista 3 SL","Rank","Especialidad","Puntos Lista 3 GS","Puntos Lista 3 SG"]
["2010-04-08","232926155","PATRICIO","BANNURA DECEBAL-CUZA","M","UC","AS","U16","SI","2",50,50,122.02,122.02,141.41,141.41,"RUT",true,true,true,50,1,"SL"]
["2010-04-19","233009822","CARMENCITA","PINILLA MORENO","F","CLP","AS","U16","SI","2",50,50,78.97,78.97,85,85,"RUT",true,true,true,50,1,"SL"]
["2010-06-21","233561312","MATEO","CURKOVIC FRANCO","M","UC","AS","U16","SI","2",63.71,63.71,70,70,85,85,"RUT",true,true,true,null,1,"GS",70]
["2010-09-06","234197185","UVY","ACERBONI AHUMADA","F","UC","AS","U16","SI","2",89.52,70.85499999999999,70,70,163.45,163.45,"RUT",true,true,true,null,1,"GS",70]
["2012-03-28","239091547","JUAN EDUARDO","IBAÑEZ VERGARA","M","CLP","AS","U14","SI","2",69.9,69.9,70,70,140.46,140.46,"RUT",true,true,true,null,1,"GS",70]
["2012-06-02","239697003","ADELA","VALDES PRIETO","F","CAO","AS","U14","SI","2",57.28,57.28,70,70,85,85,"RUT",true,true,true,null,1,"GS",70]
["2012-08-17","240385538","CLEMENTE","SILVA OSSIPOVICH","M","CVN","AS","U14","SI","2",78.03,78.03,80.66,76.13499999999999,85,85,"RUT",true,true,true,null,1,"SG",null,85]
["2012-10-29","241030326","LAWRENCE","WESTCOTT LEIBBRANDT","M","CLP","AS","U14","SI","2",50,50,70.65,70.65,116.97,116.97,"RUT",true,true,true,50,1,"SL"]
["2012-09-18","257771806","LAURA","PUENTE YANKOVIC","F","CAN","AS","U14","SI","2",50,50,91.22,84.65,124.62,107.55,"RUT",true,true,true,50,1,"SL"]
["2011-01-03","235182785","FRANCISCO JAVIER","PEREZ HADDAD","M","CAN","AS","U16","SI","1",113.26,113.26,77.39,77.39,88.09,88.09,"RUT",true,true,true,null,2,"SG",null,88.09]
["2011-01-17","235889730","ALBERTO","PUENTE YANKOVIC","M","CAN","AS","U16","SI","1",86.13,86.13,95.86,72.03,139,99.345,"RUT",true,true,true,null,2,"GS",72.03]
["2011-08-07","237109740","RAFAELA","KNAPP MOYA","F","CAPA","AS","U16","SI","1",171.13,171.13,127.35,106.855,87.23,87.23,"RUT",true,true,true,null,2,"SG",null,87.23]
["2012-01-18","238487544","LUCIANO","BRITO DIAZ","M","CLP","AS","U14","SI","2",106.99,106.99,96.02,96.02,109.06,109.06,"RUT",true,true,true,null,2,"SG",null,109.06]
["2012-05-25","239723578","GUSTAVO","PINCHEIRA BRAVO","M","CAR","AS","U14","SI","2",71.46,64.565,133.46,133.46,231.73,231.73,"RUT",true,true,true,64.565,2,"SL"]
["2012-12-09","241342328","MARIA","BRICEÑO PURCELL","F","CLP","AS","U14","SI","2",56.35,56.35,78.8,78.8,116.09,116.09,"RUT",true,true,true,56.35,2,"SL"]
["2010-01-30","232362693","MARTIN","CRESPO IBAÑEZ","M","CLP","AS","U16","SI","2",93.9,93.9,84.41,84.41,99.08,99.08,"RUT",true,true,true,null,3,"SG",null,99.08]
["2010-04-19","233059706","ISABEL","CLARO IRARRAZAVAL","F","UC","AS","U16","SI","2",74.57,74.57,85.46,85.46,135.02,135.02,"RUT",true,true,true,null,3,"GS",85.46]
["2011-01-24","235429683","BAUTISTA","LAMA KAISER","M","CLP","AS","U16","SI","1",66.01,66.01,78.97,78.97,117.55,107.91,"RUT",true,true,true,66.01,3,"SL"]
["2011-03-21","235998793","IGNACIA","FUENTES  LABRA ","F","ARS","AS","U16","SI","1",71.98,71.98,110,106.3,132.94,103.295,"RUT",true,true,true,71.98,3,"SL"]
["2012-07-02","240010763","JOSÉ","KRAUSE GUTIÉRREZ","M","CVN","AS","U14","SI","2",999.99,145.48,149.67,129.7,112.47,112.47,"RUT",true,true,true,null,3,"SG",null,112.47]
["2012-07-04","240101319","AMANDA","JONES ILLANES","F","CAN","AS","U14","SI","2",62.33,62.33,103.25,103.25,110.29,110.29,"RUT",true,true,true,null,3,"SG",null,110.29]
["2010-01-26","232325704","AMALIA","BARRIENTOS MARTINEZ","F","CAO","AS","U16","SI","2",137.2,137.2,168.6,168.6,107.11,107.11,"RUT",true,true,true,null,4,"SG",null,107.11]
["2010-06-14","233491136","DANIEL IGNACIO ","GONZÁLEZ  LOPEZ ","M","CEC","AS","U16","SI","2",73.22,73.22,108.81,108.81,135.71,135.71,"RUT",true,true,true,73.22,4,"SL"]
["2012-09-23","240699540","SEBASTIAN","BASAURE VARGAS","M","UC","AS","U14","SI","2",75.26,75.26,81.83,80.82,132.34,116.875,"RUT",true,true,true,75.26,4,"SL"]
["2010-04-22","233032808","LEONOR","MUÑOZ QUINTANA","F","CORR","AS","U16","SI","2",87.35,87.35,132.97,132.97,129.26,129.26,"RUT",true,true,true,87.35,5,"SL"]
["2010-06-05","233456179","EMILIA","GROB ANGERMEYER","F","CAN","AS","U16","SI","2",122.8,122.8,155.12,116.91,109.14,109.14,"RUT",true,true,true,null,5,"SG",null,109.14]
["2012-04-21","23930088K","ANIBAL","MONTES GUTIERREZ","M","UC","AS","U14","SI","2",999.99,160.69,97.28,85.475,142.63,142.63,"RUT",true,true,true,null,5,"GS",85.475]
["2012-10-27","241086215","MADDALENA","CERONI YOB","F","CAO","AS","U14","SI","2",65.87,65.87,104.78,104.78,145.68,145.68,"RUT",true,true,true,65.87,5,"SL"]
["2010-01-17","232274360","SILKE","OPITZ SEIDL","F","CAO","AS","U16","SI","2",156.18,132.49,154.47,154.47,111.16,111.16,"RUT",true,true,true,null,6,"SG",null,111.16]
["2010-04-01","233243736","NINA","DUPUY ALLEN","F","CVN","AS","U16","SI","2",171.5,171.5,112.82,112.82,226.51,226.51,"RUT",true,true,true,null,6,"GS",112.82]
["2010-09-22","234304860","PATRICK","RABY IBAÑEZ","M","CLP","AS","U16","SI","2",128.79,128.79,116.93,116.93,116.76,116.76,"RUT",true,true,true,null,6,"SG",null,116.76]
["2012-10-02","238674840","ANTONIA","GARDILCIC SANTA CRUZ","F","CVN","AS","U14","SI","2",162.96,162.96,155.75,155.75,151.45,151.45,"RUT",true,true,true,null,6,"SG",null,151.45]
["2012-04-21","239350453","DOMINGO ARNAU","TORRES RETI","M","CAN","AS","U14","SI","2",189.54,152.005,126.9,126.9,117.78,117.78,"RUT",true,true,true,null,6,"SG",null,117.78]
["2012-05-30","239677304","JULIETA","FERNANDEZ VERGARA","F","CLP","AS","U14","SI","2",75.32,75.32,118.5,118.5,159.37,159.37,"RUT",true,true,true,75.32,6,"SL"]
["2012-11-26","241242684","TOBÍAS","GROB ANGERMEYER","M","CAN","AS","U14","SI","2",96.4,96.4,100.04,97.455,153.4,153.4,"RUT",true,true,true,96.4,6,"SL"]
["2010-01-03","23215800K","ANTONIA","ESTEVE SECO","F","CAR","AS","U16","SI","2",93.44,93.44,137.35,137.35,216.81,216.81,"RUT",true,true,true,93.44,7,"SL"]
["2010-11-05","234718827","MATEO","GROB CONCHA","M","CAO","AS","U16","SI","2",107.95,106.05,157.23,134.865,125.81,125.81,"RUT",true,true,true,null,7,"SG",null,125.81]
["2011-10-11","237684176","PATRICIO MATÍAS ","CONTESSE ORTIZ ","M","CAN","AS","U16","SI","1",116.52,116.52,112.45,112.45,134.06,134.06,"RUT",true,true,true,null,7,"GS",112.45]
["2012-05-22","23954326K","MAX ","MONREAL  ORMEÑO","M","CORR","AS","U14","SI","2",98.2,98.2,189.82,189.82,266.94,266.94,"RUT",true,true,true,98.2,7,"SL"]
["2012-11-21","241213900","DELFINA","ANGUITA AVILES","F","CAO","AS","U14","SI","2",109.36,99.375,204.87,130.05,161.56,161.56,"RUT",true,true,true,99.375,7,"SL"]
["2010-11-06","233465003","ELOISA","COSTA BERNALES","F","CVN","AS","U16","SI","2",215.91,185.36,121.55,121.55,146.5,146.5,"RUT",true,true,true,null,8,"GS",121.55]
["2010-08-24","234187651","FRANCISCO","VICUÑA CURTZE","M","CLP","AS","U16","SI","2",98.92,98.92,152.6,152.6,238.16,210.92,"RUT",true,true,true,98.92,8,"SL"]
["2010-09-16","234271490","MATILDE SOFIA","GARDA  TIMMERMANN","F","CEC","AS","U16","SI","2",144.74,144.74,226.4,164.135,134.39,134.39,"RUT",true,true,true,null,8,"SG",null,134.39]
["2012-04-01","239221904","NABIH","SEITUN FUENTES","M","LV","AS","U14","SI","2",103.82,103.82,188.02,188.02,348.11,348.11,"RUT",true,true,true,103.82,8,"SL"]
["2012-12-26","241484866","SARA","GALLEGUILLOS MIRANDA","F","CAPA","AS","U14","SI","2",999.99,100.015,237.53,159.22,205.92,201.975,"RUT",true,true,true,100.015,8,"SL"]
["2013-04-20","242512391","MATHIAS","LINNEBERG CARRETERO","M","CLP","AS","U14","SI","1",999.99,999.99,999.99,100.55,999.99,167.785,"RUT",true,true,true,null,8,"GS",100.55]
["2013-05-10","242935659","MARGARITA","ACUÑA BARROS","F","UC","AS","U14","SI","1",999.99,173.52,999.99,136.47,999.99,999.99,"RUT",true,true,true,null,8,"GS",136.47]
["2011-05-16","236440893","CLARA","DONOSO INFANTE","F","CAO","AS","U16","SI","1",117.08,116.59,134.47,134.47,157.23,157.23,"RUT",true,true,true,116.59,9,"SL"]
["2011-12-23","238289130","TIAGO ","CARTES ATALAH","M","CAN","AS","U16","SI","1",105.05,105.05,163.57,163.57,181.74,169.01,"RUT",true,true,true,105.05,9,"SL"]
["2012-07-18","240114283","BLANCA","PUIG GUTIERREZ","F","CAR","AS","U14","SI","2",101.22,101.22,137.28,137.28,230.03,230.03,"RUT",true,true,true,101.22,9,"SL"]
["2012-08-29","240505428","NICOLAS ","PEREZ CARDENAS","M","PAT","AS","U14","SI","2",163.31,163.31,206.18,206.18,151.39,151.39,"RUT",true,true,true,null,9,"SG",null,151.39]
["2013-01-17","241893359","JUAN","UNDURRAGA URIBE","M","CLP","AS","U14","SI","1",999.99,201.648,999.99,112.32,999.99,294.605,"RUT",true,true,true,null,9,"GS",112.32]
["2013-03-06","242213521","LUZ","CASTRO GONZALEZ","F","ARS","AS","U14","SI","1",999.99,225.108,999.99,165.535,999.99,172.975,"RUT",true,true,true,null,9,"SG",null,172.975]
["2011-05-16","236449246","MARTIN","ROMENY WAEGER","M","CAO","AS","U16","SI","1",170.62,170.62,125.1,125.1,161.83,161.83,"RUT",true,true,true,null,10,"GS",125.1]
["2012-06-12","239800572","IÑAKI","BASAURI  GARDILCIC","M","CORR","AS","U14","SI","2",110.68,110.68,181.78,181.78,223.15,223.15,"RUT",true,true,true,110.68,10,"SL"]
["2012-06-28","240018462","PILAR","CLARO IRARRAZAVAL","F","UC","AS","U14","SI","2",199.69,199.69,164.91,164.91,186.39,186.39,"RUT",true,true,true,null,10,"SG",null,186.39]
["2012-07-27","240208881","FRANCISCA","COSMELLI PIWONKA","F","UC","AS","U14","SI","2",141.3,111.99,204.22,204.22,196.3,196.3,"RUT",true,true,true,111.99,10,"SL"]
["2013-02-17","241972593","ALFONSO","DIAZ GHIRARDELLI","M","UC","AS","U14","SI","1",999.99,136.272,999.99,119.005,999.99,185.955,"RUT",true,true,true,null,10,"GS",119.005]
["2013-04-21","242507606","MARÍA IGNACIA","HADAD AGUIRRE","F","POR","AS","U14","SI","1",999.99,150.696,999.99,147.235,999.99,211.625,"RUT",true,true,true,null,10,"GS",147.235]
["2010-11-06","233480916","JUAN","GARDILCIC SANTA CRUZ","M","CVN","AS","U16","SI","2",211.51,211.51,136.88,136.88,151.31,151.31,"RUT",true,true,true,null,11,"SG",null,151.31]
["2011-02-06","235529300","ELBA","HUBER SOLIS","F","LV","AS","U16","SI","1",129.83,129.83,177.18,177.18,224.11,224.11,"RUT",true,true,true,129.83,11,"SL"]
["2012-12-04","239225624","JUAN","BRINKMANN UNDURRAGA","M","CVN","AS","U14","SI","2",126,126,156.35,140.545,272.25,162.07,"RUT",true,true,true,126,11,"SL"]
["2012-05-03","23954410K","EMA","MUYLLE ALLIENDE","F","UC","AS","U14","SI","2",999.99,140.095,160.13,151.28,245.64,230.78,"RUT",true,true,true,null,11,"GS",151.28]
["2012-05-30","239679838","OLGA","KUBICK LESSER","F","CLP","AS","U14","SI","2",155.09,155.09,158.13,158.13,210.97,186.755,"RUT",true,true,true,null,11,"SG",null,186.755]
["2012-08-06","240321343","EMA ANTONIA","GARDA TIMMERMANN","F","CEC","AS","U14","SI","2",123.4,123.4,302.92,302.92,226.84,226.84,"RUT",true,true,true,123.4,11,"SL"]
["2010-04-27","233074896","SANTIAGO","CAPO CORNEJO","M","UC","AS","U16","SI","2",198.26,198.26,216.79,216.79,155.84,155.84,"RUT",true,true,true,null,12,"SG",null,155.84]
["2011-09-14","237461665","LAURA","DEL CAMPO TRAUTMANN","F","CEC","AS","U16","SI","1",130.99,130.99,171.94,171.94,167.56,167.56,"RUT",true,true,true,130.99,12,"SL"]
["2011-11-16","237972236","AGUSTINA","BANNURA DECEBAL-CUZA","F","UC","AS","U16","SI","1",193.21,192.195,146.58,146.58,181.22,181.22,"RUT",true,true,true,null,12,"GS",146.58]
["2013-08-23","244063179","MATILDE","EULUFI BENAVIDES","F","ARS","AS","U14","SI","1",999.99,999.99,999.99,251.8,999.99,194.24,"RUT",true,true,true,null,12,"SG",null,194.24]
["2013-09-11","244073166","MATILDA AMALIA","TORRES RETI","F","CAN","AS","U14","SI","1",999.99,130.16,999.99,222.045,999.99,999.99,"RUT",true,true,true,130.16,12,"SL"]
[null,"23585550K","BORJA","LESSER DILL","M","CLP","AS","U16","SI","1",141.73,122.37,147.61,147.61,236.76,203.03,"RUT",true,true,true,{"$f":"L72","v":122.37},12,"SL"]

{"sheet":"Cupos y Derecho CNI","index":4,"n_rows":17,"n_cols":9,"rows_kept":17}
["Club","U14","U16","Total U14+U16","Cupos 30%","Derecho Propio","Rend","Org.","Cupos CNI U14/U16"]
["ARS",8,10,{"$f":"B2+C2","v":18},{"$f":"IF(ROUNDDOWN(D2*0.3,0)<8, 8, ROUNDDOWN(D2*0.3,0))","v":8},{"$f":"COUNTIF('Seleccionados DP'!F:F,'Cupos y Derecho CNI'!A2)","v":3},0,0,{"$f":"SUM(E2,F2,G2,H2)","v":11}]
["CAEC",0,1,{"$f":"B3+C3","v":1},1,{"$f":"COUNTIF('Seleccionados DP'!F:F,'Cupos y Derecho CNI'!A3)","v":0},0,0,1]
["CAN",21,13,34,{"$f":"IF(ROUNDDOWN(D4*0.3,0)<8, 8, ROUNDDOWN(D4*0.3,0))","v":10},{"$f":"COUNTIF('Seleccionados DP'!F:F,'Cupos y Derecho CNI'!A4)","v":10},1,1,22]
["CAO",12,15,27,8,{"$f":"COUNTIF('Seleccionados DP'!F:F,'Cupos y Derecho CNI'!A5)","v":8},0,0,16]
["CAPA",9,2,11,8,{"$f":"COUNTIF('Seleccionados DP'!F:F,'Cupos y Derecho CNI'!A6)","v":2},0,0,10]
["CAR",3,3,6,6,{"$f":"COUNTIF('Seleccionados DP'!F:F,'Cupos y Derecho CNI'!A7)","v":3},0,0,9]
["CEC",10,9,19,8,{"$f":"COUNTIF('Seleccionados DP'!F:F,'Cupos y Derecho CNI'!A8)","v":4},0,0,12]
["CLP",21,18,39,11,{"$f":"COUNTIF('Seleccionados DP'!F:F,'Cupos y Derecho CNI'!A9)","v":14},3,1,29]
["CORR",10,5,15,8,{"$f":"COUNTIF('Seleccionados DP'!F:F,'Cupos y Derecho CNI'!A10)","v":3},0,0,11]
["CSC",5,2,7,7,{"$f":"COUNTIF('Seleccionados DP'!F:F,'Cupos y Derecho CNI'!A11)","v":0},0,0,7]
["CVN",12,13,25,8,{"$f":"COUNTIF('Seleccionados DP'!F:F,'Cupos y Derecho CNI'!A12)","v":7},0,0,15]
["LV",9,2,11,8,{"$f":"COUNTIF('Seleccionados DP'!F:F,'Cupos y Derecho CNI'!A13)","v":2},0,0,10]
["PAT",3,2,5,5,{"$f":"COUNTIF('Seleccionados DP'!F:F,'Cupos y Derecho CNI'!A14)","v":1},0,0,6]
["POR",8,2,10,8,{"$f":"COUNTIF('Seleccionados DP'!F:F,'Cupos y Derecho CNI'!A15)","v":1},1,0,10]
["UC",25,16,41,12,{"$f":"COUNTIF('Seleccionados DP'!F:F,'Cupos y Derecho CNI'!A16)","v":13},2,1,28]
["TOTAL GENERAL",{"$f":"SUM(B2:B16)","v":156},113,269,116,71,7,3,197]